| Back to Multiple platform build/check report for BioC 3.14 |
|
This page was generated on 2022-04-13 12:07:16 -0400 (Wed, 13 Apr 2022).
| Hostname | OS | Arch (*) | R version | Installed pkgs |
|---|---|---|---|---|
| nebbiolo2 | Linux (Ubuntu 20.04.4 LTS) | x86_64 | 4.1.3 (2022-03-10) -- "One Push-Up" | 4324 |
| tokay2 | Windows Server 2012 R2 Standard | x64 | 4.1.3 (2022-03-10) -- "One Push-Up" | 4077 |
| machv2 | macOS 10.14.6 Mojave | x86_64 | 4.1.3 (2022-03-10) -- "One Push-Up" | 4137 |
| Click on any hostname to see more info about the system (e.g. compilers) (*) as reported by 'uname -p', except on Windows and Mac OS X | ||||
|
To the developers/maintainers of the RTCGAToolbox package: - Please allow up to 24 hours (and sometimes 48 hours) for your latest push to git@git.bioconductor.org:packages/RTCGAToolbox.git to reflect on this report. See How and When does the builder pull? When will my changes propagate? for more information. - Make sure to use the following settings in order to reproduce any error or warning you see on this page. |
| Package 1669/2083 | Hostname | OS / Arch | INSTALL | BUILD | CHECK | BUILD BIN | ||||||||
| RTCGAToolbox 2.24.0 (landing page) Marcel Ramos
| nebbiolo2 | Linux (Ubuntu 20.04.4 LTS) / x86_64 | OK | OK | OK | |||||||||
| tokay2 | Windows Server 2012 R2 Standard / x64 | OK | OK | OK | OK | |||||||||
| machv2 | macOS 10.14.6 Mojave / x86_64 | OK | OK | OK | OK | |||||||||
| Package: RTCGAToolbox |
| Version: 2.24.0 |
| Command: C:\cygwin\bin\curl.exe -O http://155.52.207.166/BBS/3.14/bioc/src/contrib/RTCGAToolbox_2.24.0.tar.gz && rm -rf RTCGAToolbox.buildbin-libdir && mkdir RTCGAToolbox.buildbin-libdir && C:\Users\biocbuild\bbs-3.14-bioc\R\bin\R.exe CMD INSTALL --merge-multiarch --build --library=RTCGAToolbox.buildbin-libdir RTCGAToolbox_2.24.0.tar.gz && C:\Users\biocbuild\bbs-3.14-bioc\R\bin\R.exe CMD INSTALL RTCGAToolbox_2.24.0.zip && rm RTCGAToolbox_2.24.0.tar.gz RTCGAToolbox_2.24.0.zip |
| StartedAt: 2022-04-12 06:47:56 -0400 (Tue, 12 Apr 2022) |
| EndedAt: 2022-04-12 06:49:13 -0400 (Tue, 12 Apr 2022) |
| EllapsedTime: 76.7 seconds |
| RetCode: 0 |
| Status: OK |
##############################################################################
##############################################################################
###
### Running command:
###
### C:\cygwin\bin\curl.exe -O http://155.52.207.166/BBS/3.14/bioc/src/contrib/RTCGAToolbox_2.24.0.tar.gz && rm -rf RTCGAToolbox.buildbin-libdir && mkdir RTCGAToolbox.buildbin-libdir && C:\Users\biocbuild\bbs-3.14-bioc\R\bin\R.exe CMD INSTALL --merge-multiarch --build --library=RTCGAToolbox.buildbin-libdir RTCGAToolbox_2.24.0.tar.gz && C:\Users\biocbuild\bbs-3.14-bioc\R\bin\R.exe CMD INSTALL RTCGAToolbox_2.24.0.zip && rm RTCGAToolbox_2.24.0.tar.gz RTCGAToolbox_2.24.0.zip
###
##############################################################################
##############################################################################
% Total % Received % Xferd Average Speed Time Time Time Current
Dload Upload Total Spent Left Speed
0 0 0 0 0 0 0 0 --:--:-- --:--:-- --:--:-- 0
30 2175k 30 666k 0 0 1172k 0 0:00:01 --:--:-- 0:00:01 1172k
100 2175k 100 2175k 0 0 1707k 0 0:00:01 0:00:01 --:--:-- 1708k
install for i386
* installing *source* package 'RTCGAToolbox' ...
** using staged installation
** R
** data
*** moving datasets to lazyload DB
** inst
** byte-compile and prepare package for lazy loading
** help
*** installing help indices
converting help for package 'RTCGAToolbox'
finding HTML links ... done
CorResult-class html
DGEResult-class html
FirehoseCGHArray-class html
FirehoseData-class html
FirehoseGISTIC-class html
FirehoseMethylationArray-class html
FirehosemRNAArray-class html
RTCGAToolbox html
accmini html
biocExtract html
finding level-2 HTML links ... done
getBroadSubtypes html
getCNGECorrelation html
getData html
getDiffExpressedGenes html
getFirehoseAnalyzeDates html
getFirehoseData html
getFirehoseDatasets html
getFirehoseRunningDates html
getGISTICPeaks html
getLinks html
getMutationRate html
getReport html
getSurvival html
hg19.ucsc.gene.locations html
makeSummarizedExperimentFromGISTIC html
selectType html
showResults-CorResult html
showResults-DGEResult html
showResults html
** building package indices
** installing vignettes
** testing if installed package can be loaded from temporary location
** testing if installed package can be loaded from final location
** testing if installed package keeps a record of temporary installation path
install for x64
* installing *source* package 'RTCGAToolbox' ...
** testing if installed package can be loaded
* MD5 sums
packaged installation of 'RTCGAToolbox' as RTCGAToolbox_2.24.0.zip
* DONE (RTCGAToolbox)
* installing to library 'C:/Users/biocbuild/bbs-3.14-bioc/R/library'
package 'RTCGAToolbox' successfully unpacked and MD5 sums checked