| Back to Multiple platform build/check report for BioC 3.14 | 
 | 
This page was generated on 2022-04-13 12:07:15 -0400 (Wed, 13 Apr 2022).
| Hostname | OS | Arch (*) | R version | Installed pkgs | 
|---|---|---|---|---|
| nebbiolo2 | Linux (Ubuntu 20.04.4 LTS) | x86_64 | 4.1.3 (2022-03-10) -- "One Push-Up" | 4324 | 
| tokay2 | Windows Server 2012 R2 Standard | x64 | 4.1.3 (2022-03-10) -- "One Push-Up" | 4077 | 
| machv2 | macOS 10.14.6 Mojave | x86_64 | 4.1.3 (2022-03-10) -- "One Push-Up" | 4137 | 
| Click on any hostname to see more info about the system (e.g. compilers) (*) as reported by 'uname -p', except on Windows and Mac OS X | ||||
| To the developers/maintainers of the ROntoTools package: - Please allow up to 24 hours (and sometimes 48 hours) for your latest push to git@git.bioconductor.org:packages/ROntoTools.git to reflect on this report. See How and When does the builder pull? When will my changes propagate? for more information. - Make sure to use the following settings in order to reproduce any error or warning you see on this page. | 
| Package 1645/2083 | Hostname | OS / Arch | INSTALL | BUILD | CHECK | BUILD BIN | ||||||||
| ROntoTools 2.22.0  (landing page) Calin Voichita 
 | nebbiolo2 | Linux (Ubuntu 20.04.4 LTS) / x86_64 | OK | OK | OK |  | ||||||||
| tokay2 | Windows Server 2012 R2 Standard / x64 | OK | OK | OK | OK |  | ||||||||
| machv2 | macOS 10.14.6 Mojave / x86_64 | OK | OK | OK | OK |  | ||||||||
| Package: ROntoTools | 
| Version: 2.22.0 | 
| Command: C:\cygwin\bin\curl.exe -O http://155.52.207.166/BBS/3.14/bioc/src/contrib/ROntoTools_2.22.0.tar.gz && rm -rf ROntoTools.buildbin-libdir && mkdir ROntoTools.buildbin-libdir && C:\Users\biocbuild\bbs-3.14-bioc\R\bin\R.exe CMD INSTALL --merge-multiarch --build --library=ROntoTools.buildbin-libdir ROntoTools_2.22.0.tar.gz && C:\Users\biocbuild\bbs-3.14-bioc\R\bin\R.exe CMD INSTALL ROntoTools_2.22.0.zip && rm ROntoTools_2.22.0.tar.gz ROntoTools_2.22.0.zip | 
| StartedAt: 2022-04-12 04:55:08 -0400 (Tue, 12 Apr 2022) | 
| EndedAt: 2022-04-12 04:56:54 -0400 (Tue, 12 Apr 2022) | 
| EllapsedTime: 106.1 seconds | 
| RetCode: 0 | 
| Status: OK | 
##############################################################################
##############################################################################
###
### Running command:
###
###   C:\cygwin\bin\curl.exe -O http://155.52.207.166/BBS/3.14/bioc/src/contrib/ROntoTools_2.22.0.tar.gz && rm -rf ROntoTools.buildbin-libdir && mkdir ROntoTools.buildbin-libdir && C:\Users\biocbuild\bbs-3.14-bioc\R\bin\R.exe CMD INSTALL --merge-multiarch --build --library=ROntoTools.buildbin-libdir ROntoTools_2.22.0.tar.gz && C:\Users\biocbuild\bbs-3.14-bioc\R\bin\R.exe CMD INSTALL ROntoTools_2.22.0.zip && rm ROntoTools_2.22.0.tar.gz ROntoTools_2.22.0.zip
###
##############################################################################
##############################################################################
  % Total    % Received % Xferd  Average Speed   Time    Time     Time  Current
                                 Dload  Upload   Total   Spent    Left  Speed
  0     0    0     0    0     0      0      0 --:--:-- --:--:-- --:--:--     0
 32 1147k   32  374k    0     0   520k      0  0:00:02 --:--:--  0:00:02  520k
100 1147k  100 1147k    0     0   849k      0  0:00:01  0:00:01 --:--:--  849k
install for i386
* installing *source* package 'ROntoTools' ...
** using staged installation
** R
** inst
** byte-compile and prepare package for lazy loading
** help
*** installing help indices
  converting help for package 'ROntoTools'
    finding HTML links ... done
    KEGGpathway2Graph                       html  
    Summary-pDisRes-method                  html  
    Summary-peRes-method                    html  
    alpha1MR                                html  
    alphaMLG                                html  
    compute.fisher                          html  
    compute.normalInv                       html  
    keggPathwayGraphs                       html  
    finding level-2 HTML links ... done
    keggPathwayNames                        html  
    nodeWeights                             html  
    pDis                                    html  
    pDisPathway-class                       html  
    pDisRes-class                           html  
    pe                                      html  
    peEdgeRenderInfo                        html  
    peNodeRenderInfo                        html  
    pePathway-class                         html  
    peRes-class                             html  
    plot.pePathway-methods                  html  
    plot.peRes-methods                      html  
    setEdgeWeights                          html  
    setNodeWeights                          html  
    subGraphByNodeType                      html  
    summary.pDisRes                         html  
    summary.peRes                           html  
** building package indices
** installing vignettes
** testing if installed package can be loaded from temporary location
** testing if installed package can be loaded from final location
** testing if installed package keeps a record of temporary installation path
install for x64
* installing *source* package 'ROntoTools' ...
** testing if installed package can be loaded
* MD5 sums
packaged installation of 'ROntoTools' as ROntoTools_2.22.0.zip
* DONE (ROntoTools)
* installing to library 'C:/Users/biocbuild/bbs-3.14-bioc/R/library'
package 'ROntoTools' successfully unpacked and MD5 sums checked