| Back to Multiple platform build/check report for BioC 3.14 | 
 | 
This page was generated on 2022-04-13 12:07:14 -0400 (Wed, 13 Apr 2022).
| Hostname | OS | Arch (*) | R version | Installed pkgs | 
|---|---|---|---|---|
| nebbiolo2 | Linux (Ubuntu 20.04.4 LTS) | x86_64 | 4.1.3 (2022-03-10) -- "One Push-Up" | 4324 | 
| tokay2 | Windows Server 2012 R2 Standard | x64 | 4.1.3 (2022-03-10) -- "One Push-Up" | 4077 | 
| machv2 | macOS 10.14.6 Mojave | x86_64 | 4.1.3 (2022-03-10) -- "One Push-Up" | 4137 | 
| Click on any hostname to see more info about the system (e.g. compilers) (*) as reported by 'uname -p', except on Windows and Mac OS X | ||||
| To the developers/maintainers of the RNAmodR package: - Please allow up to 24 hours (and sometimes 48 hours) for your latest push to git@git.bioconductor.org:packages/RNAmodR.git to reflect on this report. See How and When does the builder pull? When will my changes propagate? for more information. - Make sure to use the following settings in order to reproduce any error or warning you see on this page. | 
| Package 1630/2083 | Hostname | OS / Arch | INSTALL | BUILD | CHECK | BUILD BIN | ||||||||
| RNAmodR 1.8.0  (landing page) Felix G.M. Ernst 
 | nebbiolo2 | Linux (Ubuntu 20.04.4 LTS) / x86_64 | OK | OK | OK |  | ||||||||
| tokay2 | Windows Server 2012 R2 Standard / x64 | OK | OK | OK | OK |  | ||||||||
| machv2 | macOS 10.14.6 Mojave / x86_64 | OK | OK | OK | OK |  | ||||||||
| Package: RNAmodR | 
| Version: 1.8.0 | 
| Command: C:\Users\biocbuild\bbs-3.14-bioc\R\bin\R.exe CMD check --force-multiarch --install=check:RNAmodR.install-out.txt --library=C:\Users\biocbuild\bbs-3.14-bioc\R\library --no-vignettes --timings RNAmodR_1.8.0.tar.gz | 
| StartedAt: 2022-04-13 01:51:17 -0400 (Wed, 13 Apr 2022) | 
| EndedAt: 2022-04-13 02:08:44 -0400 (Wed, 13 Apr 2022) | 
| EllapsedTime: 1046.6 seconds | 
| RetCode: 0 | 
| Status: OK | 
| CheckDir: RNAmodR.Rcheck | 
| Warnings: 0 | 
##############################################################################
##############################################################################
###
### Running command:
###
###   C:\Users\biocbuild\bbs-3.14-bioc\R\bin\R.exe CMD check --force-multiarch --install=check:RNAmodR.install-out.txt --library=C:\Users\biocbuild\bbs-3.14-bioc\R\library --no-vignettes --timings RNAmodR_1.8.0.tar.gz
###
##############################################################################
##############################################################################
* using log directory 'C:/Users/biocbuild/bbs-3.14-bioc/meat/RNAmodR.Rcheck'
* using R version 4.1.3 (2022-03-10)
* using platform: x86_64-w64-mingw32 (64-bit)
* using session charset: ISO8859-1
* using option '--no-vignettes'
* checking for file 'RNAmodR/DESCRIPTION' ... OK
* checking extension type ... Package
* this is package 'RNAmodR' version '1.8.0'
* package encoding: UTF-8
* checking package namespace information ... OK
* checking package dependencies ... OK
* checking if this is a source package ... OK
* checking if there is a namespace ... OK
* checking for hidden files and directories ... OK
* checking for portable file names ... OK
* checking whether package 'RNAmodR' can be installed ... OK
* checking installed package size ... OK
* checking package directory ... OK
* checking 'build' directory ... OK
* checking DESCRIPTION meta-information ... OK
* checking top-level files ... OK
* checking for left-over files ... OK
* checking index information ... OK
* checking package subdirectories ... OK
* checking R files for non-ASCII characters ... OK
* checking R files for syntax errors ... OK
* loading checks for arch 'i386'
** checking whether the package can be loaded ... OK
** checking whether the package can be loaded with stated dependencies ... OK
** checking whether the package can be unloaded cleanly ... OK
** checking whether the namespace can be loaded with stated dependencies ... OK
** checking whether the namespace can be unloaded cleanly ... OK
* loading checks for arch 'x64'
** checking whether the package can be loaded ... OK
** checking whether the package can be loaded with stated dependencies ... OK
** checking whether the package can be unloaded cleanly ... OK
** checking whether the namespace can be loaded with stated dependencies ... OK
** checking whether the namespace can be unloaded cleanly ... OK
* checking dependencies in R code ... NOTE
Unexported objects imported by ':::' calls:
  'BiocGenerics:::replaceSlots' 'Biostrings:::XString'
  'IRanges:::.valid.CompressedList' 'IRanges:::coerceToCompressedList'
  'S4Vectors:::.valid.DataFrame' 'S4Vectors:::labeledLine'
  'S4Vectors:::make_zero_col_DataFrame'
  'S4Vectors:::prepare_objects_to_bind'
  See the note in ?`:::` about the use of this operator.
There are ::: calls to the package's namespace in its code. A package
  almost never needs to use ::: for its own objects:
  '.get_inosine_score'
* checking S3 generic/method consistency ... OK
* checking replacement functions ... OK
* checking foreign function calls ... OK
* checking R code for possible problems ... OK
* checking Rd files ... OK
* checking Rd metadata ... OK
* checking Rd cross-references ... OK
* checking for missing documentation entries ... OK
* checking for code/documentation mismatches ... OK
* checking Rd \usage sections ... OK
* checking Rd contents ... OK
* checking for unstated dependencies in examples ... OK
* checking contents of 'data' directory ... OK
* checking data for non-ASCII characters ... OK
* checking data for ASCII and uncompressed saves ... OK
* checking files in 'vignettes' ... OK
* checking examples ...
** running examples for arch 'i386' ... OK
Examples with CPU (user + system) or elapsed time > 5s
                                user system elapsed
stats                          49.14   1.54  112.89
CoverageSequenceData-class     20.42   2.80   25.17
ModInosine                     14.32   0.38   15.54
PileupSequenceData-class       13.33   0.35   15.05
EndSequenceData-class          13.06   0.36   14.47
ProtectedEndSequenceData-class 12.45   0.40   13.81
** running examples for arch 'x64' ... OK
Examples with CPU (user + system) or elapsed time > 5s
                                user system elapsed
stats                          48.97   1.86  106.83
CoverageSequenceData-class     23.59   1.75   27.20
ModInosine                     15.87   0.50   17.25
PileupSequenceData-class       13.81   0.39   15.28
EndSequenceData-class          13.22   0.31   14.60
ProtectedEndSequenceData-class 12.98   0.45   14.36
* checking for unstated dependencies in 'tests' ... OK
* checking tests ...
** running tests for arch 'i386' ...
  Running 'testthat.R'
 OK
** running tests for arch 'x64' ...
  Running 'testthat.R'
 OK
* checking for unstated dependencies in vignettes ... OK
* checking package vignettes in 'inst/doc' ... OK
* checking running R code from vignettes ... SKIPPED
* checking re-building of vignette outputs ... SKIPPED
* checking PDF version of manual ... OK
* DONE
Status: 1 NOTE
See
  'C:/Users/biocbuild/bbs-3.14-bioc/meat/RNAmodR.Rcheck/00check.log'
for details.
RNAmodR.Rcheck/00install.out
##############################################################################
##############################################################################
###
### Running command:
###
###   C:\cygwin\bin\curl.exe -O http://155.52.207.166/BBS/3.14/bioc/src/contrib/RNAmodR_1.8.0.tar.gz && rm -rf RNAmodR.buildbin-libdir && mkdir RNAmodR.buildbin-libdir && C:\Users\biocbuild\bbs-3.14-bioc\R\bin\R.exe CMD INSTALL --merge-multiarch --build --library=RNAmodR.buildbin-libdir RNAmodR_1.8.0.tar.gz && C:\Users\biocbuild\bbs-3.14-bioc\R\bin\R.exe CMD INSTALL RNAmodR_1.8.0.zip && rm RNAmodR_1.8.0.tar.gz RNAmodR_1.8.0.zip
###
##############################################################################
##############################################################################
  % Total    % Received % Xferd  Average Speed   Time    Time     Time  Current
                                 Dload  Upload   Total   Spent    Left  Speed
  0     0    0     0    0     0      0      0 --:--:-- --:--:-- --:--:--     0
100  544k  100  544k    0     0  1174k      0 --:--:-- --:--:-- --:--:-- 1178k
install for i386
* installing *source* package 'RNAmodR' ...
** using staged installation
** R
** data
** inst
** byte-compile and prepare package for lazy loading
** help
*** installing help indices
  converting help for package 'RNAmodR'
    finding HTML links ... done
    CoverageSequenceData-class              html  
    EndSequenceData-class                   html  
    ModInosine-functions                    html  
    ModInosine-internals                    html  
    ModInosine                              html  
    Modifier-class                          html  
    Modifier-functions                      html  
    ModifierSet-class                       html  
    NormEndSequenceData-class               html  
    PileupSequenceData-class                html  
    ProtectedEndSequenceData-class          html  
    RNAmodR-datasets                        html  
    RNAmodR-development                     html  
    RNAmodR-internals                       html  
    RNAmodR                                 html  
    SequenceData-class                      html  
REDIRECT:topic	 Previous alias or file overwritten by alias: C:/Users/biocbuild/bbs-3.14-bioc/meat/RNAmodR.buildbin-libdir/00LOCK-RNAmodR/00new/RNAmodR/help/SequenceData.html
    SequenceData-functions                  html  
    SequenceDataFrame-class                 html  
    SequenceDataList-class                  html  
    SequenceDataSet-class                   html  
    SequenceModDNAStringSetTrack-class      html  
    SequenceModRNAStringSetTrack-class      html  
    aggregate                               html  
    compareByCoord                          html  
    modify                                  html  
    plotData                                html  
    plotROC                                 html  
    settings                                html  
    stats                                   html  
    subsetByCoord                           html  
** building package indices
** installing vignettes
** testing if installed package can be loaded from temporary location
** testing if installed package can be loaded from final location
** testing if installed package keeps a record of temporary installation path
install for x64
* installing *source* package 'RNAmodR' ...
** testing if installed package can be loaded
* MD5 sums
packaged installation of 'RNAmodR' as RNAmodR_1.8.0.zip
* DONE (RNAmodR)
* installing to library 'C:/Users/biocbuild/bbs-3.14-bioc/R/library'
package 'RNAmodR' successfully unpacked and MD5 sums checked
| RNAmodR.Rcheck/tests_i386/testthat.Rout 
R version 4.1.3 (2022-03-10) -- "One Push-Up"
Copyright (C) 2022 The R Foundation for Statistical Computing
Platform: i386-w64-mingw32/i386 (32-bit)
R is free software and comes with ABSOLUTELY NO WARRANTY.
You are welcome to redistribute it under certain conditions.
Type 'license()' or 'licence()' for distribution details.
R is a collaborative project with many contributors.
Type 'contributors()' for more information and
'citation()' on how to cite R or R packages in publications.
Type 'demo()' for some demos, 'help()' for on-line help, or
'help.start()' for an HTML browser interface to help.
Type 'q()' to quit R.
> library(testthat)
> library(RNAmodR)
Loading required package: S4Vectors
Loading required package: stats4
Loading required package: BiocGenerics
Attaching package: 'BiocGenerics'
The following objects are masked from 'package:stats':
    IQR, mad, sd, var, xtabs
The following objects are masked from 'package:base':
    Filter, Find, Map, Position, Reduce, anyDuplicated, append,
    as.data.frame, basename, cbind, colnames, dirname, do.call,
    duplicated, eval, evalq, get, grep, grepl, intersect, is.unsorted,
    lapply, mapply, match, mget, order, paste, pmax, pmax.int, pmin,
    pmin.int, rank, rbind, rownames, sapply, setdiff, sort, table,
    tapply, union, unique, unsplit, which.max, which.min
Attaching package: 'S4Vectors'
The following objects are masked from 'package:base':
    I, expand.grid, unname
Loading required package: IRanges
Attaching package: 'IRanges'
The following object is masked from 'package:grDevices':
    windows
Loading required package: GenomicRanges
Loading required package: GenomeInfoDb
Loading required package: Modstrings
Loading required package: Biostrings
Loading required package: XVector
Attaching package: 'Biostrings'
The following object is masked from 'package:base':
    strsplit
Attaching package: 'RNAmodR'
The following object is masked from 'package:testthat':
    compare
> 
> test_check("RNAmodR")
[ FAIL 0 | WARN 1 | SKIP 9 | PASS 192 ]
== Skipped tests ===============================================================
* On Bioconductor (9)
[ FAIL 0 | WARN 1 | SKIP 9 | PASS 192 ]
> 
> proc.time()
   user  system elapsed 
  52.71    5.56   60.09 
 | RNAmodR.Rcheck/tests_x64/testthat.Rout 
R version 4.1.3 (2022-03-10) -- "One Push-Up"
Copyright (C) 2022 The R Foundation for Statistical Computing
Platform: x86_64-w64-mingw32/x64 (64-bit)
R is free software and comes with ABSOLUTELY NO WARRANTY.
You are welcome to redistribute it under certain conditions.
Type 'license()' or 'licence()' for distribution details.
R is a collaborative project with many contributors.
Type 'contributors()' for more information and
'citation()' on how to cite R or R packages in publications.
Type 'demo()' for some demos, 'help()' for on-line help, or
'help.start()' for an HTML browser interface to help.
Type 'q()' to quit R.
> library(testthat)
> library(RNAmodR)
Loading required package: S4Vectors
Loading required package: stats4
Loading required package: BiocGenerics
Attaching package: 'BiocGenerics'
The following objects are masked from 'package:stats':
    IQR, mad, sd, var, xtabs
The following objects are masked from 'package:base':
    Filter, Find, Map, Position, Reduce, anyDuplicated, append,
    as.data.frame, basename, cbind, colnames, dirname, do.call,
    duplicated, eval, evalq, get, grep, grepl, intersect, is.unsorted,
    lapply, mapply, match, mget, order, paste, pmax, pmax.int, pmin,
    pmin.int, rank, rbind, rownames, sapply, setdiff, sort, table,
    tapply, union, unique, unsplit, which.max, which.min
Attaching package: 'S4Vectors'
The following objects are masked from 'package:base':
    I, expand.grid, unname
Loading required package: IRanges
Attaching package: 'IRanges'
The following object is masked from 'package:grDevices':
    windows
Loading required package: GenomicRanges
Loading required package: GenomeInfoDb
Loading required package: Modstrings
Loading required package: Biostrings
Loading required package: XVector
Attaching package: 'Biostrings'
The following object is masked from 'package:base':
    strsplit
Attaching package: 'RNAmodR'
The following object is masked from 'package:testthat':
    compare
> 
> test_check("RNAmodR")
[ FAIL 0 | WARN 1 | SKIP 9 | PASS 192 ]
== Skipped tests ===============================================================
* On Bioconductor (9)
[ FAIL 0 | WARN 1 | SKIP 9 | PASS 192 ]
> 
> proc.time()
   user  system elapsed 
  57.07    3.43   68.89 
 | 
| RNAmodR.Rcheck/examples_i386/RNAmodR-Ex.timings 
 | RNAmodR.Rcheck/examples_x64/RNAmodR-Ex.timings 
 |