| Back to Multiple platform build/check report for BioC 3.14 |
|
This page was generated on 2022-04-13 12:07:14 -0400 (Wed, 13 Apr 2022).
| Hostname | OS | Arch (*) | R version | Installed pkgs |
|---|---|---|---|---|
| nebbiolo2 | Linux (Ubuntu 20.04.4 LTS) | x86_64 | 4.1.3 (2022-03-10) -- "One Push-Up" | 4324 |
| tokay2 | Windows Server 2012 R2 Standard | x64 | 4.1.3 (2022-03-10) -- "One Push-Up" | 4077 |
| machv2 | macOS 10.14.6 Mojave | x86_64 | 4.1.3 (2022-03-10) -- "One Push-Up" | 4137 |
| Click on any hostname to see more info about the system (e.g. compilers) (*) as reported by 'uname -p', except on Windows and Mac OS X | ||||
|
To the developers/maintainers of the RNAmodR.ML package: - Please allow up to 24 hours (and sometimes 48 hours) for your latest push to git@git.bioconductor.org:packages/RNAmodR.ML.git to reflect on this report. See How and When does the builder pull? When will my changes propagate? for more information. - Make sure to use the following settings in order to reproduce any error or warning you see on this page. |
| Package 1632/2083 | Hostname | OS / Arch | INSTALL | BUILD | CHECK | BUILD BIN | ||||||||
| RNAmodR.ML 1.8.0 (landing page) Felix G.M. Ernst
| nebbiolo2 | Linux (Ubuntu 20.04.4 LTS) / x86_64 | OK | OK | OK | |||||||||
| tokay2 | Windows Server 2012 R2 Standard / x64 | OK | OK | OK | OK | |||||||||
| machv2 | macOS 10.14.6 Mojave / x86_64 | OK | OK | OK | OK | |||||||||
| Package: RNAmodR.ML |
| Version: 1.8.0 |
| Command: C:\cygwin\bin\curl.exe -O http://155.52.207.166/BBS/3.14/bioc/src/contrib/RNAmodR.ML_1.8.0.tar.gz && rm -rf RNAmodR.ML.buildbin-libdir && mkdir RNAmodR.ML.buildbin-libdir && C:\Users\biocbuild\bbs-3.14-bioc\R\bin\R.exe CMD INSTALL --merge-multiarch --build --library=RNAmodR.ML.buildbin-libdir RNAmodR.ML_1.8.0.tar.gz && C:\Users\biocbuild\bbs-3.14-bioc\R\bin\R.exe CMD INSTALL RNAmodR.ML_1.8.0.zip && rm RNAmodR.ML_1.8.0.tar.gz RNAmodR.ML_1.8.0.zip |
| StartedAt: 2022-04-12 07:25:32 -0400 (Tue, 12 Apr 2022) |
| EndedAt: 2022-04-12 07:27:16 -0400 (Tue, 12 Apr 2022) |
| EllapsedTime: 104.4 seconds |
| RetCode: 0 |
| Status: OK |
##############################################################################
##############################################################################
###
### Running command:
###
### C:\cygwin\bin\curl.exe -O http://155.52.207.166/BBS/3.14/bioc/src/contrib/RNAmodR.ML_1.8.0.tar.gz && rm -rf RNAmodR.ML.buildbin-libdir && mkdir RNAmodR.ML.buildbin-libdir && C:\Users\biocbuild\bbs-3.14-bioc\R\bin\R.exe CMD INSTALL --merge-multiarch --build --library=RNAmodR.ML.buildbin-libdir RNAmodR.ML_1.8.0.tar.gz && C:\Users\biocbuild\bbs-3.14-bioc\R\bin\R.exe CMD INSTALL RNAmodR.ML_1.8.0.zip && rm RNAmodR.ML_1.8.0.tar.gz RNAmodR.ML_1.8.0.zip
###
##############################################################################
##############################################################################
% Total % Received % Xferd Average Speed Time Time Time Current
Dload Upload Total Spent Left Speed
0 0 0 0 0 0 0 0 --:--:-- --:--:-- --:--:-- 0
74 816k 74 610k 0 0 778k 0 0:00:01 --:--:-- 0:00:01 778k
100 816k 100 816k 0 0 874k 0 --:--:-- --:--:-- --:--:-- 874k
install for i386
* installing *source* package 'RNAmodR.ML' ...
** using staged installation
** R
** data
** inst
** byte-compile and prepare package for lazy loading
** help
*** installing help indices
converting help for package 'RNAmodR.ML'
finding HTML links ... done
ModifierML-class html
ModifierMLModel-class html
ModifierMLkeras-class html
ModifierMLranger-class html
RNAmodR.ML-datasets html
RNAmodR.ML-example html
RNAmodR.ML html
trainingData html
** building package indices
** installing vignettes
** testing if installed package can be loaded from temporary location
** testing if installed package can be loaded from final location
** testing if installed package keeps a record of temporary installation path
install for x64
* installing *source* package 'RNAmodR.ML' ...
** testing if installed package can be loaded
* MD5 sums
packaged installation of 'RNAmodR.ML' as RNAmodR.ML_1.8.0.zip
* DONE (RNAmodR.ML)
* installing to library 'C:/Users/biocbuild/bbs-3.14-bioc/R/library'
package 'RNAmodR.ML' successfully unpacked and MD5 sums checked