| Back to Multiple platform build/check report for BioC 3.14 |
|
This page was generated on 2022-04-13 12:07:09 -0400 (Wed, 13 Apr 2022).
| Hostname | OS | Arch (*) | R version | Installed pkgs |
|---|---|---|---|---|
| nebbiolo2 | Linux (Ubuntu 20.04.4 LTS) | x86_64 | 4.1.3 (2022-03-10) -- "One Push-Up" | 4324 |
| tokay2 | Windows Server 2012 R2 Standard | x64 | 4.1.3 (2022-03-10) -- "One Push-Up" | 4077 |
| machv2 | macOS 10.14.6 Mojave | x86_64 | 4.1.3 (2022-03-10) -- "One Push-Up" | 4137 |
| Click on any hostname to see more info about the system (e.g. compilers) (*) as reported by 'uname -p', except on Windows and Mac OS X | ||||
|
To the developers/maintainers of the QSutils package: - Please allow up to 24 hours (and sometimes 48 hours) for your latest push to git@git.bioconductor.org:packages/QSutils.git to reflect on this report. See How and When does the builder pull? When will my changes propagate? for more information. - Make sure to use the following settings in order to reproduce any error or warning you see on this page. |
| Package 1504/2083 | Hostname | OS / Arch | INSTALL | BUILD | CHECK | BUILD BIN | ||||||||
| QSutils 1.12.0 (landing page) Mercedes Guerrero-Murillo
| nebbiolo2 | Linux (Ubuntu 20.04.4 LTS) / x86_64 | OK | OK | OK | |||||||||
| tokay2 | Windows Server 2012 R2 Standard / x64 | OK | OK | OK | OK | |||||||||
| machv2 | macOS 10.14.6 Mojave / x86_64 | OK | OK | OK | OK | |||||||||
| Package: QSutils |
| Version: 1.12.0 |
| Command: rm -rf QSutils.buildbin-libdir && mkdir QSutils.buildbin-libdir && C:\Users\biocbuild\bbs-3.14-bioc\R\bin\R.exe CMD INSTALL --merge-multiarch --build --library=QSutils.buildbin-libdir QSutils_1.12.0.tar.gz |
| StartedAt: 2022-04-13 06:53:35 -0400 (Wed, 13 Apr 2022) |
| EndedAt: 2022-04-13 06:53:58 -0400 (Wed, 13 Apr 2022) |
| EllapsedTime: 23.4 seconds |
| RetCode: 0 |
| Status: OK |
| PackageFile: QSutils_1.12.0.zip |
| PackageFileSize: 1.227 MiB |
##############################################################################
##############################################################################
###
### Running command:
###
### rm -rf QSutils.buildbin-libdir && mkdir QSutils.buildbin-libdir && C:\Users\biocbuild\bbs-3.14-bioc\R\bin\R.exe CMD INSTALL --merge-multiarch --build --library=QSutils.buildbin-libdir QSutils_1.12.0.tar.gz
###
##############################################################################
##############################################################################
install for i386
* installing *source* package 'QSutils' ...
** using staged installation
** R
** inst
** byte-compile and prepare package for lazy loading
** help
*** installing help indices
converting help for package 'QSutils'
finding HTML links ... done
Collapse html
ConsSeq html
CorrectGapsAndNs html
DBrule html
DNA.dist html
DSFT html
Diverge html
DottedAlignment html
FAD html
FreqMat html
GenerateVars html
GenotypeStandards_A-H.fas html
GetInfProfile html
GetQSData html
GetRandomSeq html
GiniSimpson html
HCq html
Hill html
IntersectStrandHpls html
MutationFreq html
MutsTbl html
NucleotideDiversity html
PolyDist html
QSutils-package html
Rao html
ReadAmplSeqs html
Renyi html
ReportVariants html
SegSites html
Shannon html
SortByMutations html
SummaryMuts html
TotalMutations html
Toy.GapsAndNs.fna html
ToyData_10_50_1000.fna html
ToyData_FWReads.fna html
ToyData_RVReads.fna html
UniqueMutations html
Unknown-Genotype.fna html
fn.ab html
geom.series html
** building package indices
** installing vignettes
** testing if installed package can be loaded from temporary location
** testing if installed package can be loaded from final location
** testing if installed package keeps a record of temporary installation path
install for x64
* installing *source* package 'QSutils' ...
** testing if installed package can be loaded
* MD5 sums
packaged installation of 'QSutils' as QSutils_1.12.0.zip
* DONE (QSutils)