| Back to Multiple platform build/check report for BioC 3.14 |
|
This page was generated on 2022-04-13 12:07:08 -0400 (Wed, 13 Apr 2022).
| Hostname | OS | Arch (*) | R version | Installed pkgs |
|---|---|---|---|---|
| nebbiolo2 | Linux (Ubuntu 20.04.4 LTS) | x86_64 | 4.1.3 (2022-03-10) -- "One Push-Up" | 4324 |
| tokay2 | Windows Server 2012 R2 Standard | x64 | 4.1.3 (2022-03-10) -- "One Push-Up" | 4077 |
| machv2 | macOS 10.14.6 Mojave | x86_64 | 4.1.3 (2022-03-10) -- "One Push-Up" | 4137 |
| Click on any hostname to see more info about the system (e.g. compilers) (*) as reported by 'uname -p', except on Windows and Mac OS X | ||||
|
To the developers/maintainers of the PureCN package: - Please allow up to 24 hours (and sometimes 48 hours) for your latest push to git@git.bioconductor.org:packages/PureCN.git to reflect on this report. See How and When does the builder pull? When will my changes propagate? for more information. - Make sure to use the following settings in order to reproduce any error or warning you see on this page. |
| Package 1487/2083 | Hostname | OS / Arch | INSTALL | BUILD | CHECK | BUILD BIN | ||||||||
| PureCN 2.0.2 (landing page) Markus Riester
| nebbiolo2 | Linux (Ubuntu 20.04.4 LTS) / x86_64 | OK | OK | OK | |||||||||
| tokay2 | Windows Server 2012 R2 Standard / x64 | OK | OK | OK | OK | |||||||||
| machv2 | macOS 10.14.6 Mojave / x86_64 | OK | OK | OK | OK | |||||||||
| Package: PureCN |
| Version: 2.0.2 |
| Command: rm -rf PureCN.buildbin-libdir && mkdir PureCN.buildbin-libdir && C:\Users\biocbuild\bbs-3.14-bioc\R\bin\R.exe CMD INSTALL --merge-multiarch --build --library=PureCN.buildbin-libdir PureCN_2.0.2.tar.gz |
| StartedAt: 2022-04-13 06:52:32 -0400 (Wed, 13 Apr 2022) |
| EndedAt: 2022-04-13 06:53:50 -0400 (Wed, 13 Apr 2022) |
| EllapsedTime: 78.3 seconds |
| RetCode: 0 |
| Status: OK |
| PackageFile: PureCN_2.0.2.zip |
| PackageFileSize: 6.123 MiB |
##############################################################################
##############################################################################
###
### Running command:
###
### rm -rf PureCN.buildbin-libdir && mkdir PureCN.buildbin-libdir && C:\Users\biocbuild\bbs-3.14-bioc\R\bin\R.exe CMD INSTALL --merge-multiarch --build --library=PureCN.buildbin-libdir PureCN_2.0.2.tar.gz
###
##############################################################################
##############################################################################
install for i386
* installing *source* package 'PureCN' ...
** using staged installation
** R
** data
** inst
** byte-compile and prepare package for lazy loading
** help
*** installing help indices
converting help for package 'PureCN'
finding HTML links ... done
PureCN-defunct html
PureCN-deprecated html
annotateTargets html
bootstrapResults html
calculateBamCoverageByInterval html
calculateLogRatio html
calculateMappingBiasGatk4 html
calculateMappingBiasVcf html
calculatePowerDetectSomatic html
calculateTangentNormal html
callAlterations html
callAlterationsFromSegmentation html
callAmplificationsInLowPurity html
callCIN html
callLOH html
callMutationBurden html
centromeres html
correctCoverageBias html
createCurationFile html
createNormalDatabase html
filterIntervals html
filterVcfBasic html
filterVcfMuTect html
filterVcfMuTect2 html
findFocal html
getSexFromCoverage html
getSexFromVcf html
plotAbs html
poolCoverage html
predictSomatic html
preprocessIntervals html
processMultipleSamples html
purecn.DNAcopy.bdry html
purecn.example.output html
readAllelicCountsFile html
readCoverageFile html
readCurationFile html
readIntervalFile html
readLogRatioFile html
readSegmentationFile html
runAbsoluteCN html
segmentationCBS html
segmentationGATK4 html
segmentationHclust html
segmentationPSCBS html
setMappingBiasVcf html
setPriorVcf html
** building package indices
** installing vignettes
** testing if installed package can be loaded from temporary location
** testing if installed package can be loaded from final location
** testing if installed package keeps a record of temporary installation path
install for x64
* installing *source* package 'PureCN' ...
** testing if installed package can be loaded
* MD5 sums
packaged installation of 'PureCN' as PureCN_2.0.2.zip
* DONE (PureCN)