Back to Multiple platform build/check report for BioC 3.14 |
|
This page was generated on 2022-04-13 12:08:34 -0400 (Wed, 13 Apr 2022).
Hostname | OS | Arch (*) | R version | Installed pkgs |
---|---|---|---|---|
nebbiolo2 | Linux (Ubuntu 20.04.4 LTS) | x86_64 | 4.1.3 (2022-03-10) -- "One Push-Up" | 4324 |
tokay2 | Windows Server 2012 R2 Standard | x64 | 4.1.3 (2022-03-10) -- "One Push-Up" | 4077 |
machv2 | macOS 10.14.6 Mojave | x86_64 | 4.1.3 (2022-03-10) -- "One Push-Up" | 4137 |
Click on any hostname to see more info about the system (e.g. compilers) (*) as reported by 'uname -p', except on Windows and Mac OS X |
To the developers/maintainers of the ProteoDisco package: - Please allow up to 24 hours (and sometimes 48 hours) for your latest push to git@git.bioconductor.org:packages/ProteoDisco.git to reflect on this report. See How and When does the builder pull? When will my changes propagate? for more information. - Make sure to use the following settings in order to reproduce any error or warning you see on this page. |
Package 1475/2083 | Hostname | OS / Arch | INSTALL | BUILD | CHECK | BUILD BIN | ||||||||
ProteoDisco 1.0.0 (landing page) Job van Riet
| nebbiolo2 | Linux (Ubuntu 20.04.4 LTS) / x86_64 | OK | OK | OK | |||||||||
tokay2 | Windows Server 2012 R2 Standard / x64 | OK | OK | OK | OK | |||||||||
machv2 | macOS 10.14.6 Mojave / x86_64 | OK | OK | OK | OK | |||||||||
Package: ProteoDisco |
Version: 1.0.0 |
Command: /Library/Frameworks/R.framework/Resources/bin/R CMD check --install=check:ProteoDisco.install-out.txt --library=/Library/Frameworks/R.framework/Resources/library --no-vignettes --timings ProteoDisco_1.0.0.tar.gz |
StartedAt: 2022-04-12 17:03:44 -0400 (Tue, 12 Apr 2022) |
EndedAt: 2022-04-12 17:15:04 -0400 (Tue, 12 Apr 2022) |
EllapsedTime: 679.7 seconds |
RetCode: 0 |
Status: OK |
CheckDir: ProteoDisco.Rcheck |
Warnings: 0 |
############################################################################## ############################################################################## ### ### Running command: ### ### /Library/Frameworks/R.framework/Resources/bin/R CMD check --install=check:ProteoDisco.install-out.txt --library=/Library/Frameworks/R.framework/Resources/library --no-vignettes --timings ProteoDisco_1.0.0.tar.gz ### ############################################################################## ############################################################################## * using log directory ‘/Users/biocbuild/bbs-3.14-bioc/meat/ProteoDisco.Rcheck’ * using R version 4.1.3 (2022-03-10) * using platform: x86_64-apple-darwin17.0 (64-bit) * using session charset: UTF-8 * using option ‘--no-vignettes’ * checking for file ‘ProteoDisco/DESCRIPTION’ ... OK * checking extension type ... Package * this is package ‘ProteoDisco’ version ‘1.0.0’ * package encoding: UTF-8 * checking package namespace information ... OK * checking package dependencies ... OK * checking if this is a source package ... OK * checking if there is a namespace ... OK * checking for hidden files and directories ... OK * checking for portable file names ... OK * checking for sufficient/correct file permissions ... OK * checking whether package ‘ProteoDisco’ can be installed ... OK * checking installed package size ... OK * checking package directory ... OK * checking ‘build’ directory ... OK * checking DESCRIPTION meta-information ... OK * checking top-level files ... OK * checking for left-over files ... OK * checking index information ... OK * checking package subdirectories ... OK * checking R files for non-ASCII characters ... OK * checking R files for syntax errors ... OK * checking whether the package can be loaded ... OK * checking whether the package can be loaded with stated dependencies ... OK * checking whether the package can be unloaded cleanly ... OK * checking whether the namespace can be loaded with stated dependencies ... OK * checking whether the namespace can be unloaded cleanly ... OK * checking dependencies in R code ... OK * checking S3 generic/method consistency ... OK * checking replacement functions ... OK * checking foreign function calls ... OK * checking R code for possible problems ... OK * checking Rd files ... OK * checking Rd metadata ... OK * checking Rd cross-references ... OK * checking for missing documentation entries ... OK * checking for code/documentation mismatches ... OK * checking Rd \usage sections ... OK * checking Rd contents ... OK * checking for unstated dependencies in examples ... OK * checking contents of ‘data’ directory ... OK * checking data for non-ASCII characters ... NOTE Error loading dataset 'ProteoDiscographyExample.hg19': Error in h(simpleError(msg, call)) : error in evaluating the argument 'x' in selecting a method for function 'seqlevels': UCSC library operation failed * checking data for ASCII and uncompressed saves ... OK * checking files in ‘vignettes’ ... OK * checking examples ... OK Examples with CPU (user + system) or elapsed time > 5s user system elapsed incorporateGenomicVariants 47.628 1.082 48.784 generateJunctionModels 23.472 1.271 24.705 importGenomicVariants.MAF 5.152 0.315 5.471 importGenomicVariants.VCF 5.049 0.097 5.152 * checking for unstated dependencies in ‘tests’ ... OK * checking tests ... Running ‘testthat.R’ OK * checking for unstated dependencies in vignettes ... OK * checking package vignettes in ‘inst/doc’ ... OK * checking running R code from vignettes ... SKIPPED * checking re-building of vignette outputs ... SKIPPED * checking PDF version of manual ... OK * DONE Status: 1 NOTE See ‘/Users/biocbuild/bbs-3.14-bioc/meat/ProteoDisco.Rcheck/00check.log’ for details.
ProteoDisco.Rcheck/00install.out
############################################################################## ############################################################################## ### ### Running command: ### ### /Library/Frameworks/R.framework/Resources/bin/R CMD INSTALL ProteoDisco ### ############################################################################## ############################################################################## * installing to library ‘/Library/Frameworks/R.framework/Versions/4.1/Resources/library’ * installing *source* package ‘ProteoDisco’ ... ** using staged installation ** R ** data ** inst ** byte-compile and prepare package for lazy loading Creating a new generic function for ‘print’ in package ‘ProteoDisco’ Creating a new generic function for ‘summary’ in package ‘ProteoDisco’ ** help *** installing help indices ** building package indices ** installing vignettes ** testing if installed package can be loaded from temporary location ** testing if installed package can be loaded from final location ** testing if installed package keeps a record of temporary installation path * DONE (ProteoDisco)
ProteoDisco.Rcheck/tests/testthat.Rout
R version 4.1.3 (2022-03-10) -- "One Push-Up" Copyright (C) 2022 The R Foundation for Statistical Computing Platform: x86_64-apple-darwin17.0 (64-bit) R is free software and comes with ABSOLUTELY NO WARRANTY. You are welcome to redistribute it under certain conditions. Type 'license()' or 'licence()' for distribution details. R is a collaborative project with many contributors. Type 'contributors()' for more information and 'citation()' on how to cite R or R packages in publications. Type 'demo()' for some demos, 'help()' for on-line help, or 'help.start()' for an HTML browser interface to help. Type 'q()' to quit R. > Sys.setenv("R_TESTS" = "") > > library(testthat) > library(ProteoDisco) Attaching package: 'ProteoDisco' The following object is masked from 'package:methods': show The following objects are masked from 'package:base': print, summary > > testthat::test_check("ProteoDisco") ProteoDisco - Importing manual transcript sequences to the ProteoDiscography. ProteoDisco - Importing splice-junctions to the ProteoDiscography. ProteoDisco - Generating splice-junctions models based on 9 unique (sample-specific or aggregated) splice-junctions. | | | 0% | |======================================================================| 100% ProteoDisco - Generating the annotation database (ProteoDiscography) ProteoDisco - Importing genomic variants from 1 file(s) to the ProteoDiscography. ProteoDisco - Importing 1 VCF file(s). | | | 0% | |======================================================================| 100% ProteoDisco - Calculating a prelim. overlap of genomic mutations with given annotations ProteoDisco - Adding SNV/MNV and InDel mutations to transcript sequences. ProteoDisco - Incorporating mutations within the CDS sequence(s). | | | 0% | |== | 3% | |==== | 6% | |====== | 9% | |======== | 12% | |=========== | 15% | |============= | 18% | |=============== | 21% | |================= | 24% | |=================== | 27% | |===================== | 30% | |======================= | 33% | |========================= | 36% | |============================ | 39% | |============================== | 42% | |================================ | 45% | |================================== | 48% | |==================================== | 52% | |====================================== | 55% | |======================================== | 58% | |========================================== | 61% | |============================================= | 64% | |=============================================== | 67% | |================================================= | 70% | |=================================================== | 73% | |===================================================== | 76% | |======================================================= | 79% | |========================================================= | 82% | |=========================================================== | 85% | |============================================================== | 88% | |================================================================ | 91% | |================================================================== | 94% | |==================================================================== | 97% | |======================================================================| 100% ProteoDisco - Generating mutant transcript sequence(s) by replacing wild-type to mutant CDS. Working on sample: validationSet_hg19.vcf (33 mutant CDS; 4 threads) | | | 0% | |= | 1% | |== | 3% | |=== | 4% | |==== | 6% | |===== | 7% | |====== | 9% | |======= | 10% | |======== | 11% | |========= | 13% | |========== | 14% | |=========== | 16% | |============ | 17% | |============= | 19% | |============== | 20% | |=============== | 21% | |================ | 23% | |================= | 24% | |================== | 26% | |=================== | 27% | |==================== | 29% | |===================== | 30% | |====================== | 31% | |======================= | 33% | |======================== | 34% | |========================= | 36% | |========================== | 37% | |=========================== | 39% | |============================ | 40% | |============================= | 41% | |============================== | 43% | |=============================== | 44% | |================================ | 46% | |================================= | 47% | |================================== | 49% | |=================================== | 50% | |==================================== | 51% | |===================================== | 53% | |====================================== | 54% | |======================================= | 56% | |======================================== | 57% | |========================================= | 59% | |========================================== | 60% | |=========================================== | 61% | |============================================ | 63% | |============================================= | 64% | |============================================== | 66% | |=============================================== | 67% | |================================================ | 69% | |================================================= | 70% | |================================================== | 71% | |=================================================== | 73% | |==================================================== | 74% | |===================================================== | 76% | |====================================================== | 77% | |======================================================= | 79% | |======================================================== | 80% | |========================================================= | 81% | |========================================================== | 83% | |=========================================================== | 84% | |============================================================ | 86% | |============================================================= | 87% | |============================================================== | 89% | |=============================================================== | 90% | |================================================================ | 91% | |================================================================= | 93% | |================================================================== | 94% | |=================================================================== | 96% | |==================================================================== | 97% | |===================================================================== | 99% | |======================================================================| 100% ProteoDisco - Adding mutant transcripts to the ProteoDiscography. ProteoDisco - Adding SNV/MNV and InDel mutations to transcript sequences. ProteoDisco - Incorporating mutations within the CDS sequence(s). | | | 0% | |== | 3% | |==== | 6% | |====== | 9% | |======== | 12% | |=========== | 15% | |============= | 18% | |=============== | 21% | |================= | 24% | |=================== | 27% | |===================== | 30% | |======================= | 33% | |========================= | 36% | |============================ | 39% | |============================== | 42% | |================================ | 45% | |================================== | 48% | |==================================== | 52% | |====================================== | 55% | |======================================== | 58% | |========================================== | 61% | |============================================= | 64% | |=============================================== | 67% | |================================================= | 70% | |=================================================== | 73% | |===================================================== | 76% | |======================================================= | 79% | |========================================================= | 82% | |=========================================================== | 85% | |============================================================== | 88% | |================================================================ | 91% | |================================================================== | 94% | |==================================================================== | 97% | |======================================================================| 100% ProteoDisco - Generating mutant transcript sequence(s) by replacing wild-type to mutant CDS. Working on sample: validationSet_hg19.vcf (34 mutant CDS; 4 threads) | | | 0% | |= | 1% | |== | 3% | |=== | 4% | |==== | 6% | |===== | 7% | |====== | 9% | |======= | 10% | |======== | 11% | |========= | 13% | |========== | 14% | |=========== | 16% | |============ | 17% | |============= | 19% | |============== | 20% | |=============== | 21% | |================ | 23% | |================= | 24% | |================== | 26% | |=================== | 27% | |==================== | 29% | |===================== | 30% | |====================== | 31% | |======================= | 33% | |======================== | 34% | |========================= | 36% | |========================== | 37% | |=========================== | 39% | |============================ | 40% | |============================= | 41% | |============================== | 43% | |=============================== | 44% | |================================ | 46% | |================================= | 47% | |================================== | 49% | |=================================== | 50% | |==================================== | 51% | |===================================== | 53% | |====================================== | 54% | |======================================= | 56% | |======================================== | 57% | |========================================= | 59% | |========================================== | 60% | |=========================================== | 61% | |============================================ | 63% | |============================================= | 64% | |============================================== | 66% | |=============================================== | 67% | |================================================ | 69% | |================================================= | 70% | |================================================== | 71% | |=================================================== | 73% | |==================================================== | 74% | |===================================================== | 76% | |====================================================== | 77% | |======================================================= | 79% | |======================================================== | 80% | |========================================================= | 81% | |========================================================== | 83% | |=========================================================== | 84% | |============================================================ | 86% | |============================================================= | 87% | |============================================================== | 89% | |=============================================================== | 90% | |================================================================ | 91% | |================================================================= | 93% | |================================================================== | 94% | |=================================================================== | 96% | |==================================================================== | 97% | |===================================================================== | 99% | |======================================================================| 100% ProteoDisco - Adding mutant transcripts to the ProteoDiscography. Exporting 99 mutant protein sequences. Writing to test.FASTA. [ FAIL 0 | WARN 0 | SKIP 0 | PASS 11 ] > > proc.time() user system elapsed 336.908 215.768 229.315
ProteoDisco.Rcheck/ProteoDisco-Ex.timings
name | user | system | elapsed | |
checkProteotypicFragments | 2.532 | 0.154 | 2.688 | |
exportProteoDiscography | 0.669 | 0.009 | 0.680 | |
generateJunctionModels | 23.472 | 1.271 | 24.705 | |
generateProteoDiscography | 0.003 | 0.000 | 0.004 | |
getDiscography | 0.517 | 0.040 | 0.557 | |
importGenomicVariants.MAF | 5.152 | 0.315 | 5.471 | |
importGenomicVariants | 4.616 | 0.109 | 4.728 | |
importGenomicVariants.VCF | 5.049 | 0.097 | 5.152 | |
importSpliceJunctions | 1.030 | 0.058 | 1.088 | |
importTranscriptSequences | 0.375 | 0.005 | 0.381 | |
incorporateGenomicVariants | 47.628 | 1.082 | 48.784 | |
mutantTranscripts | 0.437 | 0.010 | 0.447 | |
organism | 0.334 | 0.005 | 0.339 | |
0.394 | 0.015 | 0.409 | ||
seqinfo | 0.371 | 0.005 | 0.377 | |
seqlevels | 0.354 | 0.003 | 0.358 | |
setGenomicSequences | 0.406 | 0.005 | 0.411 | |
setMutantTranscripts | 0.571 | 0.006 | 0.578 | |
setTxDb | 0.362 | 0.003 | 0.365 | |
show | 0.395 | 0.003 | 0.397 | |
summary | 0.389 | 0.003 | 0.391 | |