| Back to Multiple platform build/check report for BioC 3.14 |
|
This page was generated on 2022-04-13 12:07:05 -0400 (Wed, 13 Apr 2022).
| Hostname | OS | Arch (*) | R version | Installed pkgs |
|---|---|---|---|---|
| nebbiolo2 | Linux (Ubuntu 20.04.4 LTS) | x86_64 | 4.1.3 (2022-03-10) -- "One Push-Up" | 4324 |
| tokay2 | Windows Server 2012 R2 Standard | x64 | 4.1.3 (2022-03-10) -- "One Push-Up" | 4077 |
| machv2 | macOS 10.14.6 Mojave | x86_64 | 4.1.3 (2022-03-10) -- "One Push-Up" | 4137 |
| Click on any hostname to see more info about the system (e.g. compilers) (*) as reported by 'uname -p', except on Windows and Mac OS X | ||||
|
To the developers/maintainers of the Pigengene package: - Please allow up to 24 hours (and sometimes 48 hours) for your latest push to git@git.bioconductor.org:packages/Pigengene.git to reflect on this report. See How and When does the builder pull? When will my changes propagate? for more information. - Make sure to use the following settings in order to reproduce any error or warning you see on this page. |
| Package 1420/2083 | Hostname | OS / Arch | INSTALL | BUILD | CHECK | BUILD BIN | ||||||||
| Pigengene 1.20.0 (landing page) Habil Zare
| nebbiolo2 | Linux (Ubuntu 20.04.4 LTS) / x86_64 | OK | OK | OK | |||||||||
| tokay2 | Windows Server 2012 R2 Standard / x64 | OK | OK | OK | OK | |||||||||
| machv2 | macOS 10.14.6 Mojave / x86_64 | OK | OK | OK | OK | |||||||||
| Package: Pigengene |
| Version: 1.20.0 |
| Command: rm -rf Pigengene.buildbin-libdir && mkdir Pigengene.buildbin-libdir && C:\Users\biocbuild\bbs-3.14-bioc\R\bin\R.exe CMD INSTALL --merge-multiarch --build --library=Pigengene.buildbin-libdir Pigengene_1.20.0.tar.gz |
| StartedAt: 2022-04-13 06:48:50 -0400 (Wed, 13 Apr 2022) |
| EndedAt: 2022-04-13 06:49:46 -0400 (Wed, 13 Apr 2022) |
| EllapsedTime: 56.1 seconds |
| RetCode: 0 |
| Status: OK |
| PackageFile: Pigengene_1.20.0.zip |
| PackageFileSize: 3.005 MiB |
##############################################################################
##############################################################################
###
### Running command:
###
### rm -rf Pigengene.buildbin-libdir && mkdir Pigengene.buildbin-libdir && C:\Users\biocbuild\bbs-3.14-bioc\R\bin\R.exe CMD INSTALL --merge-multiarch --build --library=Pigengene.buildbin-libdir Pigengene_1.20.0.tar.gz
###
##############################################################################
##############################################################################
install for i386
* installing *source* package 'Pigengene' ...
** using staged installation
** R
** data
** inst
** byte-compile and prepare package for lazy loading
** help
*** installing help indices
converting help for package 'Pigengene'
finding HTML links ... done
Pigengene-package html
aml html
balance html
calculate.beta html
check.nas html
check.pigengene.input html
combine.networks html
compact.tree html
compute.pigengene html
dcor.matrix html
draw.bn html
eigengenes33 html
gene.mapping html
get.enriched.pw html
get.fitted.leaf html
get.genes html
get.used.features html
learn.bn html
make.decision.tree html
mds html
message.if html
module.heatmap html
one.step.pigengene html
pheatmap.type html
pigengene-class html
pigengene html
REDIRECT:topic Previous alias or file overwritten by alias: C:/Users/biocbuild/bbs-3.14-bioc/meat/Pigengene.buildbin-libdir/00LOCK-Pigengene/00new/Pigengene/help/pigengene.html
plot.pigengene html
preds.at html
project.eigen html
pvalues.manova html
save.if html
wgcna.one.step html
** building package indices
** installing vignettes
** testing if installed package can be loaded from temporary location
** testing if installed package can be loaded from final location
** testing if installed package keeps a record of temporary installation path
install for x64
* installing *source* package 'Pigengene' ...
** testing if installed package can be loaded
* MD5 sums
packaged installation of 'Pigengene' as Pigengene_1.20.0.zip
* DONE (Pigengene)