| Back to Multiple platform build/check report for BioC 3.14 |
|
This page was generated on 2022-04-13 12:07:05 -0400 (Wed, 13 Apr 2022).
| Hostname | OS | Arch (*) | R version | Installed pkgs |
|---|---|---|---|---|
| nebbiolo2 | Linux (Ubuntu 20.04.4 LTS) | x86_64 | 4.1.3 (2022-03-10) -- "One Push-Up" | 4324 |
| tokay2 | Windows Server 2012 R2 Standard | x64 | 4.1.3 (2022-03-10) -- "One Push-Up" | 4077 |
| machv2 | macOS 10.14.6 Mojave | x86_64 | 4.1.3 (2022-03-10) -- "One Push-Up" | 4137 |
| Click on any hostname to see more info about the system (e.g. compilers) (*) as reported by 'uname -p', except on Windows and Mac OS X | ||||
|
To the developers/maintainers of the PhyloProfile package: - Please allow up to 24 hours (and sometimes 48 hours) for your latest push to git@git.bioconductor.org:packages/PhyloProfile.git to reflect on this report. See How and When does the builder pull? When will my changes propagate? for more information. - Make sure to use the following settings in order to reproduce any error or warning you see on this page. |
| Package 1414/2083 | Hostname | OS / Arch | INSTALL | BUILD | CHECK | BUILD BIN | ||||||||
| PhyloProfile 1.8.6 (landing page) Vinh Tran
| nebbiolo2 | Linux (Ubuntu 20.04.4 LTS) / x86_64 | OK | OK | OK | |||||||||
| tokay2 | Windows Server 2012 R2 Standard / x64 | OK | OK | OK | OK | |||||||||
| machv2 | macOS 10.14.6 Mojave / x86_64 | OK | OK | OK | OK | |||||||||
| Package: PhyloProfile |
| Version: 1.8.6 |
| Command: rm -rf PhyloProfile.buildbin-libdir && mkdir PhyloProfile.buildbin-libdir && C:\Users\biocbuild\bbs-3.14-bioc\R\bin\R.exe CMD INSTALL --merge-multiarch --build --library=PhyloProfile.buildbin-libdir PhyloProfile_1.8.6.tar.gz |
| StartedAt: 2022-04-13 06:48:33 -0400 (Wed, 13 Apr 2022) |
| EndedAt: 2022-04-13 06:49:13 -0400 (Wed, 13 Apr 2022) |
| EllapsedTime: 40.7 seconds |
| RetCode: 0 |
| Status: OK |
| PackageFile: PhyloProfile_1.8.6.zip |
| PackageFileSize: 1.243 MiB |
##############################################################################
##############################################################################
###
### Running command:
###
### rm -rf PhyloProfile.buildbin-libdir && mkdir PhyloProfile.buildbin-libdir && C:\Users\biocbuild\bbs-3.14-bioc\R\bin\R.exe CMD INSTALL --merge-multiarch --build --library=PhyloProfile.buildbin-libdir PhyloProfile_1.8.6.tar.gz
###
##############################################################################
##############################################################################
install for i386
* installing *source* package 'PhyloProfile' ...
** using staged installation
** R
** data
** inst
** byte-compile and prepare package for lazy loading
** help
*** installing help indices
converting help for package 'PhyloProfile'
finding HTML links ... done
calcPresSpec html
checkInputValidity html
checkNewick html
checkOmaID html
clusterDataDend html
compareMedianTaxonGroups html
compareTaxonGroups html
createArchiPlot html
createGeneAgePlot html
createLongMatrix html
createPercentageDistributionData html
createProfileFromOma html
createRootedTree html
createVarDistPlot html
createVariableDistributionData html
createVariableDistributionDataSubset html
dataCustomizedPlot html
dataFeatureTaxGroup html
dataMainPlot html
dataVarDistTaxGroup html
distributionTest html
estimateGeneAge html
fastaParser html
featureDistTaxPlot html
filterProfileData html
filteredProfile html
finalProcessedProfile html
fromInputToProfile html
fullProcessedProfile html
geneAgePlotDf html
generateSinglePlot html
getAllDomainsOma html
getAllFastaOma html
getCommonAncestor html
getCoreGene html
getDataClustering html
getDataForOneOma html
getDendrogram html
getDistanceMatrix html
getDomainFolder html
getFastaFromFasInput html
getFastaFromFile html
getFastaFromFolder html
getIDsRank html
getInputTaxaID html
getInputTaxaName html
getNameList html
getOmaDataForOneOrtholog html
getOmaDomainFromURL html
getOmaMembers html
getQualColForVector html
getSelectedFastaOma html
getSelectedTaxonNames html
getTaxonomyInfo html
getTaxonomyMatrix html
getTaxonomyRanks html
gridArrangeSharedLegend html
heatmapPlotting html
highlightProfilePlot html
idList html
mainLongRaw html
mainTaxonomyRank html
pairDomainPlotting html
parseDomainInput html
parseInfoProfile html
ppTaxonomyMatrix html
ppTree html
processNcbiTaxonomy html
profileWithTaxonomy html
qualitativeColours html
rankIndexing html
rankList html
reduceProfile html
runPhyloProfile html
singleDomainPlotting html
sortDomains html
sortInputTaxa html
sortTaxaFromTree html
superTaxonProfile html
taxa2dist html
taxonNamesReduced html
taxonomyMatrix html
taxonomyTableCreator html
varDistTaxPlot html
wideToLong html
xmlParser html
** building package indices
** installing vignettes
** testing if installed package can be loaded from temporary location
** testing if installed package can be loaded from final location
** testing if installed package keeps a record of temporary installation path
install for x64
* installing *source* package 'PhyloProfile' ...
** testing if installed package can be loaded
* MD5 sums
packaged installation of 'PhyloProfile' as PhyloProfile_1.8.6.zip
* DONE (PhyloProfile)