| Back to Multiple platform build/check report for BioC 3.14 |
|
This page was generated on 2022-04-13 12:07:05 -0400 (Wed, 13 Apr 2022).
| Hostname | OS | Arch (*) | R version | Installed pkgs |
|---|---|---|---|---|
| nebbiolo2 | Linux (Ubuntu 20.04.4 LTS) | x86_64 | 4.1.3 (2022-03-10) -- "One Push-Up" | 4324 |
| tokay2 | Windows Server 2012 R2 Standard | x64 | 4.1.3 (2022-03-10) -- "One Push-Up" | 4077 |
| machv2 | macOS 10.14.6 Mojave | x86_64 | 4.1.3 (2022-03-10) -- "One Push-Up" | 4137 |
| Click on any hostname to see more info about the system (e.g. compilers) (*) as reported by 'uname -p', except on Windows and Mac OS X | ||||
|
To the developers/maintainers of the PhenStat package: - Please allow up to 24 hours (and sometimes 48 hours) for your latest push to git@git.bioconductor.org:packages/PhenStat.git to reflect on this report. See How and When does the builder pull? When will my changes propagate? for more information. - Make sure to use the following settings in order to reproduce any error or warning you see on this page. |
| Package 1409/2083 | Hostname | OS / Arch | INSTALL | BUILD | CHECK | BUILD BIN | ||||||||
| PhenStat 2.30.0 (landing page) Hamed Haselimashhadi
| nebbiolo2 | Linux (Ubuntu 20.04.4 LTS) / x86_64 | OK | OK | OK | |||||||||
| tokay2 | Windows Server 2012 R2 Standard / x64 | OK | OK | OK | OK | |||||||||
| machv2 | macOS 10.14.6 Mojave / x86_64 | OK | OK | OK | OK | |||||||||
| Package: PhenStat |
| Version: 2.30.0 |
| Command: rm -rf PhenStat.buildbin-libdir && mkdir PhenStat.buildbin-libdir && C:\Users\biocbuild\bbs-3.14-bioc\R\bin\R.exe CMD INSTALL --merge-multiarch --build --library=PhenStat.buildbin-libdir PhenStat_2.30.0.tar.gz |
| StartedAt: 2022-04-13 06:48:24 -0400 (Wed, 13 Apr 2022) |
| EndedAt: 2022-04-13 06:48:58 -0400 (Wed, 13 Apr 2022) |
| EllapsedTime: 33.6 seconds |
| RetCode: 0 |
| Status: OK |
| PackageFile: PhenStat_2.30.0.zip |
| PackageFileSize: 1.446 MiB |
##############################################################################
##############################################################################
###
### Running command:
###
### rm -rf PhenStat.buildbin-libdir && mkdir PhenStat.buildbin-libdir && C:\Users\biocbuild\bbs-3.14-bioc\R\bin\R.exe CMD INSTALL --merge-multiarch --build --library=PhenStat.buildbin-libdir PhenStat_2.30.0.tar.gz
###
##############################################################################
##############################################################################
install for i386
* installing *source* package 'PhenStat' ...
** using staged installation
** R
** inst
** byte-compile and prepare package for lazy loading
** help
*** installing help indices
converting help for package 'PhenStat'
finding HTML links ... done
FisherExactTest html
JSONOutput html
LRDataset html
LargeDataObject-class html
PhenList-class html
PhenList html
PhenStatReport html
PhenTestResult-class html
PhenTestResult html
RRTest html
TFDataset html
analysedDataset html
analysedDatasetPhenList html
analysedSubset html
analysisResults html
batchIn html
boxplotResidualBatch html
boxplotSexGenotype html
boxplotSexGenotypeBatch html
boxplotSexGenotypeBatchAdjusted html
boxplotSexGenotypeResult html
boxplotSexGenotypeWeightBatchAdjusted html
categoricalBarplot html
checkDataset html
classificationTag html
columnChecks html
columnLevels html
comparison html
dataset html
determiningLambda html
dim html
finalLRModel html
finalModel html
finalTFModel html
formulaDeterminingLambda html
generateGraphs html
getColumn html
getColumnBatchAdjusted html
getColumnView html
getColumnWeightBatchAdjusted html
getCountMatrices html
getDataset html
getGenotypeEffect html
getMatrix html
getPercentageMatrix html
getStat html
getVariable html
getVariables html
hemiGenotype html
htest-class html
htestPhenStat-class html
matrixCount html
method html
methodText html
modelFormula html
modelFormulaLR html
multipleBatches html
noSexes html
parameters html
parserOutputSummary html
parserOutputSummaryLR html
parserOutputTFSummary html
performReverseTransformation html
performTransformation html
plot.PhenList html
plot.PhenTestResult html
plotResidualPredicted html
printLROutput html
printTabStyle html
pvalue html
qqplotGenotype html
qqplotRandomEffects html
qqplotRotatedResiduals html
recommendMethod html
refGenotype html
scatterplotGenotypeWeight html
scatterplotGenotypeWeightResult html
scatterplotSexGenotypeBatch html
scatterplotSexGenotypeBatchResult html
setBatch html
setGenotype html
setMissingValue html
setSex html
setWeight html
startLRModel html
startModel html
startTFModel html
subsetText html
summaryOutput html
summaryPhenListResult html
testDataset html
testFinalLRModel html
testFinalModel html
testGenotype html
transformation html
transformationJSON html
transformationText html
vectorOutput html
vectorOutputMatrices html
weightIn html
** building package indices
** installing vignettes
** testing if installed package can be loaded from temporary location
** testing if installed package can be loaded from final location
** testing if installed package keeps a record of temporary installation path
install for x64
* installing *source* package 'PhenStat' ...
** testing if installed package can be loaded
* MD5 sums
packaged installation of 'PhenStat' as PhenStat_2.30.0.zip
* DONE (PhenStat)