| Back to Multiple platform build/check report for BioC 3.14 | 
  | 
This page was generated on 2022-04-13 12:07:07 -0400 (Wed, 13 Apr 2022).
| Hostname | OS | Arch (*) | R version | Installed pkgs | 
|---|---|---|---|---|
| nebbiolo2 | Linux (Ubuntu 20.04.4 LTS) | x86_64 | 4.1.3 (2022-03-10) -- "One Push-Up" | 4324 | 
| tokay2 | Windows Server 2012 R2 Standard | x64 | 4.1.3 (2022-03-10) -- "One Push-Up" | 4077 | 
| machv2 | macOS 10.14.6 Mojave | x86_64 | 4.1.3 (2022-03-10) -- "One Push-Up" | 4137 | 
| Click on any hostname to see more info about the system (e.g. compilers) (*) as reported by 'uname -p', except on Windows and Mac OS X | ||||
| 
To the developers/maintainers of the PROMISE package: - Please allow up to 24 hours (and sometimes 48 hours) for your latest push to git@git.bioconductor.org:packages/PROMISE.git to reflect on this report. See How and When does the builder pull? When will my changes propagate? for more information. - Make sure to use the following settings in order to reproduce any error or warning you see on this page.  | 
| Package 1470/2083 | Hostname | OS / Arch | INSTALL | BUILD | CHECK | BUILD BIN | ||||||||
| PROMISE 1.46.0  (landing page) Stan Pounds 
  | nebbiolo2 | Linux (Ubuntu 20.04.4 LTS) / x86_64 | OK | OK | OK | |||||||||
| tokay2 | Windows Server 2012 R2 Standard / x64 | OK | OK | OK | OK | |||||||||
| machv2 | macOS 10.14.6 Mojave / x86_64 | OK | OK | OK | OK | |||||||||
| Package: PROMISE | 
| Version: 1.46.0 | 
| Command: C:\cygwin\bin\curl.exe -O http://155.52.207.166/BBS/3.14/bioc/src/contrib/PROMISE_1.46.0.tar.gz && rm -rf PROMISE.buildbin-libdir && mkdir PROMISE.buildbin-libdir && C:\Users\biocbuild\bbs-3.14-bioc\R\bin\R.exe CMD INSTALL --merge-multiarch --build --library=PROMISE.buildbin-libdir PROMISE_1.46.0.tar.gz && C:\Users\biocbuild\bbs-3.14-bioc\R\bin\R.exe CMD INSTALL PROMISE_1.46.0.zip && rm PROMISE_1.46.0.tar.gz PROMISE_1.46.0.zip | 
| StartedAt: 2022-04-12 05:55:28 -0400 (Tue, 12 Apr 2022) | 
| EndedAt: 2022-04-12 05:56:19 -0400 (Tue, 12 Apr 2022) | 
| EllapsedTime: 50.8 seconds | 
| RetCode: 0 | 
| Status: OK | 
##############################################################################
##############################################################################
###
### Running command:
###
###   C:\cygwin\bin\curl.exe -O http://155.52.207.166/BBS/3.14/bioc/src/contrib/PROMISE_1.46.0.tar.gz && rm -rf PROMISE.buildbin-libdir && mkdir PROMISE.buildbin-libdir && C:\Users\biocbuild\bbs-3.14-bioc\R\bin\R.exe CMD INSTALL --merge-multiarch --build --library=PROMISE.buildbin-libdir PROMISE_1.46.0.tar.gz && C:\Users\biocbuild\bbs-3.14-bioc\R\bin\R.exe CMD INSTALL PROMISE_1.46.0.zip && rm PROMISE_1.46.0.tar.gz PROMISE_1.46.0.zip
###
##############################################################################
##############################################################################
  % Total    % Received % Xferd  Average Speed   Time    Time     Time  Current
                                 Dload  Upload   Total   Spent    Left  Speed
  0     0    0     0    0     0      0      0 --:--:-- --:--:-- --:--:--     0
100  171k  100  171k    0     0   442k      0 --:--:-- --:--:-- --:--:--  443k
install for i386
* installing *source* package 'PROMISE' ...
** using staged installation
** R
** data
** byte-compile and prepare package for lazy loading
** help
*** installing help indices
  converting help for package 'PROMISE'
    finding HTML links ... done
    PROMISE-package                         html  
    PROMISE                                 html  
    avg.abs.genestat                        html  
    jung.rstat                              html  
    phPatt                                  html  
    promise.genestat                        html  
    promise.pattern                         html  
    sampExprSet                             html  
    sampGeneSet                             html  
    spearman.rstat                          html  
** building package indices
** installing vignettes
** testing if installed package can be loaded from temporary location
** testing if installed package can be loaded from final location
** testing if installed package keeps a record of temporary installation path
install for x64
* installing *source* package 'PROMISE' ...
** testing if installed package can be loaded
* MD5 sums
packaged installation of 'PROMISE' as PROMISE_1.46.0.zip
* DONE (PROMISE)
* installing to library 'C:/Users/biocbuild/bbs-3.14-bioc/R/library'
package 'PROMISE' successfully unpacked and MD5 sums checked