| Back to Multiple platform build/check report for BioC 3.14 |
|
This page was generated on 2022-04-13 12:07:06 -0400 (Wed, 13 Apr 2022).
| Hostname | OS | Arch (*) | R version | Installed pkgs |
|---|---|---|---|---|
| nebbiolo2 | Linux (Ubuntu 20.04.4 LTS) | x86_64 | 4.1.3 (2022-03-10) -- "One Push-Up" | 4324 |
| tokay2 | Windows Server 2012 R2 Standard | x64 | 4.1.3 (2022-03-10) -- "One Push-Up" | 4077 |
| machv2 | macOS 10.14.6 Mojave | x86_64 | 4.1.3 (2022-03-10) -- "One Push-Up" | 4137 |
| Click on any hostname to see more info about the system (e.g. compilers) (*) as reported by 'uname -p', except on Windows and Mac OS X | ||||
|
To the developers/maintainers of the PLPE package: - Please allow up to 24 hours (and sometimes 48 hours) for your latest push to git@git.bioconductor.org:packages/PLPE.git to reflect on this report. See How and When does the builder pull? When will my changes propagate? for more information. - Make sure to use the following settings in order to reproduce any error or warning you see on this page. |
| Package 1432/2083 | Hostname | OS / Arch | INSTALL | BUILD | CHECK | BUILD BIN | ||||||||
| PLPE 1.54.0 (landing page) Soo-heang Eo
| nebbiolo2 | Linux (Ubuntu 20.04.4 LTS) / x86_64 | OK | OK | OK | |||||||||
| tokay2 | Windows Server 2012 R2 Standard / x64 | OK | OK | OK | OK | |||||||||
| machv2 | macOS 10.14.6 Mojave / x86_64 | OK | OK | OK | OK | |||||||||
| Package: PLPE |
| Version: 1.54.0 |
| Command: rm -rf PLPE.buildbin-libdir && mkdir PLPE.buildbin-libdir && C:\Users\biocbuild\bbs-3.14-bioc\R\bin\R.exe CMD INSTALL --merge-multiarch --build --library=PLPE.buildbin-libdir PLPE_1.54.0.tar.gz |
| StartedAt: 2022-04-13 06:49:21 -0400 (Wed, 13 Apr 2022) |
| EndedAt: 2022-04-13 06:49:36 -0400 (Wed, 13 Apr 2022) |
| EllapsedTime: 15.6 seconds |
| RetCode: 0 |
| Status: OK |
| PackageFile: PLPE_1.54.0.zip |
| PackageFileSize: 216 KiB |
##############################################################################
##############################################################################
###
### Running command:
###
### rm -rf PLPE.buildbin-libdir && mkdir PLPE.buildbin-libdir && C:\Users\biocbuild\bbs-3.14-bioc\R\bin\R.exe CMD INSTALL --merge-multiarch --build --library=PLPE.buildbin-libdir PLPE_1.54.0.tar.gz
###
##############################################################################
##############################################################################
install for i386
* installing *source* package 'PLPE' ...
** using staged installation
** R
** data
*** moving datasets to lazyload DB
** inst
** byte-compile and prepare package for lazy loading
** help
*** installing help indices
converting help for package 'PLPE'
finding HTML links ... done
am.trans.paired html
base.error.paired html
generate.null html
lpe.paired html
lpe.paired.default html
lpe.paired.fdr html
lpe.paired.fdr.default html
plateletSet html
print.lpe.paired html
print.lpe.paired.fdr html
summary.lpe.paired html
summary.lpe.paired.fdr html
** building package indices
** installing vignettes
** testing if installed package can be loaded from temporary location
** testing if installed package can be loaded from final location
** testing if installed package keeps a record of temporary installation path
install for x64
* installing *source* package 'PLPE' ...
** testing if installed package can be loaded
* MD5 sums
packaged installation of 'PLPE' as PLPE_1.54.0.zip
* DONE (PLPE)