| Back to Multiple platform build/check report for BioC 3.14 |
|
This page was generated on 2022-04-13 12:07:02 -0400 (Wed, 13 Apr 2022).
| Hostname | OS | Arch (*) | R version | Installed pkgs |
|---|---|---|---|---|
| nebbiolo2 | Linux (Ubuntu 20.04.4 LTS) | x86_64 | 4.1.3 (2022-03-10) -- "One Push-Up" | 4324 |
| tokay2 | Windows Server 2012 R2 Standard | x64 | 4.1.3 (2022-03-10) -- "One Push-Up" | 4077 |
| machv2 | macOS 10.14.6 Mojave | x86_64 | 4.1.3 (2022-03-10) -- "One Push-Up" | 4137 |
| Click on any hostname to see more info about the system (e.g. compilers) (*) as reported by 'uname -p', except on Windows and Mac OS X | ||||
|
To the developers/maintainers of the OpenStats package: - Please allow up to 24 hours (and sometimes 48 hours) for your latest push to git@git.bioconductor.org:packages/OpenStats.git to reflect on this report. See How and When does the builder pull? When will my changes propagate? for more information. - Make sure to use the following settings in order to reproduce any error or warning you see on this page. |
| Package 1341/2083 | Hostname | OS / Arch | INSTALL | BUILD | CHECK | BUILD BIN | ||||||||
| OpenStats 1.6.0 (landing page) Hamed Haseli Mashhadi
| nebbiolo2 | Linux (Ubuntu 20.04.4 LTS) / x86_64 | OK | OK | OK | |||||||||
| tokay2 | Windows Server 2012 R2 Standard / x64 | OK | OK | OK | OK | |||||||||
| machv2 | macOS 10.14.6 Mojave / x86_64 | OK | OK | OK | OK | |||||||||
| Package: OpenStats |
| Version: 1.6.0 |
| Command: C:\cygwin\bin\curl.exe -O http://155.52.207.166/BBS/3.14/bioc/src/contrib/OpenStats_1.6.0.tar.gz && rm -rf OpenStats.buildbin-libdir && mkdir OpenStats.buildbin-libdir && C:\Users\biocbuild\bbs-3.14-bioc\R\bin\R.exe CMD INSTALL --merge-multiarch --build --library=OpenStats.buildbin-libdir OpenStats_1.6.0.tar.gz && C:\Users\biocbuild\bbs-3.14-bioc\R\bin\R.exe CMD INSTALL OpenStats_1.6.0.zip && rm OpenStats_1.6.0.tar.gz OpenStats_1.6.0.zip |
| StartedAt: 2022-04-12 07:14:25 -0400 (Tue, 12 Apr 2022) |
| EndedAt: 2022-04-12 07:16:19 -0400 (Tue, 12 Apr 2022) |
| EllapsedTime: 114.3 seconds |
| RetCode: 0 |
| Status: OK |
##############################################################################
##############################################################################
###
### Running command:
###
### C:\cygwin\bin\curl.exe -O http://155.52.207.166/BBS/3.14/bioc/src/contrib/OpenStats_1.6.0.tar.gz && rm -rf OpenStats.buildbin-libdir && mkdir OpenStats.buildbin-libdir && C:\Users\biocbuild\bbs-3.14-bioc\R\bin\R.exe CMD INSTALL --merge-multiarch --build --library=OpenStats.buildbin-libdir OpenStats_1.6.0.tar.gz && C:\Users\biocbuild\bbs-3.14-bioc\R\bin\R.exe CMD INSTALL OpenStats_1.6.0.zip && rm OpenStats_1.6.0.tar.gz OpenStats_1.6.0.zip
###
##############################################################################
##############################################################################
% Total % Received % Xferd Average Speed Time Time Time Current
Dload Upload Total Spent Left Speed
0 0 0 0 0 0 0 0 --:--:-- --:--:-- --:--:-- 0
14 109k 14 15989 0 0 135k 0 --:--:-- --:--:-- --:--:-- 135k
100 109k 100 109k 0 0 204k 0 --:--:-- --:--:-- --:--:-- 204k
install for i386
* installing *source* package 'OpenStats' ...
** using staged installation
** R
** inst
** byte-compile and prepare package for lazy loading
** help
*** installing help indices
converting help for package 'OpenStats'
finding HTML links ... done
OpenStatsAnalysis html
OpenStatsBuilder html
OpenStatsComplementarySplit html
OpenStatsList html
OpenStatsReport html
plot.OpenStats html
plot.OpenStatsComplementarySplit html
plot.OpenStatsFE html
plot.OpenStatsMM html
plot.OpenStatsRR html
print.OpenStats html
print.OpenStatsComplementarySplit html
print.OpenStatsFE html
print.OpenStatsMM html
print.OpenStatsRR html
summary.OpenStats html
summary.OpenStatsComplementarySplit html
summary.OpenStatsFE html
summary.OpenStatsMM html
summary.OpenStatsRR html
** building package indices
** installing vignettes
** testing if installed package can be loaded from temporary location
** testing if installed package can be loaded from final location
** testing if installed package keeps a record of temporary installation path
install for x64
* installing *source* package 'OpenStats' ...
** testing if installed package can be loaded
* MD5 sums
packaged installation of 'OpenStats' as OpenStats_1.6.0.zip
* DONE (OpenStats)
* installing to library 'C:/Users/biocbuild/bbs-3.14-bioc/R/library'
package 'OpenStats' successfully unpacked and MD5 sums checked