| Back to Multiple platform build/check report for BioC 3.14 |
|
This page was generated on 2022-04-13 12:07:01 -0400 (Wed, 13 Apr 2022).
| Hostname | OS | Arch (*) | R version | Installed pkgs |
|---|---|---|---|---|
| nebbiolo2 | Linux (Ubuntu 20.04.4 LTS) | x86_64 | 4.1.3 (2022-03-10) -- "One Push-Up" | 4324 |
| tokay2 | Windows Server 2012 R2 Standard | x64 | 4.1.3 (2022-03-10) -- "One Push-Up" | 4077 |
| machv2 | macOS 10.14.6 Mojave | x86_64 | 4.1.3 (2022-03-10) -- "One Push-Up" | 4137 |
| Click on any hostname to see more info about the system (e.g. compilers) (*) as reported by 'uname -p', except on Windows and Mac OS X | ||||
|
To the developers/maintainers of the OncoScore package: - Please allow up to 24 hours (and sometimes 48 hours) for your latest push to git@git.bioconductor.org:packages/OncoScore.git to reflect on this report. See How and When does the builder pull? When will my changes propagate? for more information. - Make sure to use the following settings in order to reproduce any error or warning you see on this page. |
| Package 1333/2083 | Hostname | OS / Arch | INSTALL | BUILD | CHECK | BUILD BIN | ||||||||
| OncoScore 1.22.0 (landing page) Luca De Sano
| nebbiolo2 | Linux (Ubuntu 20.04.4 LTS) / x86_64 | OK | OK | OK | |||||||||
| tokay2 | Windows Server 2012 R2 Standard / x64 | OK | OK | OK | OK | |||||||||
| machv2 | macOS 10.14.6 Mojave / x86_64 | OK | OK | OK | OK | |||||||||
| Package: OncoScore |
| Version: 1.22.0 |
| Command: C:\cygwin\bin\curl.exe -O http://155.52.207.166/BBS/3.14/bioc/src/contrib/OncoScore_1.22.0.tar.gz && rm -rf OncoScore.buildbin-libdir && mkdir OncoScore.buildbin-libdir && C:\Users\biocbuild\bbs-3.14-bioc\R\bin\R.exe CMD INSTALL --merge-multiarch --build --library=OncoScore.buildbin-libdir OncoScore_1.22.0.tar.gz && C:\Users\biocbuild\bbs-3.14-bioc\R\bin\R.exe CMD INSTALL OncoScore_1.22.0.zip && rm OncoScore_1.22.0.tar.gz OncoScore_1.22.0.zip |
| StartedAt: 2022-04-12 05:07:48 -0400 (Tue, 12 Apr 2022) |
| EndedAt: 2022-04-12 05:09:07 -0400 (Tue, 12 Apr 2022) |
| EllapsedTime: 78.9 seconds |
| RetCode: 0 |
| Status: OK |
##############################################################################
##############################################################################
###
### Running command:
###
### C:\cygwin\bin\curl.exe -O http://155.52.207.166/BBS/3.14/bioc/src/contrib/OncoScore_1.22.0.tar.gz && rm -rf OncoScore.buildbin-libdir && mkdir OncoScore.buildbin-libdir && C:\Users\biocbuild\bbs-3.14-bioc\R\bin\R.exe CMD INSTALL --merge-multiarch --build --library=OncoScore.buildbin-libdir OncoScore_1.22.0.tar.gz && C:\Users\biocbuild\bbs-3.14-bioc\R\bin\R.exe CMD INSTALL OncoScore_1.22.0.zip && rm OncoScore_1.22.0.tar.gz OncoScore_1.22.0.zip
###
##############################################################################
##############################################################################
% Total % Received % Xferd Average Speed Time Time Time Current
Dload Upload Total Spent Left Speed
0 0 0 0 0 0 0 0 --:--:-- --:--:-- --:--:-- 0
0 0 0 0 0 0 0 0 --:--:-- --:--:-- --:--:-- 0
100 40362 100 40362 0 0 99k 0 --:--:-- --:--:-- --:--:-- 99k
install for i386
* installing *source* package 'OncoScore' ...
** using staged installation
** R
** data
** inst
** byte-compile and prepare package for lazy loading
** help
*** installing help indices
converting help for package 'OncoScore'
finding HTML links ... done
combine.query.results html
combine.single.matrix html
compute.frequencies.scores html
compute.oncoscore html
compute.oncoscore.from.region html
compute.oncoscore.timeseries html
estimate.oncogenes html
genes html
get.genes.from.biomart html
get.list.from.xml html
get.pubmed.driver.analysis html
perform.query html
perform.query.from.region html
perform.query.timeseries html
plot.oncoscore html
plot.oncoscore.timeseries html
query html
query.timepoints html
timepoints html
try.scan html
** building package indices
** installing vignettes
** testing if installed package can be loaded from temporary location
** testing if installed package can be loaded from final location
** testing if installed package keeps a record of temporary installation path
install for x64
* installing *source* package 'OncoScore' ...
** testing if installed package can be loaded
* MD5 sums
packaged installation of 'OncoScore' as OncoScore_1.22.0.zip
* DONE (OncoScore)
* installing to library 'C:/Users/biocbuild/bbs-3.14-bioc/R/library'
package 'OncoScore' successfully unpacked and MD5 sums checked