| Back to Multiple platform build/check report for BioC 3.14 | 
  | 
This page was generated on 2022-04-13 12:07:01 -0400 (Wed, 13 Apr 2022).
| Hostname | OS | Arch (*) | R version | Installed pkgs | 
|---|---|---|---|---|
| nebbiolo2 | Linux (Ubuntu 20.04.4 LTS) | x86_64 | 4.1.3 (2022-03-10) -- "One Push-Up" | 4324 | 
| tokay2 | Windows Server 2012 R2 Standard | x64 | 4.1.3 (2022-03-10) -- "One Push-Up" | 4077 | 
| machv2 | macOS 10.14.6 Mojave | x86_64 | 4.1.3 (2022-03-10) -- "One Push-Up" | 4137 | 
| Click on any hostname to see more info about the system (e.g. compilers) (*) as reported by 'uname -p', except on Windows and Mac OS X | ||||
| 
To the developers/maintainers of the OmicsLonDA package: - Please allow up to 24 hours (and sometimes 48 hours) for your latest push to git@git.bioconductor.org:packages/OmicsLonDA.git to reflect on this report. See How and When does the builder pull? When will my changes propagate? for more information. - Make sure to use the following settings in order to reproduce any error or warning you see on this page.  | 
| Package 1326/2083 | Hostname | OS / Arch | INSTALL | BUILD | CHECK | BUILD BIN | ||||||||
| OmicsLonDA 1.10.0  (landing page) Ahmed A. Metwally 
  | nebbiolo2 | Linux (Ubuntu 20.04.4 LTS) / x86_64 | OK | OK | OK | |||||||||
| tokay2 | Windows Server 2012 R2 Standard / x64 | OK | OK | OK | OK | |||||||||
| machv2 | macOS 10.14.6 Mojave / x86_64 | OK | OK | OK | OK | |||||||||
| Package: OmicsLonDA | 
| Version: 1.10.0 | 
| Command: C:\cygwin\bin\curl.exe -O http://155.52.207.166/BBS/3.14/bioc/src/contrib/OmicsLonDA_1.10.0.tar.gz && rm -rf OmicsLonDA.buildbin-libdir && mkdir OmicsLonDA.buildbin-libdir && C:\Users\biocbuild\bbs-3.14-bioc\R\bin\R.exe CMD INSTALL --merge-multiarch --build --library=OmicsLonDA.buildbin-libdir OmicsLonDA_1.10.0.tar.gz && C:\Users\biocbuild\bbs-3.14-bioc\R\bin\R.exe CMD INSTALL OmicsLonDA_1.10.0.zip && rm OmicsLonDA_1.10.0.tar.gz OmicsLonDA_1.10.0.zip | 
| StartedAt: 2022-04-12 05:35:38 -0400 (Tue, 12 Apr 2022) | 
| EndedAt: 2022-04-12 05:36:51 -0400 (Tue, 12 Apr 2022) | 
| EllapsedTime: 72.7 seconds | 
| RetCode: 0 | 
| Status: OK | 
##############################################################################
##############################################################################
###
### Running command:
###
###   C:\cygwin\bin\curl.exe -O http://155.52.207.166/BBS/3.14/bioc/src/contrib/OmicsLonDA_1.10.0.tar.gz && rm -rf OmicsLonDA.buildbin-libdir && mkdir OmicsLonDA.buildbin-libdir && C:\Users\biocbuild\bbs-3.14-bioc\R\bin\R.exe CMD INSTALL --merge-multiarch --build --library=OmicsLonDA.buildbin-libdir OmicsLonDA_1.10.0.tar.gz && C:\Users\biocbuild\bbs-3.14-bioc\R\bin\R.exe CMD INSTALL OmicsLonDA_1.10.0.zip && rm OmicsLonDA_1.10.0.tar.gz OmicsLonDA_1.10.0.zip
###
##############################################################################
##############################################################################
  % Total    % Received % Xferd  Average Speed   Time    Time     Time  Current
                                 Dload  Upload   Total   Spent    Left  Speed
  0     0    0     0    0     0      0      0 --:--:-- --:--:-- --:--:--     0
 62 4558k   62 2871k    0     0  3350k      0  0:00:01 --:--:--  0:00:01 3350k
100 4558k  100 4558k    0     0  3822k      0  0:00:01  0:00:01 --:--:-- 3824k
install for i386
* installing *source* package 'OmicsLonDA' ...
** using staged installation
** R
** data
*** moving datasets to lazyload DB
** byte-compile and prepare package for lazy loading
** help
*** installing help indices
  converting help for package 'OmicsLonDA'
    finding HTML links ... done
    adjustBaseline                          html  
    curveFitting                            html  
    findSigInterval                         html  
    omicslonda                              html  
    omicslonda_data_example                 html  
    permutationMC                           html  
    testStat                                html  
    testStatPermutation                     html  
    visualizeArea                           html  
    visualizeFeature                        html  
    visualizeFeatureSpline                  html  
    visualizeTestStatHistogram              html  
** building package indices
** installing vignettes
** testing if installed package can be loaded from temporary location
** testing if installed package can be loaded from final location
** testing if installed package keeps a record of temporary installation path
install for x64
* installing *source* package 'OmicsLonDA' ...
** testing if installed package can be loaded
* MD5 sums
packaged installation of 'OmicsLonDA' as OmicsLonDA_1.10.0.zip
* DONE (OmicsLonDA)
* installing to library 'C:/Users/biocbuild/bbs-3.14-bioc/R/library'
package 'OmicsLonDA' successfully unpacked and MD5 sums checked