| Back to Multiple platform build/check report for BioC 3.14 |
|
This page was generated on 2022-04-13 12:05:43 -0400 (Wed, 13 Apr 2022).
| Hostname | OS | Arch (*) | R version | Installed pkgs |
|---|---|---|---|---|
| nebbiolo2 | Linux (Ubuntu 20.04.4 LTS) | x86_64 | 4.1.3 (2022-03-10) -- "One Push-Up" | 4324 |
| tokay2 | Windows Server 2012 R2 Standard | x64 | 4.1.3 (2022-03-10) -- "One Push-Up" | 4077 |
| machv2 | macOS 10.14.6 Mojave | x86_64 | 4.1.3 (2022-03-10) -- "One Push-Up" | 4137 |
| Click on any hostname to see more info about the system (e.g. compilers) (*) as reported by 'uname -p', except on Windows and Mac OS X | ||||
|
To the developers/maintainers of the OUTRIDER package: - Please allow up to 24 hours (and sometimes 48 hours) for your latest push to git@git.bioconductor.org:packages/OUTRIDER.git to reflect on this report. See How and When does the builder pull? When will my changes propagate? for more information. - Make sure to use the following settings in order to reproduce any error or warning you see on this page. |
| Package 1356/2083 | Hostname | OS / Arch | INSTALL | BUILD | CHECK | BUILD BIN | ||||||||
| OUTRIDER 1.12.0 (landing page) Christian Mertes
| nebbiolo2 | Linux (Ubuntu 20.04.4 LTS) / x86_64 | OK | OK | OK | |||||||||
| tokay2 | Windows Server 2012 R2 Standard / x64 | OK | OK | OK | OK | |||||||||
| machv2 | macOS 10.14.6 Mojave / x86_64 | OK | OK | OK | OK | |||||||||
| Package: OUTRIDER |
| Version: 1.12.0 |
| Command: /home/biocbuild/bbs-3.14-bioc/R/bin/R CMD check --install=check:OUTRIDER.install-out.txt --library=/home/biocbuild/bbs-3.14-bioc/R/library --no-vignettes --timings OUTRIDER_1.12.0.tar.gz |
| StartedAt: 2022-04-12 08:35:16 -0400 (Tue, 12 Apr 2022) |
| EndedAt: 2022-04-12 08:44:10 -0400 (Tue, 12 Apr 2022) |
| EllapsedTime: 534.1 seconds |
| RetCode: 0 |
| Status: OK |
| CheckDir: OUTRIDER.Rcheck |
| Warnings: 0 |
##############################################################################
##############################################################################
###
### Running command:
###
### /home/biocbuild/bbs-3.14-bioc/R/bin/R CMD check --install=check:OUTRIDER.install-out.txt --library=/home/biocbuild/bbs-3.14-bioc/R/library --no-vignettes --timings OUTRIDER_1.12.0.tar.gz
###
##############################################################################
##############################################################################
* using log directory ‘/home/biocbuild/bbs-3.14-bioc/meat/OUTRIDER.Rcheck’
* using R version 4.1.3 (2022-03-10)
* using platform: x86_64-pc-linux-gnu (64-bit)
* using session charset: UTF-8
* using option ‘--no-vignettes’
* checking for file ‘OUTRIDER/DESCRIPTION’ ... OK
* checking extension type ... Package
* this is package ‘OUTRIDER’ version ‘1.12.0’
* package encoding: UTF-8
* checking package namespace information ... OK
* checking package dependencies ... OK
* checking if this is a source package ... OK
* checking if there is a namespace ... OK
* checking for hidden files and directories ... OK
* checking for portable file names ... OK
* checking for sufficient/correct file permissions ... OK
* checking whether package ‘OUTRIDER’ can be installed ... OK
* checking installed package size ... OK
* checking package directory ... OK
* checking ‘build’ directory ... OK
* checking DESCRIPTION meta-information ... OK
* checking top-level files ... OK
* checking for left-over files ... OK
* checking index information ... OK
* checking package subdirectories ... OK
* checking R files for non-ASCII characters ... OK
* checking R files for syntax errors ... OK
* checking whether the package can be loaded ... OK
* checking whether the package can be loaded with stated dependencies ... OK
* checking whether the package can be unloaded cleanly ... OK
* checking whether the namespace can be loaded with stated dependencies ... OK
* checking whether the namespace can be unloaded cleanly ... OK
* checking dependencies in R code ... NOTE
Namespace in Imports field not imported from: ‘Rcpp’
All declared Imports should be used.
* checking S3 generic/method consistency ... OK
* checking replacement functions ... OK
* checking foreign function calls ... OK
* checking R code for possible problems ... OK
* checking Rd files ... OK
* checking Rd metadata ... OK
* checking Rd cross-references ... OK
* checking for missing documentation entries ... OK
* checking for code/documentation mismatches ... OK
* checking Rd \usage sections ... OK
* checking Rd contents ... OK
* checking for unstated dependencies in examples ... OK
* checking line endings in C/C++/Fortran sources/headers ... OK
* checking line endings in Makefiles ... OK
* checking compilation flags in Makevars ... OK
* checking for GNU extensions in Makefiles ... OK
* checking for portable use of $(BLAS_LIBS) and $(LAPACK_LIBS) ... OK
* checking use of PKG_*FLAGS in Makefiles ... OK
* checking compiled code ... NOTE
Note: information on .o files is not available
* checking files in ‘vignettes’ ... OK
* checking examples ... OK
Examples with CPU (user + system) or elapsed time > 5s
user system elapsed
findEncodingDim 19.313 0.107 19.422
plotFunctions 10.728 0.467 11.137
aberrant 6.543 1.408 3.975
OUTRIDER 5.921 0.926 6.212
getter_setter_functions 5.562 0.032 5.594
* checking for unstated dependencies in ‘tests’ ... OK
* checking tests ...
Running ‘testthat.R’
OK
* checking for unstated dependencies in vignettes ... OK
* checking package vignettes in ‘inst/doc’ ... OK
* checking running R code from vignettes ... SKIPPED
* checking re-building of vignette outputs ... SKIPPED
* checking PDF version of manual ... OK
* DONE
Status: 2 NOTEs
See
‘/home/biocbuild/bbs-3.14-bioc/meat/OUTRIDER.Rcheck/00check.log’
for details.
OUTRIDER.Rcheck/00install.out
############################################################################## ############################################################################## ### ### Running command: ### ### /home/biocbuild/bbs-3.14-bioc/R/bin/R CMD INSTALL OUTRIDER ### ############################################################################## ############################################################################## * installing to library ‘/home/biocbuild/bbs-3.14-bioc/R/library’ * installing *source* package ‘OUTRIDER’ ... ** using staged installation ** libs g++ -std=gnu++11 -I"/home/biocbuild/bbs-3.14-bioc/R/include" -DNDEBUG -I'/home/biocbuild/bbs-3.14-bioc/R/library/Rcpp/include' -I'/home/biocbuild/bbs-3.14-bioc/R/library/RcppArmadillo/include' -I/usr/local/include -fopenmp -DARMA_DONT_USE_OPENMP -fpic -g -O2 -Wall -c RcppExports.cpp -o RcppExports.o g++ -std=gnu++11 -I"/home/biocbuild/bbs-3.14-bioc/R/include" -DNDEBUG -I'/home/biocbuild/bbs-3.14-bioc/R/library/Rcpp/include' -I'/home/biocbuild/bbs-3.14-bioc/R/library/RcppArmadillo/include' -I/usr/local/include -fopenmp -DARMA_DONT_USE_OPENMP -fpic -g -O2 -Wall -c loss_n_gradient_functions.cpp -o loss_n_gradient_functions.o g++ -std=gnu++11 -shared -L/home/biocbuild/bbs-3.14-bioc/R/lib -L/usr/local/lib -o OUTRIDER.so RcppExports.o loss_n_gradient_functions.o -fopenmp -L/home/biocbuild/bbs-3.14-bioc/R/lib -lRlapack -L/home/biocbuild/bbs-3.14-bioc/R/lib -lRblas -lgfortran -lm -lquadmath -L/home/biocbuild/bbs-3.14-bioc/R/lib -lR installing to /home/biocbuild/bbs-3.14-bioc/R/library/00LOCK-OUTRIDER/00new/OUTRIDER/libs ** R ** inst ** byte-compile and prepare package for lazy loading ** help *** installing help indices ** building package indices ** installing vignettes ** testing if installed package can be loaded from temporary location ** checking absolute paths in shared objects and dynamic libraries ** testing if installed package can be loaded from final location ** testing if installed package keeps a record of temporary installation path * DONE (OUTRIDER)
OUTRIDER.Rcheck/tests/testthat.Rout
R version 4.1.3 (2022-03-10) -- "One Push-Up"
Copyright (C) 2022 The R Foundation for Statistical Computing
Platform: x86_64-pc-linux-gnu (64-bit)
R is free software and comes with ABSOLUTELY NO WARRANTY.
You are welcome to redistribute it under certain conditions.
Type 'license()' or 'licence()' for distribution details.
R is a collaborative project with many contributors.
Type 'contributors()' for more information and
'citation()' on how to cite R or R packages in publications.
Type 'demo()' for some demos, 'help()' for on-line help, or
'help.start()' for an HTML browser interface to help.
Type 'q()' to quit R.
> library(testthat)
> library(OUTRIDER)
Loading required package: BiocParallel
Loading required package: GenomicFeatures
Loading required package: BiocGenerics
Attaching package: 'BiocGenerics'
The following objects are masked from 'package:stats':
IQR, mad, sd, var, xtabs
The following objects are masked from 'package:base':
Filter, Find, Map, Position, Reduce, anyDuplicated, append,
as.data.frame, basename, cbind, colnames, dirname, do.call,
duplicated, eval, evalq, get, grep, grepl, intersect, is.unsorted,
lapply, mapply, match, mget, order, paste, pmax, pmax.int, pmin,
pmin.int, rank, rbind, rownames, sapply, setdiff, sort, table,
tapply, union, unique, unsplit, which.max, which.min
Loading required package: S4Vectors
Loading required package: stats4
Attaching package: 'S4Vectors'
The following objects are masked from 'package:base':
I, expand.grid, unname
Loading required package: IRanges
Loading required package: GenomeInfoDb
Loading required package: GenomicRanges
Loading required package: AnnotationDbi
Loading required package: Biobase
Welcome to Bioconductor
Vignettes contain introductory material; view with
'browseVignettes()'. To cite Bioconductor, see
'citation("Biobase")', and for packages 'citation("pkgname")'.
Loading required package: SummarizedExperiment
Loading required package: MatrixGenerics
Loading required package: matrixStats
Attaching package: 'matrixStats'
The following objects are masked from 'package:Biobase':
anyMissing, rowMedians
Attaching package: 'MatrixGenerics'
The following objects are masked from 'package:matrixStats':
colAlls, colAnyNAs, colAnys, colAvgsPerRowSet, colCollapse,
colCounts, colCummaxs, colCummins, colCumprods, colCumsums,
colDiffs, colIQRDiffs, colIQRs, colLogSumExps, colMadDiffs,
colMads, colMaxs, colMeans2, colMedians, colMins, colOrderStats,
colProds, colQuantiles, colRanges, colRanks, colSdDiffs, colSds,
colSums2, colTabulates, colVarDiffs, colVars, colWeightedMads,
colWeightedMeans, colWeightedMedians, colWeightedSds,
colWeightedVars, rowAlls, rowAnyNAs, rowAnys, rowAvgsPerColSet,
rowCollapse, rowCounts, rowCummaxs, rowCummins, rowCumprods,
rowCumsums, rowDiffs, rowIQRDiffs, rowIQRs, rowLogSumExps,
rowMadDiffs, rowMads, rowMaxs, rowMeans2, rowMedians, rowMins,
rowOrderStats, rowProds, rowQuantiles, rowRanges, rowRanks,
rowSdDiffs, rowSds, rowSums2, rowTabulates, rowVarDiffs, rowVars,
rowWeightedMads, rowWeightedMeans, rowWeightedMedians,
rowWeightedSds, rowWeightedVars
The following object is masked from 'package:Biobase':
rowMedians
Loading required package: data.table
Attaching package: 'data.table'
The following object is masked from 'package:SummarizedExperiment':
shift
The following object is masked from 'package:GenomicRanges':
shift
The following object is masked from 'package:IRanges':
shift
The following objects are masked from 'package:S4Vectors':
first, second
>
> register(SerialParam())
>
> test_check("OUTRIDER")
[1] "Tue Apr 12 08:42:41 2022: Initial PCA loss: 6.29442097336206"
[1] "Tue Apr 12 08:42:43 2022: Iteration: 1 loss: 4.84322664614651"
[1] "Tue Apr 12 08:42:44 2022: Iteration: 2 loss: 4.77083155420699"
[1] "Tue Apr 12 08:42:46 2022: Iteration: 3 loss: 4.73040260767453"
[1] "Tue Apr 12 08:42:47 2022: Iteration: 4 loss: 4.69890647345276"
[1] "Tue Apr 12 08:42:48 2022: Iteration: 5 loss: 4.66925566960398"
[1] "Tue Apr 12 08:42:49 2022: Iteration: 6 loss: 4.64770857080641"
Time difference of 7.767116 secs
[1] "Tue Apr 12 08:42:49 2022: 6 Final nb-AE loss: 4.64770857080641"
[1] "Tue Apr 12 08:42:52 2022: Initial PCA loss: 6.29442097336206"
[1] "Tue Apr 12 08:42:54 2022: Iteration: 1 loss: 4.84322664614651"
[1] "Tue Apr 12 08:42:55 2022: Iteration: 2 loss: 4.77083155420699"
[1] "Tue Apr 12 08:42:57 2022: Iteration: 3 loss: 4.73040260767453"
[1] "Tue Apr 12 08:42:58 2022: Iteration: 4 loss: 4.69890647345276"
[1] "Tue Apr 12 08:42:59 2022: Iteration: 5 loss: 4.66925566960398"
[1] "Tue Apr 12 08:43:00 2022: Iteration: 6 loss: 4.64770857080641"
Time difference of 7.931434 secs
[1] "Tue Apr 12 08:43:00 2022: 6 Final nb-AE loss: 4.64770857080641"
class: OutriderDataSet
class: RangedSummarizedExperiment
dim: 100 50
metadata(1): version
assays(1): counts
rownames(100): ENSG00000223972.4 ENSG00000227232.4 ...
ENSG00000107404.13 ENSG00000162576.12
rowData names(0):
colnames(50): GTEX.UPK5.0426.SM.3GAEK GTEX.WFG7.2026.SM.3GIL7 ...
GTEX.11UD2.2526.SM.5CVNU GTEX.13O61.1426.SM.5KM3D
colData names(1): sampleID
[1] "Tue Apr 12 08:43:20 2022: Initial PCA loss: 4.46917476651758"
[1] "Tue Apr 12 08:43:22 2022: Iteration: 1 loss: 4.1587137155416"
[1] "Tue Apr 12 08:43:23 2022: Iteration: 2 loss: 4.14337398119054"
Time difference of 2.665909 secs
[1] "Tue Apr 12 08:43:23 2022: 2 Final nb-AE loss: 4.14337398119054"
[1] "Evaluation loss: 0.646480249253234 for q=3"
[1] "Tue Apr 12 08:43:25 2022: Initial PCA loss: 4.43609869118045"
[1] "Tue Apr 12 08:43:27 2022: Iteration: 1 loss: 4.07196574008315"
[1] "Tue Apr 12 08:43:28 2022: Iteration: 2 loss: 4.04911532574721"
Time difference of 2.557463 secs
[1] "Tue Apr 12 08:43:28 2022: 2 Final nb-AE loss: 4.04911532574721"
[1] "Evaluation loss: 0.549646918486002 for q=4"
[1] "Tue Apr 12 08:43:30 2022: Initial PCA loss: 4.41196105579027"
[1] "Tue Apr 12 08:43:32 2022: Iteration: 1 loss: 3.99248335767075"
[1] "Tue Apr 12 08:43:33 2022: Iteration: 2 loss: 3.96718261106014"
Time difference of 2.578659 secs
[1] "Tue Apr 12 08:43:33 2022: 2 Final nb-AE loss: 3.96718261106014"
[1] "Evaluation loss: 0.50314929599485 for q=5"
[1] "Tue Apr 12 08:43:47 2022: Initial PCA loss: 6.46616282459584"
[1] "Tue Apr 12 08:43:50 2022: Iteration: 1 loss: 4.8154560320664"
[1] "Tue Apr 12 08:43:51 2022: Iteration: 2 loss: 4.78986580095756"
Time difference of 2.938973 secs
[1] "Tue Apr 12 08:43:51 2022: 2 Final nb-AE loss: 4.78986580095756"
[ FAIL 0 | WARN 33 | SKIP 0 | PASS 103 ]
[ FAIL 0 | WARN 33 | SKIP 0 | PASS 103 ]
>
> proc.time()
user system elapsed
99.976 1.597 101.476
OUTRIDER.Rcheck/OUTRIDER-Ex.timings
| name | user | system | elapsed | |
| OUTRIDER | 5.921 | 0.926 | 6.212 | |
| OutriderDataSet-class | 1.223 | 0.024 | 1.248 | |
| aberrant | 6.543 | 1.408 | 3.975 | |
| computeGeneLength | 1.817 | 0.112 | 1.929 | |
| computeLatentSpace | 1.402 | 0.052 | 1.454 | |
| computePvalues | 2.006 | 0.713 | 1.988 | |
| computeZscores | 1.696 | 0.048 | 1.743 | |
| controlForConfounders | 1.878 | 0.015 | 1.894 | |
| counts | 0.984 | 0.001 | 0.984 | |
| estimateBestQ | 0.675 | 0.000 | 0.676 | |
| filterExpression | 2.101 | 0.012 | 2.114 | |
| findEncodingDim | 19.313 | 0.107 | 19.422 | |
| fit | 1.293 | 0.028 | 1.322 | |
| fpkm | 1.282 | 0.028 | 1.310 | |
| getter_setter_functions | 5.562 | 0.032 | 5.594 | |
| makeExampleOutriderDataSet | 1.875 | 0.000 | 1.875 | |
| normalizationFactors | 1.243 | 0.000 | 1.243 | |
| plotFunctions | 10.728 | 0.467 | 11.137 | |
| results | 4.912 | 0.020 | 4.932 | |
| sampleExclusionMask | 0.766 | 0.004 | 0.770 | |
| sizeFactors | 1.156 | 0.000 | 1.156 | |