| Back to Multiple platform build/check report for BioC 3.14 |
|
This page was generated on 2022-04-13 12:05:43 -0400 (Wed, 13 Apr 2022).
| Hostname | OS | Arch (*) | R version | Installed pkgs |
|---|---|---|---|---|
| nebbiolo2 | Linux (Ubuntu 20.04.4 LTS) | x86_64 | 4.1.3 (2022-03-10) -- "One Push-Up" | 4324 |
| tokay2 | Windows Server 2012 R2 Standard | x64 | 4.1.3 (2022-03-10) -- "One Push-Up" | 4077 |
| machv2 | macOS 10.14.6 Mojave | x86_64 | 4.1.3 (2022-03-10) -- "One Push-Up" | 4137 |
| Click on any hostname to see more info about the system (e.g. compilers) (*) as reported by 'uname -p', except on Windows and Mac OS X | ||||
|
To the developers/maintainers of the OTUbase package: - Please allow up to 24 hours (and sometimes 48 hours) for your latest push to git@git.bioconductor.org:packages/OTUbase.git to reflect on this report. See How and When does the builder pull? When will my changes propagate? for more information. - Make sure to use the following settings in order to reproduce any error or warning you see on this page. |
| Package 1355/2083 | Hostname | OS / Arch | INSTALL | BUILD | CHECK | BUILD BIN | ||||||||
| OTUbase 1.44.0 (landing page) Daniel Beck
| nebbiolo2 | Linux (Ubuntu 20.04.4 LTS) / x86_64 | OK | OK | OK | |||||||||
| tokay2 | Windows Server 2012 R2 Standard / x64 | OK | OK | OK | OK | |||||||||
| machv2 | macOS 10.14.6 Mojave / x86_64 | OK | OK | OK | OK | |||||||||
| Package: OTUbase |
| Version: 1.44.0 |
| Command: /home/biocbuild/bbs-3.14-bioc/R/bin/R CMD check --install=check:OTUbase.install-out.txt --library=/home/biocbuild/bbs-3.14-bioc/R/library --no-vignettes --timings OTUbase_1.44.0.tar.gz |
| StartedAt: 2022-04-12 08:35:01 -0400 (Tue, 12 Apr 2022) |
| EndedAt: 2022-04-12 08:38:14 -0400 (Tue, 12 Apr 2022) |
| EllapsedTime: 192.9 seconds |
| RetCode: 0 |
| Status: OK |
| CheckDir: OTUbase.Rcheck |
| Warnings: 0 |
##############################################################################
##############################################################################
###
### Running command:
###
### /home/biocbuild/bbs-3.14-bioc/R/bin/R CMD check --install=check:OTUbase.install-out.txt --library=/home/biocbuild/bbs-3.14-bioc/R/library --no-vignettes --timings OTUbase_1.44.0.tar.gz
###
##############################################################################
##############################################################################
* using log directory ‘/home/biocbuild/bbs-3.14-bioc/meat/OTUbase.Rcheck’
* using R version 4.1.3 (2022-03-10)
* using platform: x86_64-pc-linux-gnu (64-bit)
* using session charset: UTF-8
* using option ‘--no-vignettes’
* checking for file ‘OTUbase/DESCRIPTION’ ... OK
* checking extension type ... Package
* this is package ‘OTUbase’ version ‘1.44.0’
* checking package namespace information ... OK
* checking package dependencies ... OK
* checking if this is a source package ... OK
* checking if there is a namespace ... OK
* checking for hidden files and directories ... OK
* checking for portable file names ... OK
* checking for sufficient/correct file permissions ... OK
* checking whether package ‘OTUbase’ can be installed ... OK
* checking installed package size ... OK
* checking package directory ... OK
* checking ‘build’ directory ... OK
* checking DESCRIPTION meta-information ... NOTE
Malformed Description field: should contain one or more complete sentences.
* checking top-level files ... OK
* checking for left-over files ... OK
* checking index information ... OK
* checking package subdirectories ... OK
* checking R files for non-ASCII characters ... OK
* checking R files for syntax errors ... OK
* checking whether the package can be loaded ... OK
* checking whether the package can be loaded with stated dependencies ... OK
* checking whether the package can be unloaded cleanly ... OK
* checking whether the namespace can be loaded with stated dependencies ... OK
* checking whether the namespace can be unloaded cleanly ... OK
* checking dependencies in R code ... NOTE
Package in Depends field not imported from: ‘vegan’
These packages need to be imported from (in the NAMESPACE file)
for when this namespace is loaded but not attached.
* checking S3 generic/method consistency ... OK
* checking replacement functions ... OK
* checking foreign function calls ... OK
* checking R code for possible problems ... NOTE
.onAttach: warning in packageDescription("OTUbase", field = "Version"):
partial argument match of 'field' to 'fields'
.readADF: warning in read.table(file.path(dirPath, ADF), sep = "\t",
head = T): partial argument match of 'head' to 'header'
.readRDP: warning in read.table(file.path(dirPath, ADF), head = F, sep
= "\t", stringsAsFactors = F): partial argument match of 'head' to
'header'
.readrdpfix: warning in read.table(file.path(dirPath, rdpfile), head =
F, stringsAsFactors = F, sep = "\t"): partial argument match of
'head' to 'header'
readTAXset: warning in read.table(file.path(dirPath, namefile), head =
F, stringsAsFactors = F, sep = "\t"): partial argument match of
'head' to 'header'
o_diversity: no visible global function definition for ‘diversity’
o_estimateR : <anonymous>: no visible global function definition for
‘estimateR’
clusterSamples,.OTUset: no visible global function definition for
‘vegdist’
clusterSamples,.TAXset: no visible global function definition for
‘vegdist’
Undefined global functions or variables:
diversity estimateR vegdist
* checking Rd files ... OK
* checking Rd metadata ... OK
* checking Rd cross-references ... OK
* checking for missing documentation entries ... OK
* checking for code/documentation mismatches ... OK
* checking Rd \usage sections ... OK
* checking Rd contents ... OK
* checking for unstated dependencies in examples ... OK
* checking files in ‘vignettes’ ... OK
* checking examples ... OK
* checking for unstated dependencies in vignettes ... OK
* checking package vignettes in ‘inst/doc’ ... OK
* checking running R code from vignettes ... SKIPPED
* checking re-building of vignette outputs ... SKIPPED
* checking PDF version of manual ... OK
* DONE
Status: 3 NOTEs
See
‘/home/biocbuild/bbs-3.14-bioc/meat/OTUbase.Rcheck/00check.log’
for details.
OTUbase.Rcheck/00install.out
############################################################################## ############################################################################## ### ### Running command: ### ### /home/biocbuild/bbs-3.14-bioc/R/bin/R CMD INSTALL OTUbase ### ############################################################################## ############################################################################## * installing to library ‘/home/biocbuild/bbs-3.14-bioc/R/library’ * installing *source* package ‘OTUbase’ ... ** using staged installation ** R ** inst ** byte-compile and prepare package for lazy loading ** help *** installing help indices ** building package indices ** installing vignettes ** testing if installed package can be loaded from temporary location ** testing if installed package can be loaded from final location ** testing if installed package keeps a record of temporary installation path * DONE (OTUbase)
OTUbase.Rcheck/OTUbase-Ex.timings
| name | user | system | elapsed | |
| OTUset-class | 0.531 | 0.140 | 1.630 | |
| TAXset-class | 0.544 | 0.052 | 1.290 | |
| abundance | 0.277 | 0.037 | 0.501 | |
| accessors | 0.135 | 0.011 | 0.279 | |
| assignmentData | 0.118 | 0.000 | 0.247 | |
| clusterSamples | 0.156 | 0.004 | 0.330 | |
| other_functions | 0.13 | 0.00 | 0.25 | |
| other_generics | 0.114 | 0.059 | 0.205 | |
| readOTUset | 0.133 | 0.000 | 0.133 | |
| readTAXset | 0.088 | 0.019 | 0.209 | |
| sampleData | 0.114 | 0.016 | 0.172 | |
| subOTUset | 0.144 | 0.015 | 0.275 | |
| subTAXset | 0.147 | 0.048 | 0.407 | |