| Back to Multiple platform build/check report for BioC 3.14 |
|
This page was generated on 2022-04-13 12:07:00 -0400 (Wed, 13 Apr 2022).
| Hostname | OS | Arch (*) | R version | Installed pkgs |
|---|---|---|---|---|
| nebbiolo2 | Linux (Ubuntu 20.04.4 LTS) | x86_64 | 4.1.3 (2022-03-10) -- "One Push-Up" | 4324 |
| tokay2 | Windows Server 2012 R2 Standard | x64 | 4.1.3 (2022-03-10) -- "One Push-Up" | 4077 |
| machv2 | macOS 10.14.6 Mojave | x86_64 | 4.1.3 (2022-03-10) -- "One Push-Up" | 4137 |
| Click on any hostname to see more info about the system (e.g. compilers) (*) as reported by 'uname -p', except on Windows and Mac OS X | ||||
|
To the developers/maintainers of the NewWave package: - Please allow up to 24 hours (and sometimes 48 hours) for your latest push to git@git.bioconductor.org:packages/NewWave.git to reflect on this report. See How and When does the builder pull? When will my changes propagate? for more information. - Make sure to use the following settings in order to reproduce any error or warning you see on this page. |
| Package 1294/2083 | Hostname | OS / Arch | INSTALL | BUILD | CHECK | BUILD BIN | ||||||||
| NewWave 1.4.0 (landing page) Federico Agostinis
| nebbiolo2 | Linux (Ubuntu 20.04.4 LTS) / x86_64 | OK | OK | OK | |||||||||
| tokay2 | Windows Server 2012 R2 Standard / x64 | OK | OK | OK | OK | |||||||||
| machv2 | macOS 10.14.6 Mojave / x86_64 | OK | OK | OK | OK | |||||||||
| Package: NewWave |
| Version: 1.4.0 |
| Command: rm -rf NewWave.buildbin-libdir && mkdir NewWave.buildbin-libdir && C:\Users\biocbuild\bbs-3.14-bioc\R\bin\R.exe CMD INSTALL --merge-multiarch --build --library=NewWave.buildbin-libdir NewWave_1.4.0.tar.gz |
| StartedAt: 2022-04-13 06:43:04 -0400 (Wed, 13 Apr 2022) |
| EndedAt: 2022-04-13 06:43:49 -0400 (Wed, 13 Apr 2022) |
| EllapsedTime: 45.4 seconds |
| RetCode: 0 |
| Status: OK |
| PackageFile: NewWave_1.4.0.zip |
| PackageFileSize: 425.5 KiB |
##############################################################################
##############################################################################
###
### Running command:
###
### rm -rf NewWave.buildbin-libdir && mkdir NewWave.buildbin-libdir && C:\Users\biocbuild\bbs-3.14-bioc\R\bin\R.exe CMD INSTALL --merge-multiarch --build --library=NewWave.buildbin-libdir NewWave_1.4.0.tar.gz
###
##############################################################################
##############################################################################
install for i386
* installing *source* package 'NewWave' ...
** using staged installation
** R
** inst
** byte-compile and prepare package for lazy loading
** help
*** installing help indices
converting help for package 'NewWave'
finding HTML links ... done
delayed_initialization html
delayed_optimization html
initialization html
nb.loglik.matrix html
newAIC html
newAlpha html
newBIC html
newBeta html
newEpsilon_W html
newEpsilon_alpha html
newEpsilon_beta html
newEpsilon_gamma html
newEpsilon_zeta html
newFit html
newGamma html
newLogMu html
newMu html
newPhi html
newSim html
newTheta html
newV html
newW html
newWave html
newX html
newZeta html
newloglik html
newmodel-class html
newmodel html
newpenalty html
numberFactors html
numberFeatures html
numberParams html
numberSamples html
optimization html
setup html
** building package indices
** installing vignettes
** testing if installed package can be loaded from temporary location
** testing if installed package can be loaded from final location
** testing if installed package keeps a record of temporary installation path
install for x64
* installing *source* package 'NewWave' ...
** testing if installed package can be loaded
* MD5 sums
packaged installation of 'NewWave' as NewWave_1.4.0.zip
* DONE (NewWave)