| Back to Multiple platform build/check report for BioC 3.14 |
|
This page was generated on 2022-04-13 12:08:25 -0400 (Wed, 13 Apr 2022).
| Hostname | OS | Arch (*) | R version | Installed pkgs |
|---|---|---|---|---|
| nebbiolo2 | Linux (Ubuntu 20.04.4 LTS) | x86_64 | 4.1.3 (2022-03-10) -- "One Push-Up" | 4324 |
| tokay2 | Windows Server 2012 R2 Standard | x64 | 4.1.3 (2022-03-10) -- "One Push-Up" | 4077 |
| machv2 | macOS 10.14.6 Mojave | x86_64 | 4.1.3 (2022-03-10) -- "One Push-Up" | 4137 |
| Click on any hostname to see more info about the system (e.g. compilers) (*) as reported by 'uname -p', except on Windows and Mac OS X | ||||
|
To the developers/maintainers of the NanoMethViz package: - Please allow up to 24 hours (and sometimes 48 hours) for your latest push to git@git.bioconductor.org:packages/NanoMethViz.git to reflect on this report. See How and When does the builder pull? When will my changes propagate? for more information. - Make sure to use the following settings in order to reproduce any error or warning you see on this page. |
| Package 1264/2083 | Hostname | OS / Arch | INSTALL | BUILD | CHECK | BUILD BIN | ||||||||
| NanoMethViz 2.0.0 (landing page) Shian Su
| nebbiolo2 | Linux (Ubuntu 20.04.4 LTS) / x86_64 | OK | OK | OK | |||||||||
| tokay2 | Windows Server 2012 R2 Standard / x64 | OK | OK | OK | OK | |||||||||
| machv2 | macOS 10.14.6 Mojave / x86_64 | OK | OK | OK | OK | |||||||||
| Package: NanoMethViz |
| Version: 2.0.0 |
| Command: /Library/Frameworks/R.framework/Resources/bin/R CMD check --install=check:NanoMethViz.install-out.txt --library=/Library/Frameworks/R.framework/Resources/library --no-vignettes --timings NanoMethViz_2.0.0.tar.gz |
| StartedAt: 2022-04-12 16:00:44 -0400 (Tue, 12 Apr 2022) |
| EndedAt: 2022-04-12 16:11:07 -0400 (Tue, 12 Apr 2022) |
| EllapsedTime: 622.7 seconds |
| RetCode: 0 |
| Status: OK |
| CheckDir: NanoMethViz.Rcheck |
| Warnings: 0 |
##############################################################################
##############################################################################
###
### Running command:
###
### /Library/Frameworks/R.framework/Resources/bin/R CMD check --install=check:NanoMethViz.install-out.txt --library=/Library/Frameworks/R.framework/Resources/library --no-vignettes --timings NanoMethViz_2.0.0.tar.gz
###
##############################################################################
##############################################################################
* using log directory ‘/Users/biocbuild/bbs-3.14-bioc/meat/NanoMethViz.Rcheck’
* using R version 4.1.3 (2022-03-10)
* using platform: x86_64-apple-darwin17.0 (64-bit)
* using session charset: UTF-8
* using option ‘--no-vignettes’
* checking for file ‘NanoMethViz/DESCRIPTION’ ... OK
* checking extension type ... Package
* this is package ‘NanoMethViz’ version ‘2.0.0’
* package encoding: UTF-8
* checking package namespace information ... OK
* checking package dependencies ... OK
* checking if this is a source package ... OK
* checking if there is a namespace ... OK
* checking for hidden files and directories ... OK
* checking for portable file names ... OK
* checking for sufficient/correct file permissions ... OK
* checking whether package ‘NanoMethViz’ can be installed ... OK
* checking installed package size ... OK
* checking package directory ... OK
* checking ‘build’ directory ... OK
* checking DESCRIPTION meta-information ... OK
* checking top-level files ... OK
* checking for left-over files ... OK
* checking index information ... OK
* checking package subdirectories ... OK
* checking R files for non-ASCII characters ... OK
* checking R files for syntax errors ... OK
* checking whether the package can be loaded ... OK
* checking whether the package can be loaded with stated dependencies ... OK
* checking whether the package can be unloaded cleanly ... OK
* checking whether the namespace can be loaded with stated dependencies ... OK
* checking whether the namespace can be unloaded cleanly ... OK
* checking dependencies in R code ... NOTE
'library' or 'require' calls in package code:
‘Homo.sapiens’ ‘Mus.musculus’
Please use :: or requireNamespace() instead.
See section 'Suggested packages' in the 'Writing R Extensions' manual.
Namespace in Imports field not imported from: ‘ggthemes’
All declared Imports should be used.
* checking S3 generic/method consistency ... OK
* checking replacement functions ... OK
* checking foreign function calls ... OK
* checking R code for possible problems ... NOTE
karyogram: no visible global function definition for ‘binMeans’
karyogram: no visible binding for global variable ‘pos’
karyogram: no visible binding for global variable ‘methy_prop’
karyogram: no visible global function definition for ‘geom_tile’
karyogram: no visible global function definition for ‘theme’
karyogram: no visible global function definition for ‘margin’
karyogram: no visible global function definition for ‘ggtitle’
Undefined global functions or variables:
binMeans geom_tile ggtitle margin methy_prop pos theme
* checking Rd files ... OK
* checking Rd metadata ... OK
* checking Rd cross-references ... OK
* checking for missing documentation entries ... OK
* checking for code/documentation mismatches ... OK
* checking Rd \usage sections ... OK
* checking Rd contents ... OK
* checking for unstated dependencies in examples ... OK
* checking line endings in C/C++/Fortran sources/headers ... OK
* checking use of PKG_*FLAGS in Makefiles ... OK
* checking compiled code ... NOTE
Note: information on .o files is not available
* checking files in ‘vignettes’ ... OK
* checking examples ... OK
Examples with CPU (user + system) or elapsed time > 5s
user system elapsed
get_exons_homo_sapiens 22.556 1.099 23.674
get_exons_mus_musculus 21.402 0.912 22.335
plot_region_heatmap 19.938 0.126 20.091
plot_gene_heatmap 18.851 0.141 19.013
plot_agg_regions 11.615 0.191 11.817
plot_grange_heatmap 10.169 0.082 10.259
NanoMethResult-class 6.821 0.746 7.577
* checking for unstated dependencies in ‘tests’ ... OK
* checking tests ...
Running ‘testthat.R’
OK
* checking for unstated dependencies in vignettes ... OK
* checking package vignettes in ‘inst/doc’ ... OK
* checking running R code from vignettes ... SKIPPED
* checking re-building of vignette outputs ... SKIPPED
* checking PDF version of manual ... OK
* DONE
Status: 3 NOTEs
See
‘/Users/biocbuild/bbs-3.14-bioc/meat/NanoMethViz.Rcheck/00check.log’
for details.
NanoMethViz.Rcheck/00install.out
############################################################################## ############################################################################## ### ### Running command: ### ### /Library/Frameworks/R.framework/Resources/bin/R CMD INSTALL NanoMethViz ### ############################################################################## ############################################################################## * installing to library ‘/Library/Frameworks/R.framework/Versions/4.1/Resources/library’ * installing *source* package ‘NanoMethViz’ ... ** using staged installation ** libs clang++ -mmacosx-version-min=10.13 -std=gnu++11 -I"/Library/Frameworks/R.framework/Resources/include" -DNDEBUG -I'/Library/Frameworks/R.framework/Versions/4.1/Resources/library/Rcpp/include' -I/usr/local/include -fPIC -Wall -g -O2 -c RcppExports.cpp -o RcppExports.o clang++ -mmacosx-version-min=10.13 -std=gnu++11 -I"/Library/Frameworks/R.framework/Resources/include" -DNDEBUG -I'/Library/Frameworks/R.framework/Versions/4.1/Resources/library/Rcpp/include' -I/usr/local/include -fPIC -Wall -g -O2 -c convert_methy_to_dss.cpp -o convert_methy_to_dss.o clang++ -mmacosx-version-min=10.13 -std=gnu++11 -I"/Library/Frameworks/R.framework/Resources/include" -DNDEBUG -I'/Library/Frameworks/R.framework/Versions/4.1/Resources/library/Rcpp/include' -I/usr/local/include -fPIC -Wall -g -O2 -c utils.cpp -o utils.o clang++ -mmacosx-version-min=10.13 -std=gnu++11 -dynamiclib -Wl,-headerpad_max_install_names -undefined dynamic_lookup -single_module -multiply_defined suppress -L/Library/Frameworks/R.framework/Resources/lib -L/usr/local/lib -o NanoMethViz.so RcppExports.o convert_methy_to_dss.o utils.o -F/Library/Frameworks/R.framework/.. -framework R -Wl,-framework -Wl,CoreFoundation installing to /Library/Frameworks/R.framework/Versions/4.1/Resources/library/00LOCK-NanoMethViz/00new/NanoMethViz/libs ** R ** inst ** byte-compile and prepare package for lazy loading ** help *** installing help indices ** building package indices ** installing vignettes ** testing if installed package can be loaded from temporary location ** checking absolute paths in shared objects and dynamic libraries ** testing if installed package can be loaded from final location ** testing if installed package keeps a record of temporary installation path * DONE (NanoMethViz)
NanoMethViz.Rcheck/tests/testthat.Rout
R version 4.1.3 (2022-03-10) -- "One Push-Up"
Copyright (C) 2022 The R Foundation for Statistical Computing
Platform: x86_64-apple-darwin17.0 (64-bit)
R is free software and comes with ABSOLUTELY NO WARRANTY.
You are welcome to redistribute it under certain conditions.
Type 'license()' or 'licence()' for distribution details.
R is a collaborative project with many contributors.
Type 'contributors()' for more information and
'citation()' on how to cite R or R packages in publications.
Type 'demo()' for some demos, 'help()' for on-line help, or
'help.start()' for an HTML browser interface to help.
Type 'q()' to quit R.
> library(testthat)
> library(NanoMethViz)
Loading required package: ggplot2
>
> test_check("NanoMethViz")
Loading required package: Mus.musculus
Loading required package: AnnotationDbi
Loading required package: stats4
Loading required package: BiocGenerics
Attaching package: 'BiocGenerics'
The following objects are masked from 'package:stats':
IQR, mad, sd, var, xtabs
The following objects are masked from 'package:base':
Filter, Find, Map, Position, Reduce, anyDuplicated, append,
as.data.frame, basename, cbind, colnames, dirname, do.call,
duplicated, eval, evalq, get, grep, grepl, intersect, is.unsorted,
lapply, mapply, match, mget, order, paste, pmax, pmax.int, pmin,
pmin.int, rank, rbind, rownames, sapply, setdiff, sort, table,
tapply, union, unique, unsplit, which.max, which.min
Loading required package: Biobase
Welcome to Bioconductor
Vignettes contain introductory material; view with
'browseVignettes()'. To cite Bioconductor, see
'citation("Biobase")', and for packages 'citation("pkgname")'.
Attaching package: 'Biobase'
The following object is masked from 'package:NanoMethViz':
samples
Loading required package: IRanges
Loading required package: S4Vectors
Attaching package: 'S4Vectors'
The following objects are masked from 'package:base':
I, expand.grid, unname
Loading required package: OrganismDbi
Loading required package: GenomicFeatures
Loading required package: GenomeInfoDb
Loading required package: GenomicRanges
Attaching package: 'GenomicFeatures'
The following object is masked from 'package:NanoMethViz':
exons
Loading required package: GO.db
Loading required package: org.Mm.eg.db
Loading required package: TxDb.Mmusculus.UCSC.mm10.knownGene
[2022-04-12 16:09:45] creating intermediate files...
[2022-04-12 16:09:45] parsing chr11...
[2022-04-12 16:09:45] parsing chr12...
[2022-04-12 16:09:45] parsing chr18...
[2022-04-12 16:09:45] parsing chr5...
[2022-04-12 16:09:45] parsing chr7...
[2022-04-12 16:09:46] parsing chrX...
[2022-04-12 16:09:46] samples found: B6Cast_Prom_3_cast B6Cast_Prom_2_bl6 B6Cast_Prom_3_bl6 B6Cast_Prom_1_cast B6Cast_Prom_2_cast B6Cast_Prom_1_bl6
[2022-04-12 16:09:46] creating bsseq object...
[2022-04-12 16:09:46] reading in parsed data...
[2022-04-12 16:09:46] constructing matrices...
[2022-04-12 16:09:46] done
[2022-04-12 16:09:46] creating intermediate files...
[2022-04-12 16:09:46] parsing chr11...
[2022-04-12 16:09:47] parsing chr12...
[2022-04-12 16:09:47] parsing chr18...
[2022-04-12 16:09:47] parsing chr5...
[2022-04-12 16:09:47] parsing chr7...
[2022-04-12 16:09:47] parsing chrX...
[2022-04-12 16:09:47] samples found: B6Cast_Prom_3_cast B6Cast_Prom_2_bl6 B6Cast_Prom_3_bl6 B6Cast_Prom_1_cast B6Cast_Prom_2_cast B6Cast_Prom_1_bl6
[2022-04-12 16:09:47] creating bsseq object...
[2022-04-12 16:09:47] reading in parsed data...
[2022-04-12 16:09:47] constructing matrices...
[2022-04-12 16:09:49] done
[2022-04-12 16:09:49] creating intermediate files...
[2022-04-12 16:09:49] parsing chr11...
[2022-04-12 16:09:50] parsing chr12...
[2022-04-12 16:09:50] parsing chr18...
[2022-04-12 16:09:50] parsing chr5...
[2022-04-12 16:09:50] parsing chr7...
[2022-04-12 16:09:50] parsing chrX...
[2022-04-12 16:09:50] samples found: B6Cast_Prom_3_cast B6Cast_Prom_2_bl6 B6Cast_Prom_3_bl6 B6Cast_Prom_1_cast B6Cast_Prom_2_cast B6Cast_Prom_1_bl6
[2022-04-12 16:09:50] creating bsseq object...
[2022-04-12 16:09:50] reading in parsed data...
[2022-04-12 16:09:50] constructing matrices...
[2022-04-12 16:09:51] done
processing /Library/Frameworks/R.framework/Versions/4.1/Resources/library/NanoMethViz/sample1_nanopolish.tsv.gz...
guessing file is produced by nanopolish...
processing /Library/Frameworks/R.framework/Versions/4.1/Resources/library/NanoMethViz/sample2_nanopolish.tsv.gz...
guessing file is produced by nanopolish...
[2022-04-12 16:10:55] sorting methylation table
[2022-04-12 16:10:55] compressing methylation table to tabix with index
[2022-04-12 16:10:55] creating intermediate files...
[2022-04-12 16:10:55] parsing chr1...
[2022-04-12 16:10:55] parsing chr2...
[2022-04-12 16:10:55] parsing chr3...
[2022-04-12 16:10:55] parsing chr4...
[2022-04-12 16:10:55] parsing chr5...
[2022-04-12 16:10:55] parsing chr6...
[2022-04-12 16:10:55] parsing chr7...
[2022-04-12 16:10:55] parsing chr8...
[2022-04-12 16:10:55] parsing chr9...
[2022-04-12 16:10:55] parsing chr10...
[2022-04-12 16:10:55] parsing chr11...
[2022-04-12 16:10:55] parsing chr12...
[2022-04-12 16:10:55] parsing chr13...
[2022-04-12 16:10:55] parsing chr14...
[2022-04-12 16:10:55] parsing chr15...
[2022-04-12 16:10:55] parsing chr16...
[2022-04-12 16:10:55] parsing chr17...
[2022-04-12 16:10:55] parsing chr18...
[2022-04-12 16:10:55] parsing chr19...
[2022-04-12 16:10:55] parsing chrM...
[2022-04-12 16:10:55] parsing chrX...
[2022-04-12 16:10:55] parsing chrY...
[2022-04-12 16:10:55] samples found: B6Cast_Prom_3_cast B6Cast_Prom_2_bl6 B6Cast_Prom_3_bl6 B6Cast_Prom_1_cast B6Cast_Prom_2_cast B6Cast_Prom_1_bl6 sample1_nanopolish.tsv sample2_nanopolish.tsv
[2022-04-12 16:10:55] creating bsseq object...
[2022-04-12 16:10:55] reading in parsed data...
[2022-04-12 16:10:56] constructing matrices...
[2022-04-12 16:10:56] done
processing /Library/Frameworks/R.framework/Versions/4.1/Resources/library/NanoMethViz/megalodon_calls.txt.gz...
guessing file is produced by megalodon...
[2022-04-12 16:10:56] sorting methylation table
[2022-04-12 16:10:56] compressing methylation table to tabix with index
[ FAIL 0 | WARN 0 | SKIP 0 | PASS 43 ]
>
> proc.time()
user system elapsed
96.663 2.437 98.823
NanoMethViz.Rcheck/NanoMethViz-Ex.timings
| name | user | system | elapsed | |
| NanoMethResult-class | 6.821 | 0.746 | 7.577 | |
| bsseq_to_edger | 1.551 | 0.076 | 1.624 | |
| bsseq_to_log_methy_ratio | 2.662 | 0.082 | 2.659 | |
| create_tabix_file | 0.249 | 0.026 | 0.277 | |
| exons | 0.004 | 0.001 | 0.004 | |
| exons_to_genes | 1.751 | 0.029 | 1.780 | |
| get_example_exons_mus_musculus | 0.850 | 0.025 | 0.875 | |
| get_exons_homo_sapiens | 22.556 | 1.099 | 23.674 | |
| get_exons_mus_musculus | 21.402 | 0.912 | 22.335 | |
| load_example_nanomethresult | 0.925 | 0.030 | 0.956 | |
| methy | 0.001 | 0.000 | 0.001 | |
| methy_col_names | 0 | 0 | 0 | |
| methy_to_bsseq | 2.385 | 0.100 | 2.363 | |
| plot_agg_regions | 11.615 | 0.191 | 11.817 | |
| plot_gene | 4.083 | 0.062 | 4.150 | |
| plot_gene_heatmap | 18.851 | 0.141 | 19.013 | |
| plot_grange | 2.498 | 0.054 | 2.554 | |
| plot_grange_heatmap | 10.169 | 0.082 | 10.259 | |
| plot_mds | 2.955 | 0.093 | 2.896 | |
| plot_pca | 2.923 | 0.085 | 2.831 | |
| plot_region | 4.196 | 0.128 | 4.329 | |
| plot_region_heatmap | 19.938 | 0.126 | 20.091 | |
| query_methy | 1.176 | 0.029 | 1.206 | |
| samples | 0.001 | 0.000 | 0.001 | |