| Back to Multiple platform build/check report for BioC 3.14 |
|
This page was generated on 2022-04-13 12:07:00 -0400 (Wed, 13 Apr 2022).
| Hostname | OS | Arch (*) | R version | Installed pkgs |
|---|---|---|---|---|
| nebbiolo2 | Linux (Ubuntu 20.04.4 LTS) | x86_64 | 4.1.3 (2022-03-10) -- "One Push-Up" | 4324 |
| tokay2 | Windows Server 2012 R2 Standard | x64 | 4.1.3 (2022-03-10) -- "One Push-Up" | 4077 |
| machv2 | macOS 10.14.6 Mojave | x86_64 | 4.1.3 (2022-03-10) -- "One Push-Up" | 4137 |
| Click on any hostname to see more info about the system (e.g. compilers) (*) as reported by 'uname -p', except on Windows and Mac OS X | ||||
|
To the developers/maintainers of the NOISeq package: - Please allow up to 24 hours (and sometimes 48 hours) for your latest push to git@git.bioconductor.org:packages/NOISeq.git to reflect on this report. See How and When does the builder pull? When will my changes propagate? for more information. - Make sure to use the following settings in order to reproduce any error or warning you see on this page. |
| Package 1297/2083 | Hostname | OS / Arch | INSTALL | BUILD | CHECK | BUILD BIN | ||||||||
| NOISeq 2.38.0 (landing page) Sonia Tarazona
| nebbiolo2 | Linux (Ubuntu 20.04.4 LTS) / x86_64 | OK | OK | OK | |||||||||
| tokay2 | Windows Server 2012 R2 Standard / x64 | OK | OK | OK | OK | |||||||||
| machv2 | macOS 10.14.6 Mojave / x86_64 | OK | OK | OK | OK | |||||||||
| Package: NOISeq |
| Version: 2.38.0 |
| Command: rm -rf NOISeq.buildbin-libdir && mkdir NOISeq.buildbin-libdir && C:\Users\biocbuild\bbs-3.14-bioc\R\bin\R.exe CMD INSTALL --merge-multiarch --build --library=NOISeq.buildbin-libdir NOISeq_2.38.0.tar.gz |
| StartedAt: 2022-04-13 06:43:19 -0400 (Wed, 13 Apr 2022) |
| EndedAt: 2022-04-13 06:43:46 -0400 (Wed, 13 Apr 2022) |
| EllapsedTime: 26.9 seconds |
| RetCode: 0 |
| Status: OK |
| PackageFile: NOISeq_2.38.0.zip |
| PackageFileSize: 2.371 MiB |
##############################################################################
##############################################################################
###
### Running command:
###
### rm -rf NOISeq.buildbin-libdir && mkdir NOISeq.buildbin-libdir && C:\Users\biocbuild\bbs-3.14-bioc\R\bin\R.exe CMD INSTALL --merge-multiarch --build --library=NOISeq.buildbin-libdir NOISeq_2.38.0.tar.gz
###
##############################################################################
##############################################################################
install for i386
* installing *source* package 'NOISeq' ...
** using staged installation
** R
** data
** inst
** byte-compile and prepare package for lazy loading
** help
*** installing help indices
converting help for package 'NOISeq'
finding HTML links ... done
ARSyNSeq html
REDIRECT:topic Previous alias or file overwritten by alias: C:/Users/biocbuild/bbs-3.14-bioc/meat/NOISeq.buildbin-libdir/00LOCK-NOISeq/00new/NOISeq/help/arsynseq.html
Biodetection html
CD html
CountsBio html
DE.plot html
GCcontentBias html
LengthBias html
Marioni html
Output html
PCA.GENES html
PCA html
QCreport html
Saturation html
REDIRECT:topic Previous alias or file overwritten by alias: C:/Users/biocbuild/bbs-3.14-bioc/meat/NOISeq.buildbin-libdir/00LOCK-NOISeq/00new/NOISeq/help/saturation.html
dat html
dat2save html
degenes html
example html
explo.plot html
filter.low.counts html
myCounts html
REDIRECT:topic Previous alias or file overwritten by alias: C:/Users/biocbuild/bbs-3.14-bioc/meat/NOISeq.buildbin-libdir/00LOCK-NOISeq/00new/NOISeq/help/myCounts.html
noiseq html
noiseqbio html
normalization html
readData html
** building package indices
** installing vignettes
** testing if installed package can be loaded from temporary location
** testing if installed package can be loaded from final location
** testing if installed package keeps a record of temporary installation path
install for x64
* installing *source* package 'NOISeq' ...
** testing if installed package can be loaded
* MD5 sums
packaged installation of 'NOISeq' as NOISeq_2.38.0.zip
* DONE (NOISeq)