| Back to Multiple platform build/check report for BioC 3.14 |
|
This page was generated on 2022-04-13 12:06:57 -0400 (Wed, 13 Apr 2022).
| Hostname | OS | Arch (*) | R version | Installed pkgs |
|---|---|---|---|---|
| nebbiolo2 | Linux (Ubuntu 20.04.4 LTS) | x86_64 | 4.1.3 (2022-03-10) -- "One Push-Up" | 4324 |
| tokay2 | Windows Server 2012 R2 Standard | x64 | 4.1.3 (2022-03-10) -- "One Push-Up" | 4077 |
| machv2 | macOS 10.14.6 Mojave | x86_64 | 4.1.3 (2022-03-10) -- "One Push-Up" | 4137 |
| Click on any hostname to see more info about the system (e.g. compilers) (*) as reported by 'uname -p', except on Windows and Mac OS X | ||||
|
To the developers/maintainers of the Mulcom package: - Please allow up to 24 hours (and sometimes 48 hours) for your latest push to git@git.bioconductor.org:packages/Mulcom.git to reflect on this report. See How and When does the builder pull? When will my changes propagate? for more information. - Make sure to use the following settings in order to reproduce any error or warning you see on this page. |
| Package 1237/2083 | Hostname | OS / Arch | INSTALL | BUILD | CHECK | BUILD BIN | ||||||||
| Mulcom 1.44.0 (landing page) Claudio Isella
| nebbiolo2 | Linux (Ubuntu 20.04.4 LTS) / x86_64 | OK | OK | WARNINGS | |||||||||
| tokay2 | Windows Server 2012 R2 Standard / x64 | OK | OK | WARNINGS | OK | |||||||||
| machv2 | macOS 10.14.6 Mojave / x86_64 | OK | OK | WARNINGS | OK | |||||||||
| Package: Mulcom |
| Version: 1.44.0 |
| Command: rm -rf Mulcom.buildbin-libdir && mkdir Mulcom.buildbin-libdir && C:\Users\biocbuild\bbs-3.14-bioc\R\bin\R.exe CMD INSTALL --merge-multiarch --build --library=Mulcom.buildbin-libdir Mulcom_1.44.0.tar.gz |
| StartedAt: 2022-04-13 06:40:20 -0400 (Wed, 13 Apr 2022) |
| EndedAt: 2022-04-13 06:40:42 -0400 (Wed, 13 Apr 2022) |
| EllapsedTime: 21.7 seconds |
| RetCode: 0 |
| Status: OK |
| PackageFile: Mulcom_1.44.0.zip |
| PackageFileSize: 1.819 MiB |
##############################################################################
##############################################################################
###
### Running command:
###
### rm -rf Mulcom.buildbin-libdir && mkdir Mulcom.buildbin-libdir && C:\Users\biocbuild\bbs-3.14-bioc\R\bin\R.exe CMD INSTALL --merge-multiarch --build --library=Mulcom.buildbin-libdir Mulcom_1.44.0.tar.gz
###
##############################################################################
##############################################################################
install for i386
* installing *source* package 'Mulcom' ...
** using staged installation
** libs
"C:/rtools40/mingw32/bin/"g++ -std=gnu++11 -I"C:/Users/BIOCBU~1/BBS-3~1.14-/R/include" -DNDEBUG -I"C:/extsoft/include" -O2 -Wall -mfpmath=sse -msse2 -mstackrealign -c mulLibs.cc -o mulLibs.o
mulLibs.cc: In function 'void Single_SimulationC(double*, double*, double*, double*, double*, double*, int*, int*, int*, int*, int*)':
mulLibs.cc:708:33: warning: statement has no effect [-Wunused-value]
current_cluster ;
^
mulLibs.cc: In function 'void Complete_SimulationC(double*, int*, double*, double*, int*, int*, int*, int*, int*)':
mulLibs.cc:1022:38: warning: comparison of integer expressions of different signedness: 'int' and 'std::vector<double>::size_type' {aka 'unsigned int'} [-Wsign-compare]
for ( int i = 0 ; i < sss2.size() ; i++ ) {
~~^~~~~~~~~~~~~
mulLibs.cc:1023:46: warning: comparison of integer expressions of different signedness: 'int' and 'std::vector<double>::size_type' {aka 'unsigned int'} [-Wsign-compare]
for ( int j = 0 ; j < harmonic_means.size() ; j++ ) {
~~^~~~~~~~~~~~~~~~~~~~~~~
C:/rtools40/mingw32/bin/g++ -std=gnu++11 -shared -s -static-libgcc -o Mulcom.dll tmp.def mulLibs.o -LC:/extsoft/lib/i386 -LC:/extsoft/lib -LC:/Users/BIOCBU~1/BBS-3~1.14-/R/bin/i386 -lR
installing to C:/Users/biocbuild/bbs-3.14-bioc/meat/Mulcom.buildbin-libdir/00LOCK-Mulcom/00new/Mulcom/libs/i386
** R
** data
** inst
** byte-compile and prepare package for lazy loading
** help
*** installing help indices
converting help for package 'Mulcom'
finding HTML links ... done
Affy html
AffyIlmn html
Illumina html
Ilmn html
MULCOM-class html
MULCOM_P html
harmonicMean html
limmaAffySymbols html
limmaIlmnSymbols html
mulCAND html
mulCalc html
mulDELTA html
mulDiff html
mulFSG html
mulIndex html
mulInt html
mulMSE html
mulOpt html
mulOptPars html
mulOptPlot html
mulParOpt html
mulPerm html
mulPermC html
mulSSE html
mulScores html
mulcomGeneListIlmn html
samAffySymbols html
samIlmnSymbols html
samOptPars html
** building package indices
** installing vignettes
** testing if installed package can be loaded from temporary location
** testing if installed package can be loaded from final location
** testing if installed package keeps a record of temporary installation path
install for x64
* installing *source* package 'Mulcom' ...
** libs
"C:/rtools40/mingw64/bin/"g++ -std=gnu++11 -I"C:/Users/BIOCBU~1/BBS-3~1.14-/R/include" -DNDEBUG -I"C:/extsoft/include" -O2 -Wall -mfpmath=sse -msse2 -mstackrealign -c mulLibs.cc -o mulLibs.o
mulLibs.cc: In function 'void Single_SimulationC(double*, double*, double*, double*, double*, double*, int*, int*, int*, int*, int*)':
mulLibs.cc:708:33: warning: statement has no effect [-Wunused-value]
current_cluster ;
^
mulLibs.cc: In function 'void Complete_SimulationC(double*, int*, double*, double*, int*, int*, int*, int*, int*)':
mulLibs.cc:1022:38: warning: comparison of integer expressions of different signedness: 'int' and 'std::vector<double>::size_type' {aka 'long long unsigned int'} [-Wsign-compare]
for ( int i = 0 ; i < sss2.size() ; i++ ) {
~~^~~~~~~~~~~~~
mulLibs.cc:1023:46: warning: comparison of integer expressions of different signedness: 'int' and 'std::vector<double>::size_type' {aka 'long long unsigned int'} [-Wsign-compare]
for ( int j = 0 ; j < harmonic_means.size() ; j++ ) {
~~^~~~~~~~~~~~~~~~~~~~~~~
C:/rtools40/mingw64/bin/g++ -std=gnu++11 -shared -s -static-libgcc -o Mulcom.dll tmp.def mulLibs.o -LC:/extsoft/lib/x64 -LC:/extsoft/lib -LC:/Users/BIOCBU~1/BBS-3~1.14-/R/bin/x64 -lR
installing to C:/Users/biocbuild/bbs-3.14-bioc/meat/Mulcom.buildbin-libdir/Mulcom/libs/x64
** testing if installed package can be loaded
* MD5 sums
packaged installation of 'Mulcom' as Mulcom_1.44.0.zip
* DONE (Mulcom)