| Back to Multiple platform build/check report for BioC 3.14 |
|
This page was generated on 2022-04-13 12:06:53 -0400 (Wed, 13 Apr 2022).
| Hostname | OS | Arch (*) | R version | Installed pkgs |
|---|---|---|---|---|
| nebbiolo2 | Linux (Ubuntu 20.04.4 LTS) | x86_64 | 4.1.3 (2022-03-10) -- "One Push-Up" | 4324 |
| tokay2 | Windows Server 2012 R2 Standard | x64 | 4.1.3 (2022-03-10) -- "One Push-Up" | 4077 |
| machv2 | macOS 10.14.6 Mojave | x86_64 | 4.1.3 (2022-03-10) -- "One Push-Up" | 4137 |
| Click on any hostname to see more info about the system (e.g. compilers) (*) as reported by 'uname -p', except on Windows and Mac OS X | ||||
|
To the developers/maintainers of the Mfuzz package: - Please allow up to 24 hours (and sometimes 48 hours) for your latest push to git@git.bioconductor.org:packages/Mfuzz.git to reflect on this report. See How and When does the builder pull? When will my changes propagate? for more information. - Make sure to use the following settings in order to reproduce any error or warning you see on this page. |
| Package 1133/2083 | Hostname | OS / Arch | INSTALL | BUILD | CHECK | BUILD BIN | ||||||||
| Mfuzz 2.54.0 (landing page) Matthias Futschik
| nebbiolo2 | Linux (Ubuntu 20.04.4 LTS) / x86_64 | OK | OK | OK | |||||||||
| tokay2 | Windows Server 2012 R2 Standard / x64 | OK | OK | OK | OK | |||||||||
| machv2 | macOS 10.14.6 Mojave / x86_64 | OK | OK | OK | OK | |||||||||
| Package: Mfuzz |
| Version: 2.54.0 |
| Command: rm -rf Mfuzz.buildbin-libdir && mkdir Mfuzz.buildbin-libdir && C:\Users\biocbuild\bbs-3.14-bioc\R\bin\R.exe CMD INSTALL --merge-multiarch --build --library=Mfuzz.buildbin-libdir Mfuzz_2.54.0.tar.gz |
| StartedAt: 2022-04-13 06:35:41 -0400 (Wed, 13 Apr 2022) |
| EndedAt: 2022-04-13 06:35:58 -0400 (Wed, 13 Apr 2022) |
| EllapsedTime: 17.1 seconds |
| RetCode: 0 |
| Status: OK |
| PackageFile: Mfuzz_2.54.0.zip |
| PackageFileSize: 782.2 KiB |
##############################################################################
##############################################################################
###
### Running command:
###
### rm -rf Mfuzz.buildbin-libdir && mkdir Mfuzz.buildbin-libdir && C:\Users\biocbuild\bbs-3.14-bioc\R\bin\R.exe CMD INSTALL --merge-multiarch --build --library=Mfuzz.buildbin-libdir Mfuzz_2.54.0.tar.gz
###
##############################################################################
##############################################################################
install for i386
* installing *source* package 'Mfuzz' ...
** using staged installation
** R
** data
** inst
** byte-compile and prepare package for lazy loading
** help
*** installing help indices
converting help for package 'Mfuzz'
finding HTML links ... done
Dmin html
Mfuzzgui html
acore html
cselection html
fill.NA html
filter.NA html
filter.std html
kmeans2 html
kmeans2.plot html
membership html
mestimate html
mfuzz html
mfuzz.plot html
mfuzz.plot2 html
mfuzzColorBar html
overlap html
overlap.plot html
partcoef html
randomise html
standardise html
standardise2 html
table2eset html
top.count html
yeast html
yeast.table html
yeast.table2 html
** building package indices
** installing vignettes
** testing if installed package can be loaded from temporary location
** testing if installed package can be loaded from final location
** testing if installed package keeps a record of temporary installation path
install for x64
* installing *source* package 'Mfuzz' ...
** testing if installed package can be loaded
* MD5 sums
packaged installation of 'Mfuzz' as Mfuzz_2.54.0.zip
* DONE (Mfuzz)