| Back to Multiple platform build/check report for BioC 3.14 | 
  | 
This page was generated on 2022-04-13 12:06:50 -0400 (Wed, 13 Apr 2022).
| Hostname | OS | Arch (*) | R version | Installed pkgs | 
|---|---|---|---|---|
| nebbiolo2 | Linux (Ubuntu 20.04.4 LTS) | x86_64 | 4.1.3 (2022-03-10) -- "One Push-Up" | 4324 | 
| tokay2 | Windows Server 2012 R2 Standard | x64 | 4.1.3 (2022-03-10) -- "One Push-Up" | 4077 | 
| machv2 | macOS 10.14.6 Mojave | x86_64 | 4.1.3 (2022-03-10) -- "One Push-Up" | 4137 | 
| Click on any hostname to see more info about the system (e.g. compilers) (*) as reported by 'uname -p', except on Windows and Mac OS X | ||||
| 
To the developers/maintainers of the MatrixQCvis package: - Please allow up to 24 hours (and sometimes 48 hours) for your latest push to git@git.bioconductor.org:packages/MatrixQCvis.git to reflect on this report. See How and When does the builder pull? When will my changes propagate? for more information. - Make sure to use the following settings in order to reproduce any error or warning you see on this page.  | 
| Package 1058/2083 | Hostname | OS / Arch | INSTALL | BUILD | CHECK | BUILD BIN | ||||||||
| MatrixQCvis 1.2.4  (landing page) Thomas Naake 
  | nebbiolo2 | Linux (Ubuntu 20.04.4 LTS) / x86_64 | OK | OK | OK | |||||||||
| tokay2 | Windows Server 2012 R2 Standard / x64 | OK | OK | OK | OK | |||||||||
| machv2 | macOS 10.14.6 Mojave / x86_64 | OK | OK | OK | OK | |||||||||
| Package: MatrixQCvis | 
| Version: 1.2.4 | 
| Command: rm -rf MatrixQCvis.buildbin-libdir && mkdir MatrixQCvis.buildbin-libdir && C:\Users\biocbuild\bbs-3.14-bioc\R\bin\R.exe CMD INSTALL --merge-multiarch --build --library=MatrixQCvis.buildbin-libdir MatrixQCvis_1.2.4.tar.gz | 
| StartedAt: 2022-04-13 06:31:39 -0400 (Wed, 13 Apr 2022) | 
| EndedAt: 2022-04-13 06:32:28 -0400 (Wed, 13 Apr 2022) | 
| EllapsedTime: 48.9 seconds | 
| RetCode: 0 | 
| Status: OK | 
| PackageFile: MatrixQCvis_1.2.4.zip | 
| PackageFileSize: 1.504 MiB | 
##############################################################################
##############################################################################
###
### Running command:
###
###   rm -rf MatrixQCvis.buildbin-libdir && mkdir MatrixQCvis.buildbin-libdir && C:\Users\biocbuild\bbs-3.14-bioc\R\bin\R.exe CMD INSTALL --merge-multiarch --build --library=MatrixQCvis.buildbin-libdir MatrixQCvis_1.2.4.tar.gz
###
##############################################################################
##############################################################################
install for i386
* installing *source* package 'MatrixQCvis' ...
** using staged installation
** R
** inst
** byte-compile and prepare package for lazy loading
** help
*** installing help indices
  converting help for package 'MatrixQCvis'
    finding HTML links ... done
    ECDF                                    html  
    MAplot                                  html  
    MAvalues                                html  
    barplot_samples_memi                    html  
    batchCorrectionAssay                    html  
    biocrates                               html  
    createDfFeature                         html  
    create_boxplot                          html  
    cv                                      html  
    cvFeaturePlot                           html  
    distSample                              html  
    distShiny                               html  
    driftPlot                               html  
    explVar                                 html  
    extractComb                             html  
    featurePlot                             html  
    hist_feature                            html  
    hist_feature_category                   html  
    hist_sample                             html  
    hist_sample_num                         html  
    hoeffDPlot                              html  
    hoeffDValues                            html  
    imputeAssay                             html  
    maxQuant                                html  
    measured_category                       html  
    mosaic                                  html  
    normalizeAssay                          html  
    ordination                              html  
    ordinationPlot                          html  
    permuteExplVar                          html  
    plotCV                                  html  
    plotPCALoadings                         html  
    plotPCAVar                              html  
    plotPCAVarPvalue                        html  
    samples_memi                            html  
    shinyQC                                 html  
    sumDistSample                           html  
    tblPCALoadings                          html  
    transformAssay                          html  
    upset_category                          html  
    volcanoPlot                             html  
** building package indices
** installing vignettes
** testing if installed package can be loaded from temporary location
** testing if installed package can be loaded from final location
** testing if installed package keeps a record of temporary installation path
install for x64
* installing *source* package 'MatrixQCvis' ...
** testing if installed package can be loaded
* MD5 sums
packaged installation of 'MatrixQCvis' as MatrixQCvis_1.2.4.zip
* DONE (MatrixQCvis)