| Back to Multiple platform build/check report for BioC 3.14 |
|
This page was generated on 2022-04-13 12:06:57 -0400 (Wed, 13 Apr 2022).
| Hostname | OS | Arch (*) | R version | Installed pkgs |
|---|---|---|---|---|
| nebbiolo2 | Linux (Ubuntu 20.04.4 LTS) | x86_64 | 4.1.3 (2022-03-10) -- "One Push-Up" | 4324 |
| tokay2 | Windows Server 2012 R2 Standard | x64 | 4.1.3 (2022-03-10) -- "One Push-Up" | 4077 |
| machv2 | macOS 10.14.6 Mojave | x86_64 | 4.1.3 (2022-03-10) -- "One Push-Up" | 4137 |
| Click on any hostname to see more info about the system (e.g. compilers) (*) as reported by 'uname -p', except on Windows and Mac OS X | ||||
|
To the developers/maintainers of the MSstatsConvert package: - Please allow up to 24 hours (and sometimes 48 hours) for your latest push to git@git.bioconductor.org:packages/MSstatsConvert.git to reflect on this report. See How and When does the builder pull? When will my changes propagate? for more information. - Make sure to use the following settings in order to reproduce any error or warning you see on this page. |
| Package 1228/2083 | Hostname | OS / Arch | INSTALL | BUILD | CHECK | BUILD BIN | ||||||||
| MSstatsConvert 1.4.1 (landing page) Mateusz Staniak
| nebbiolo2 | Linux (Ubuntu 20.04.4 LTS) / x86_64 | OK | OK | WARNINGS | |||||||||
| tokay2 | Windows Server 2012 R2 Standard / x64 | OK | OK | WARNINGS | OK | |||||||||
| machv2 | macOS 10.14.6 Mojave / x86_64 | OK | OK | WARNINGS | OK | |||||||||
| Package: MSstatsConvert |
| Version: 1.4.1 |
| Command: rm -rf MSstatsConvert.buildbin-libdir && mkdir MSstatsConvert.buildbin-libdir && C:\Users\biocbuild\bbs-3.14-bioc\R\bin\R.exe CMD INSTALL --merge-multiarch --build --library=MSstatsConvert.buildbin-libdir MSstatsConvert_1.4.1.tar.gz |
| StartedAt: 2022-04-13 06:39:52 -0400 (Wed, 13 Apr 2022) |
| EndedAt: 2022-04-13 06:40:05 -0400 (Wed, 13 Apr 2022) |
| EllapsedTime: 13.3 seconds |
| RetCode: 0 |
| Status: OK |
| PackageFile: MSstatsConvert_1.4.1.zip |
| PackageFileSize: 898.6 KiB |
##############################################################################
##############################################################################
###
### Running command:
###
### rm -rf MSstatsConvert.buildbin-libdir && mkdir MSstatsConvert.buildbin-libdir && C:\Users\biocbuild\bbs-3.14-bioc\R\bin\R.exe CMD INSTALL --merge-multiarch --build --library=MSstatsConvert.buildbin-libdir MSstatsConvert_1.4.1.tar.gz
###
##############################################################################
##############################################################################
install for i386
* installing *source* package 'MSstatsConvert' ...
** using staged installation
** R
** inst
** byte-compile and prepare package for lazy loading
** help
*** installing help indices
converting help for package 'MSstatsConvert'
finding HTML links ... done
MSstatsBalancedDesign html
MSstatsClean html
MSstatsConvert html
MSstatsImport html
MSstatsInputFiles html
MSstatsLogsSettings html
MSstatsMakeAnnotation html
MSstatsPreprocess html
MSstatsSaveSessionInfo html
as.data.frame.MSstatsValidated html
as.data.table.MSstatsValidated html
dot-MSstatsFormat html
dot-addFractions html
dot-adjustIntensities html
dot-aggregatePSMstoPeptideIons html
dot-checkAnnotation html
dot-checkDDA html
dot-checkDuplicatedMeasurements html
dot-checkMSstatsParams html
dot-checkMultiRun html
dot-checkOverlappedFeatures html
dot-cleanByFeature html
dot-cleanRawDIAUmpire html
dot-cleanRawMaxQuant html
dot-cleanRawOpenMS html
dot-cleanRawOpenSWATH html
dot-cleanRawPD html
dot-cleanRawPDMSstats html
dot-cleanRawPDTMT html
dot-cleanRawPhilosopher html
dot-cleanRawProgenesis html
dot-cleanRawSkyline html
dot-cleanRawSpectroMineTMT html
dot-cleanRawSpectronaut html
dot-countCommonFeatures html
dot-fillValues html
dot-filterByPattern html
dot-filterByScore html
dot-filterExact html
dot-filterFewMeasurements html
dot-filterManyColumns html
dot-filterOverlapped html
dot-findAvailable html
dot-fixBasicColumns html
dot-fixColumnTypes html
dot-fixMissingValues html
dot-getChannelColumns html
dot-getCorrectFraction html
dot-getDataTable html
dot-getFullDesign html
dot-getMissingRunsPerFeature html
dot-getOverlappingFeatures html
dot-handleFiltering html
dot-handleFractions html
dot-handleFractionsLF html
dot-handleFractionsTMT html
dot-handleIsotopicPeaks html
dot-handleSharedPeptides html
dot-handleSingleFeaturePerProtein html
dot-logConverterOptions html
dot-logSuccess html
dot-makeBalancedDesign html
dot-makeExactFilterMessage html
dot-makeScoreFilterMessage html
dot-mergeAnnotation html
dot-nullAppender html
dot-onLoad html
dot-removeOverlappingFeatures html
dot-removeSharedPeptides html
dot-selectMSstatsColumns html
dot-standardizeColnames html
dot-summarizeMultipleMeasurements html
dot-summarizeMultiplePSMs html
getDataType html
getInputFile html
** building package indices
** installing vignettes
** testing if installed package can be loaded from temporary location
** testing if installed package can be loaded from final location
** testing if installed package keeps a record of temporary installation path
install for x64
* installing *source* package 'MSstatsConvert' ...
** testing if installed package can be loaded
* MD5 sums
packaged installation of 'MSstatsConvert' as MSstatsConvert_1.4.1.zip
* DONE (MSstatsConvert)