| Back to Multiple platform build/check report for BioC 3.14 |
|
This page was generated on 2022-04-13 12:06:54 -0400 (Wed, 13 Apr 2022).
| Hostname | OS | Arch (*) | R version | Installed pkgs |
|---|---|---|---|---|
| nebbiolo2 | Linux (Ubuntu 20.04.4 LTS) | x86_64 | 4.1.3 (2022-03-10) -- "One Push-Up" | 4324 |
| tokay2 | Windows Server 2012 R2 Standard | x64 | 4.1.3 (2022-03-10) -- "One Push-Up" | 4077 |
| machv2 | macOS 10.14.6 Mojave | x86_64 | 4.1.3 (2022-03-10) -- "One Push-Up" | 4137 |
| Click on any hostname to see more info about the system (e.g. compilers) (*) as reported by 'uname -p', except on Windows and Mac OS X | ||||
|
To the developers/maintainers of the MIGSA package: - Please allow up to 24 hours (and sometimes 48 hours) for your latest push to git@git.bioconductor.org:packages/MIGSA.git to reflect on this report. See How and When does the builder pull? When will my changes propagate? for more information. - Make sure to use the following settings in order to reproduce any error or warning you see on this page. |
| Package 1149/2083 | Hostname | OS / Arch | INSTALL | BUILD | CHECK | BUILD BIN | ||||||||
| MIGSA 1.18.0 (landing page) Juan C. Rodriguez
| nebbiolo2 | Linux (Ubuntu 20.04.4 LTS) / x86_64 | OK | OK | OK | |||||||||
| tokay2 | Windows Server 2012 R2 Standard / x64 | OK | OK | ERROR | OK | |||||||||
| machv2 | macOS 10.14.6 Mojave / x86_64 | OK | OK | OK | OK | |||||||||
| Package: MIGSA |
| Version: 1.18.0 |
| Command: rm -rf MIGSA.buildbin-libdir && mkdir MIGSA.buildbin-libdir && C:\Users\biocbuild\bbs-3.14-bioc\R\bin\R.exe CMD INSTALL --merge-multiarch --build --library=MIGSA.buildbin-libdir MIGSA_1.18.0.tar.gz |
| StartedAt: 2022-04-13 06:36:22 -0400 (Wed, 13 Apr 2022) |
| EndedAt: 2022-04-13 06:37:10 -0400 (Wed, 13 Apr 2022) |
| EllapsedTime: 48.3 seconds |
| RetCode: 0 |
| Status: OK |
| PackageFile: MIGSA_1.18.0.zip |
| PackageFileSize: 3.085 MiB |
##############################################################################
##############################################################################
###
### Running command:
###
### rm -rf MIGSA.buildbin-libdir && mkdir MIGSA.buildbin-libdir && C:\Users\biocbuild\bbs-3.14-bioc\R\bin\R.exe CMD INSTALL --merge-multiarch --build --library=MIGSA.buildbin-libdir MIGSA_1.18.0.tar.gz
###
##############################################################################
##############################################################################
install for i386
* installing *source* package 'MIGSA' ...
** using staged installation
** R
** data
** inst
** byte-compile and prepare package for lazy loading
** help
*** installing help indices
converting help for package 'MIGSA'
finding HTML links ... done
ExprData-class html
FitOptions-class html
GSEAparams-class html
Genesets-as.Genesets html
Genesets-enrichr html
Genesets-geneSetsFromFile html
Genesets-loadGo html
IGSAinput-class html
IGSAinput-getDEGenes html
IGSAinput-getterSetters html
REDIRECT:topic Previous alias or file overwritten by alias: C:/Users/biocbuild/bbs-3.14-bioc/meat/MIGSA.buildbin-libdir/00LOCK-MIGSA/00new/MIGSA/help/fitOptions.html
REDIRECT:topic Previous alias or file overwritten by alias: C:/Users/biocbuild/bbs-3.14-bioc/meat/MIGSA.buildbin-libdir/00LOCK-MIGSA/00new/MIGSA/help/gseaParams.html
MIGSA html
MIGSAPackage html
MIGSAmGSZ html
MIGSAres-GoAnalysis html
MIGSAres-class html
MIGSAres-common html
MIGSAres-genesManipulation html
MIGSAres-getAdditionalInfo html
MIGSAres-plots html
MIGSAres-setEnrCutoff html
SEAparams-class html
REDIRECT:topic Previous alias or file overwritten by alias: C:/Users/biocbuild/bbs-3.14-bioc/meat/MIGSA.buildbin-libdir/00LOCK-MIGSA/00new/MIGSA/help/SEAparams.html
bcMigsaRes html
migsaRes html
summaryFunctions html
** building package indices
** installing vignettes
** testing if installed package can be loaded from temporary location
** testing if installed package can be loaded from final location
** testing if installed package keeps a record of temporary installation path
install for x64
* installing *source* package 'MIGSA' ...
** testing if installed package can be loaded
* MD5 sums
packaged installation of 'MIGSA' as MIGSA_1.18.0.zip
* DONE (MIGSA)