| Back to Multiple platform build/check report for BioC 3.14 |
|
This page was generated on 2022-04-13 12:05:34 -0400 (Wed, 13 Apr 2022).
| Hostname | OS | Arch (*) | R version | Installed pkgs |
|---|---|---|---|---|
| nebbiolo2 | Linux (Ubuntu 20.04.4 LTS) | x86_64 | 4.1.3 (2022-03-10) -- "One Push-Up" | 4324 |
| tokay2 | Windows Server 2012 R2 Standard | x64 | 4.1.3 (2022-03-10) -- "One Push-Up" | 4077 |
| machv2 | macOS 10.14.6 Mojave | x86_64 | 4.1.3 (2022-03-10) -- "One Push-Up" | 4137 |
| Click on any hostname to see more info about the system (e.g. compilers) (*) as reported by 'uname -p', except on Windows and Mac OS X | ||||
|
To the developers/maintainers of the MBASED package: - Please allow up to 24 hours (and sometimes 48 hours) for your latest push to git@git.bioconductor.org:packages/MBASED.git to reflect on this report. See How and When does the builder pull? When will my changes propagate? for more information. - Make sure to use the following settings in order to reproduce any error or warning you see on this page. |
| Package 1062/2083 | Hostname | OS / Arch | INSTALL | BUILD | CHECK | BUILD BIN | ||||||||
| MBASED 1.28.0 (landing page) Oleg Mayba
| nebbiolo2 | Linux (Ubuntu 20.04.4 LTS) / x86_64 | OK | OK | OK | |||||||||
| tokay2 | Windows Server 2012 R2 Standard / x64 | OK | OK | OK | OK | |||||||||
| machv2 | macOS 10.14.6 Mojave / x86_64 | OK | OK | OK | OK | |||||||||
| Package: MBASED |
| Version: 1.28.0 |
| Command: /home/biocbuild/bbs-3.14-bioc/R/bin/R CMD check --install=check:MBASED.install-out.txt --library=/home/biocbuild/bbs-3.14-bioc/R/library --no-vignettes --timings MBASED_1.28.0.tar.gz |
| StartedAt: 2022-04-12 08:04:42 -0400 (Tue, 12 Apr 2022) |
| EndedAt: 2022-04-12 08:07:08 -0400 (Tue, 12 Apr 2022) |
| EllapsedTime: 146.6 seconds |
| RetCode: 0 |
| Status: OK |
| CheckDir: MBASED.Rcheck |
| Warnings: 0 |
##############################################################################
##############################################################################
###
### Running command:
###
### /home/biocbuild/bbs-3.14-bioc/R/bin/R CMD check --install=check:MBASED.install-out.txt --library=/home/biocbuild/bbs-3.14-bioc/R/library --no-vignettes --timings MBASED_1.28.0.tar.gz
###
##############################################################################
##############################################################################
* using log directory ‘/home/biocbuild/bbs-3.14-bioc/meat/MBASED.Rcheck’
* using R version 4.1.3 (2022-03-10)
* using platform: x86_64-pc-linux-gnu (64-bit)
* using session charset: UTF-8
* using option ‘--no-vignettes’
* checking for file ‘MBASED/DESCRIPTION’ ... OK
* checking extension type ... Package
* this is package ‘MBASED’ version ‘1.28.0’
* checking package namespace information ... OK
* checking package dependencies ... OK
* checking if this is a source package ... OK
* checking if there is a namespace ... OK
* checking for hidden files and directories ... OK
* checking for portable file names ... OK
* checking for sufficient/correct file permissions ... OK
* checking whether package ‘MBASED’ can be installed ... OK
* checking installed package size ... OK
* checking package directory ... OK
* checking ‘build’ directory ... OK
* checking DESCRIPTION meta-information ... OK
* checking top-level files ... OK
* checking for left-over files ... OK
* checking index information ... OK
* checking package subdirectories ... OK
* checking R files for non-ASCII characters ... OK
* checking R files for syntax errors ... OK
* checking whether the package can be loaded ... OK
* checking whether the package can be loaded with stated dependencies ... OK
* checking whether the package can be unloaded cleanly ... OK
* checking whether the namespace can be loaded with stated dependencies ... OK
* checking whether the namespace can be unloaded cleanly ... OK
* checking dependencies in R code ... OK
* checking S3 generic/method consistency ... OK
* checking replacement functions ... OK
* checking foreign function calls ... OK
* checking R code for possible problems ... NOTE
MBASEDMetaAnalysis: no visible global function definition for ‘pchisq’
MBASEDMetaAnalysis: no visible global function definition for ‘pnorm’
maxLogLikelihoodCalculator1s: no visible global function definition for
‘optimize’
maxLogLikelihoodCalculator2s: no visible global function definition for
‘optimize’
runMBASED: no visible global function definition for ‘is’
runMBASED1s: no visible global function definition for ‘is’
runMBASED2s: no visible global function definition for ‘is’
vectorizedRbetabinomAB: no visible global function definition for
‘rbeta’
vectorizedRbetabinomAB: no visible global function definition for
‘rbinom’
vectorizedRbetabinomMR: no visible global function definition for
‘rbeta’
vectorizedRbetabinomMR: no visible global function definition for
‘rbinom’
Undefined global functions or variables:
is optimize pchisq pnorm rbeta rbinom
Consider adding
importFrom("methods", "is")
importFrom("stats", "optimize", "pchisq", "pnorm", "rbeta", "rbinom")
to your NAMESPACE file (and ensure that your DESCRIPTION Imports field
contains 'methods').
* checking Rd files ... OK
* checking Rd metadata ... OK
* checking Rd cross-references ... OK
* checking for missing documentation entries ... OK
* checking for code/documentation mismatches ... OK
* checking Rd \usage sections ... OK
* checking Rd contents ... OK
* checking for unstated dependencies in examples ... OK
* checking files in ‘vignettes’ ... OK
* checking examples ... OK
* checking for unstated dependencies in ‘tests’ ... OK
* checking tests ...
Running ‘runTests.R’
OK
* checking for unstated dependencies in vignettes ... OK
* checking package vignettes in ‘inst/doc’ ... OK
* checking running R code from vignettes ... SKIPPED
* checking re-building of vignette outputs ... SKIPPED
* checking PDF version of manual ... OK
* DONE
Status: 1 NOTE
See
‘/home/biocbuild/bbs-3.14-bioc/meat/MBASED.Rcheck/00check.log’
for details.
MBASED.Rcheck/00install.out
############################################################################## ############################################################################## ### ### Running command: ### ### /home/biocbuild/bbs-3.14-bioc/R/bin/R CMD INSTALL MBASED ### ############################################################################## ############################################################################## * installing to library ‘/home/biocbuild/bbs-3.14-bioc/R/library’ * installing *source* package ‘MBASED’ ... ** using staged installation ** R ** inst ** byte-compile and prepare package for lazy loading ** help *** installing help indices ** building package indices ** installing vignettes ** testing if installed package can be loaded from temporary location ** testing if installed package can be loaded from final location ** testing if installed package keeps a record of temporary installation path * DONE (MBASED)
MBASED.Rcheck/tests/runTests.Rout
R version 4.1.3 (2022-03-10) -- "One Push-Up"
Copyright (C) 2022 The R Foundation for Statistical Computing
Platform: x86_64-pc-linux-gnu (64-bit)
R is free software and comes with ABSOLUTELY NO WARRANTY.
You are welcome to redistribute it under certain conditions.
Type 'license()' or 'licence()' for distribution details.
R is a collaborative project with many contributors.
Type 'contributors()' for more information and
'citation()' on how to cite R or R packages in publications.
Type 'demo()' for some demos, 'help()' for on-line help, or
'help.start()' for an HTML browser interface to help.
Type 'q()' to quit R.
> BiocGenerics:::testPackage("MBASED")
Attaching package: 'BiocGenerics'
The following objects are masked from 'package:stats':
IQR, mad, sd, var, xtabs
The following objects are masked from 'package:base':
Filter, Find, Map, Position, Reduce, anyDuplicated, append,
as.data.frame, basename, cbind, colnames, dirname, do.call,
duplicated, eval, evalq, get, grep, grepl, intersect, is.unsorted,
lapply, mapply, match, mget, order, paste, pmax, pmax.int, pmin,
pmin.int, rank, rbind, rownames, sapply, setdiff, sort, table,
tapply, union, unique, unsplit, which.max, which.min
Attaching package: 'S4Vectors'
The following objects are masked from 'package:base':
I, expand.grid, unname
Attaching package: 'MatrixGenerics'
The following objects are masked from 'package:matrixStats':
colAlls, colAnyNAs, colAnys, colAvgsPerRowSet, colCollapse,
colCounts, colCummaxs, colCummins, colCumprods, colCumsums,
colDiffs, colIQRDiffs, colIQRs, colLogSumExps, colMadDiffs,
colMads, colMaxs, colMeans2, colMedians, colMins, colOrderStats,
colProds, colQuantiles, colRanges, colRanks, colSdDiffs, colSds,
colSums2, colTabulates, colVarDiffs, colVars, colWeightedMads,
colWeightedMeans, colWeightedMedians, colWeightedSds,
colWeightedVars, rowAlls, rowAnyNAs, rowAnys, rowAvgsPerColSet,
rowCollapse, rowCounts, rowCummaxs, rowCummins, rowCumprods,
rowCumsums, rowDiffs, rowIQRDiffs, rowIQRs, rowLogSumExps,
rowMadDiffs, rowMads, rowMaxs, rowMeans2, rowMedians, rowMins,
rowOrderStats, rowProds, rowQuantiles, rowRanges, rowRanks,
rowSdDiffs, rowSds, rowSums2, rowTabulates, rowVarDiffs, rowVars,
rowWeightedMads, rowWeightedMeans, rowWeightedMedians,
rowWeightedSds, rowWeightedVars
Welcome to Bioconductor
Vignettes contain introductory material; view with
'browseVignettes()'. To cite Bioconductor, see
'citation("Biobase")', and for packages 'citation("pkgname")'.
Attaching package: 'Biobase'
The following object is masked from 'package:MatrixGenerics':
rowMedians
The following objects are masked from 'package:matrixStats':
anyMissing, rowMedians
RUNIT TEST PROTOCOL -- Tue Apr 12 08:07:06 2022
***********************************************
Number of test functions: 21
Number of errors: 0
Number of failures: 0
1 Test Suite :
MBASED RUnit Tests - 21 test functions, 0 errors, 0 failures
Number of test functions: 21
Number of errors: 0
Number of failures: 0
>
> proc.time()
user system elapsed
37.084 0.651 37.722
MBASED.Rcheck/MBASED-Ex.timings
| name | user | system | elapsed | |
| FreemanTukeyFunctions | 1.015 | 0.068 | 1.084 | |
| MBASEDMetaAnalysis | 0.002 | 0.000 | 0.002 | |
| MBASEDMetaAnalysisGetMeansAndSEs | 0.000 | 0.000 | 0.001 | |
| MBASEDVectorizedMetaprop | 0.000 | 0.004 | 0.003 | |
| MBASEDVectorizedPropDiffTest | 0.001 | 0.000 | 0.002 | |
| betaParametrizationConverters | 0.000 | 0.000 | 0.001 | |
| estimateMAF1s | 0.006 | 0.000 | 0.006 | |
| estimateMAF2s | 0.004 | 0.000 | 0.004 | |
| generatingBetaBinomialCounts | 0 | 0 | 0 | |
| getPFinal | 0.001 | 0.000 | 0.001 | |
| getSimulationPvalue | 0.000 | 0.000 | 0.001 | |
| logLikelihoodCalculator1s | 0 | 0 | 0 | |
| logLikelihoodCalculator2s | 0.001 | 0.000 | 0.000 | |
| maxLogLikelihoodCalculator1s | 0.000 | 0.000 | 0.001 | |
| maxLogLikelihoodCalculator2s | 0.000 | 0.000 | 0.001 | |
| runMBASED | 0 | 0 | 0 | |
| runMBASED1s | 0.000 | 0.000 | 0.001 | |
| runMBASED1s1aseID | 0 | 0 | 0 | |
| runMBASED2s | 0 | 0 | 0 | |
| runMBASED2s1aseID | 0 | 0 | 0 | |
| shiftAndAttenuateProportions | 0.001 | 0.000 | 0.001 | |