| Back to Multiple platform build/check report for BioC 3.14 |
|
This page was generated on 2022-04-13 12:06:47 -0400 (Wed, 13 Apr 2022).
| Hostname | OS | Arch (*) | R version | Installed pkgs |
|---|---|---|---|---|
| nebbiolo2 | Linux (Ubuntu 20.04.4 LTS) | x86_64 | 4.1.3 (2022-03-10) -- "One Push-Up" | 4324 |
| tokay2 | Windows Server 2012 R2 Standard | x64 | 4.1.3 (2022-03-10) -- "One Push-Up" | 4077 |
| machv2 | macOS 10.14.6 Mojave | x86_64 | 4.1.3 (2022-03-10) -- "One Push-Up" | 4137 |
| Click on any hostname to see more info about the system (e.g. compilers) (*) as reported by 'uname -p', except on Windows and Mac OS X | ||||
|
To the developers/maintainers of the Linnorm package: - Please allow up to 24 hours (and sometimes 48 hours) for your latest push to git@git.bioconductor.org:packages/Linnorm.git to reflect on this report. See How and When does the builder pull? When will my changes propagate? for more information. - Make sure to use the following settings in order to reproduce any error or warning you see on this page. |
| Package 1001/2083 | Hostname | OS / Arch | INSTALL | BUILD | CHECK | BUILD BIN | ||||||||
| Linnorm 2.18.0 (landing page) Ken Shun Hang Yip
| nebbiolo2 | Linux (Ubuntu 20.04.4 LTS) / x86_64 | OK | OK | OK | |||||||||
| tokay2 | Windows Server 2012 R2 Standard / x64 | OK | OK | OK | OK | |||||||||
| machv2 | macOS 10.14.6 Mojave / x86_64 | OK | OK | OK | OK | |||||||||
| Package: Linnorm |
| Version: 2.18.0 |
| Command: rm -rf Linnorm.buildbin-libdir && mkdir Linnorm.buildbin-libdir && C:\Users\biocbuild\bbs-3.14-bioc\R\bin\R.exe CMD INSTALL --merge-multiarch --build --library=Linnorm.buildbin-libdir Linnorm_2.18.0.tar.gz |
| StartedAt: 2022-04-13 06:29:41 -0400 (Wed, 13 Apr 2022) |
| EndedAt: 2022-04-13 06:30:31 -0400 (Wed, 13 Apr 2022) |
| EllapsedTime: 50.1 seconds |
| RetCode: 0 |
| Status: OK |
| PackageFile: Linnorm_2.18.0.zip |
| PackageFileSize: 4.971 MiB |
##############################################################################
##############################################################################
###
### Running command:
###
### rm -rf Linnorm.buildbin-libdir && mkdir Linnorm.buildbin-libdir && C:\Users\biocbuild\bbs-3.14-bioc\R\bin\R.exe CMD INSTALL --merge-multiarch --build --library=Linnorm.buildbin-libdir Linnorm_2.18.0.tar.gz
###
##############################################################################
##############################################################################
install for i386
* installing *source* package 'Linnorm' ...
** using staged installation
** libs
"C:/rtools40/mingw32/bin/"g++ -std=gnu++11 -I"C:/Users/BIOCBU~1/BBS-3~1.14-/R/include" -DNDEBUG -I'C:/Users/biocbuild/bbs-3.14-bioc/R/library/Rcpp/include' -I'C:/Users/biocbuild/bbs-3.14-bioc/R/library/RcppArmadillo/include' -I"C:/extsoft/include" -O2 -Wall -mfpmath=sse -msse2 -mstackrealign -c Misc.cpp -o Misc.o
C:/rtools40/mingw32/bin/g++ -std=gnu++11 -shared -s -static-libgcc -o Linnorm.dll tmp.def Misc.o -std=c++11 -LC:/Users/BIOCBU~1/BBS-3~1.14-/R/bin/i386 -lRlapack -LC:/Users/BIOCBU~1/BBS-3~1.14-/R/bin/i386 -lRblas -lgfortran -lm -lquadmath -DARMA_64BIT_WORD=1 -LC:/extsoft/lib/i386 -LC:/extsoft/lib -LC:/Users/BIOCBU~1/BBS-3~1.14-/R/bin/i386 -lR
installing to C:/Users/biocbuild/bbs-3.14-bioc/meat/Linnorm.buildbin-libdir/00LOCK-Linnorm/00new/Linnorm/libs/i386
** R
** data
** inst
** byte-compile and prepare package for lazy loading
** help
*** installing help indices
converting help for package 'Linnorm'
finding HTML links ... done
Islam2011 html
LIHC html
LinearRegression html
LinearRegressionFP html
Linnorm.Cor html
Linnorm.DataImput html
Linnorm.HClust html
Linnorm.HVar html
Linnorm.Norm html
Linnorm.PCA html
Linnorm html
Linnorm.SGenes html
Linnorm.limma html
Linnorm.tSNE html
RnaXSim html
SEQC html
** building package indices
** installing vignettes
** testing if installed package can be loaded from temporary location
** testing if installed package can be loaded from final location
** testing if installed package keeps a record of temporary installation path
install for x64
* installing *source* package 'Linnorm' ...
** libs
"C:/rtools40/mingw64/bin/"g++ -std=gnu++11 -I"C:/Users/BIOCBU~1/BBS-3~1.14-/R/include" -DNDEBUG -I'C:/Users/biocbuild/bbs-3.14-bioc/R/library/Rcpp/include' -I'C:/Users/biocbuild/bbs-3.14-bioc/R/library/RcppArmadillo/include' -I"C:/extsoft/include" -O2 -Wall -mfpmath=sse -msse2 -mstackrealign -c Misc.cpp -o Misc.o
C:/rtools40/mingw64/bin/g++ -std=gnu++11 -shared -s -static-libgcc -o Linnorm.dll tmp.def Misc.o -std=c++11 -LC:/Users/BIOCBU~1/BBS-3~1.14-/R/bin/x64 -lRlapack -LC:/Users/BIOCBU~1/BBS-3~1.14-/R/bin/x64 -lRblas -lgfortran -lm -lquadmath -DARMA_64BIT_WORD=1 -LC:/extsoft/lib/x64 -LC:/extsoft/lib -LC:/Users/BIOCBU~1/BBS-3~1.14-/R/bin/x64 -lR
installing to C:/Users/biocbuild/bbs-3.14-bioc/meat/Linnorm.buildbin-libdir/Linnorm/libs/x64
** testing if installed package can be loaded
* MD5 sums
packaged installation of 'Linnorm' as Linnorm_2.18.0.zip
* DONE (Linnorm)