| Back to Multiple platform build/check report for BioC 3.14 | 
 | 
This page was generated on 2022-04-13 12:06:48 -0400 (Wed, 13 Apr 2022).
| Hostname | OS | Arch (*) | R version | Installed pkgs | 
|---|---|---|---|---|
| nebbiolo2 | Linux (Ubuntu 20.04.4 LTS) | x86_64 | 4.1.3 (2022-03-10) -- "One Push-Up" | 4324 | 
| tokay2 | Windows Server 2012 R2 Standard | x64 | 4.1.3 (2022-03-10) -- "One Push-Up" | 4077 | 
| machv2 | macOS 10.14.6 Mojave | x86_64 | 4.1.3 (2022-03-10) -- "One Push-Up" | 4137 | 
| Click on any hostname to see more info about the system (e.g. compilers) (*) as reported by 'uname -p', except on Windows and Mac OS X | ||||
| To the developers/maintainers of the LPE package: - Please allow up to 24 hours (and sometimes 48 hours) for your latest push to git@git.bioconductor.org:packages/LPE.git to reflect on this report. See How and When does the builder pull? When will my changes propagate? for more information. - Make sure to use the following settings in order to reproduce any error or warning you see on this page. | 
| Package 1014/2083 | Hostname | OS / Arch | INSTALL | BUILD | CHECK | BUILD BIN | ||||||||
| LPE 1.68.0  (landing page) Nitin Jain 
 | nebbiolo2 | Linux (Ubuntu 20.04.4 LTS) / x86_64 | OK | OK | OK |  | ||||||||
| tokay2 | Windows Server 2012 R2 Standard / x64 | OK | OK | OK | OK |  | ||||||||
| machv2 | macOS 10.14.6 Mojave / x86_64 | OK | OK | OK | OK |  | ||||||||
| Package: LPE | 
| Version: 1.68.0 | 
| Command: rm -rf LPE.buildbin-libdir && mkdir LPE.buildbin-libdir && C:\Users\biocbuild\bbs-3.14-bioc\R\bin\R.exe CMD INSTALL --merge-multiarch --build --library=LPE.buildbin-libdir LPE_1.68.0.tar.gz | 
| StartedAt: 2022-04-13 06:30:16 -0400 (Wed, 13 Apr 2022) | 
| EndedAt: 2022-04-13 06:30:23 -0400 (Wed, 13 Apr 2022) | 
| EllapsedTime: 6.8 seconds | 
| RetCode: 0 | 
| Status: OK | 
| PackageFile: LPE_1.68.0.zip | 
| PackageFileSize: 410.8 KiB | 
##############################################################################
##############################################################################
###
### Running command:
###
###   rm -rf LPE.buildbin-libdir && mkdir LPE.buildbin-libdir && C:\Users\biocbuild\bbs-3.14-bioc\R\bin\R.exe CMD INSTALL --merge-multiarch --build --library=LPE.buildbin-libdir LPE_1.68.0.tar.gz
###
##############################################################################
##############################################################################
install for i386
* installing *source* package 'LPE' ...
** using staged installation
** R
** data
** inst
** byte-compile and prepare package for lazy loading
** help
*** installing help indices
  converting help for package 'LPE'
    finding HTML links ... done
    Ley                                     html  
    am.trans                                html  
    baseOlig.error                          html  
    baseOlig.error.step1                    html  
    baseOlig.error.step2                    html  
    fdr.adjust                              html  
    fixbounds.predict.smooth.spline         html  
    iqr                                     html  
    lowess.normalize                        html  
    lpe                                     html  
    mt.rawp2adjp                            html  
    n.genes.adaptive.int                    html  
    permute                                 html  
    preprocess                              html  
    quan.norm                               html  
    quartile.normalize                      html  
    resamp.adj                              html  
** building package indices
** installing vignettes
** testing if installed package can be loaded from temporary location
** testing if installed package can be loaded from final location
** testing if installed package keeps a record of temporary installation path
install for x64
* installing *source* package 'LPE' ...
** testing if installed package can be loaded
* MD5 sums
packaged installation of 'LPE' as LPE_1.68.0.zip
* DONE (LPE)