| Back to Multiple platform build/check report for BioC 3.14 | 
  | 
This page was generated on 2022-04-13 12:05:30 -0400 (Wed, 13 Apr 2022).
| Hostname | OS | Arch (*) | R version | Installed pkgs | 
|---|---|---|---|---|
| nebbiolo2 | Linux (Ubuntu 20.04.4 LTS) | x86_64 | 4.1.3 (2022-03-10) -- "One Push-Up" | 4324 | 
| tokay2 | Windows Server 2012 R2 Standard | x64 | 4.1.3 (2022-03-10) -- "One Push-Up" | 4077 | 
| machv2 | macOS 10.14.6 Mojave | x86_64 | 4.1.3 (2022-03-10) -- "One Push-Up" | 4137 | 
| Click on any hostname to see more info about the system (e.g. compilers) (*) as reported by 'uname -p', except on Windows and Mac OS X | ||||
| 
To the developers/maintainers of the InterMineR package: - Please allow up to 24 hours (and sometimes 48 hours) for your latest push to git@git.bioconductor.org:packages/InterMineR.git to reflect on this report. See How and When does the builder pull? When will my changes propagate? for more information. - Make sure to use the following settings in order to reproduce any error or warning you see on this page.  | 
| Package 946/2083 | Hostname | OS / Arch | INSTALL | BUILD | CHECK | BUILD BIN | ||||||||
| InterMineR 1.16.0  (landing page) InterMine Team 
  | nebbiolo2 | Linux (Ubuntu 20.04.4 LTS) / x86_64 | OK | OK | WARNINGS | |||||||||
| tokay2 | Windows Server 2012 R2 Standard / x64 | OK | OK | ERROR | OK | |||||||||
| machv2 | macOS 10.14.6 Mojave / x86_64 | OK | OK | WARNINGS | OK | |||||||||
| Package: InterMineR | 
| Version: 1.16.0 | 
| Command: /home/biocbuild/bbs-3.14-bioc/R/bin/R CMD build --keep-empty-dirs --no-resave-data InterMineR | 
| StartedAt: 2022-04-12 04:50:16 -0400 (Tue, 12 Apr 2022) | 
| EndedAt: 2022-04-12 04:51:27 -0400 (Tue, 12 Apr 2022) | 
| EllapsedTime: 71.3 seconds | 
| RetCode: 0 | 
| Status: OK | 
| PackageFile: InterMineR_1.16.0.tar.gz | 
| PackageFileSize: 4.911 MiB | 
############################################################################## ############################################################################## ### ### Running command: ### ### /home/biocbuild/bbs-3.14-bioc/R/bin/R CMD build --keep-empty-dirs --no-resave-data InterMineR ### ############################################################################## ############################################################################## * checking for file ‘InterMineR/DESCRIPTION’ ... OK * preparing ‘InterMineR’: * checking DESCRIPTION meta-information ... OK Warning: /tmp/RtmpBz7SuZ/Rbuild13b1cd6a79a147/InterMineR/man/ListManager-methods.Rd:41: unexpected section header '\arguments' Warning: /tmp/RtmpBz7SuZ/Rbuild13b1cd6a79a147/InterMineR/man/ListManager-methods.Rd:42: unknown macro '\item' Warning: /tmp/RtmpBz7SuZ/Rbuild13b1cd6a79a147/InterMineR/man/ListManager-methods.Rd:50: unexpected section header '\arguments' Warning: /tmp/RtmpBz7SuZ/Rbuild13b1cd6a79a147/InterMineR/man/ListManager-methods.Rd:51: unknown macro '\item' Warning: /tmp/RtmpBz7SuZ/Rbuild13b1cd6a79a147/InterMineR/man/ListManager-methods.Rd:59: unexpected section header '\arguments' Warning: /tmp/RtmpBz7SuZ/Rbuild13b1cd6a79a147/InterMineR/man/ListManager-methods.Rd:60: unknown macro '\item' Warning: /tmp/RtmpBz7SuZ/Rbuild13b1cd6a79a147/InterMineR/man/ListManager-methods.Rd:63: unknown macro '\item' Warning: /tmp/RtmpBz7SuZ/Rbuild13b1cd6a79a147/InterMineR/man/ListManager-methods.Rd:66: unknown macro '\item' Warning: /tmp/RtmpBz7SuZ/Rbuild13b1cd6a79a147/InterMineR/man/ListManager-methods.Rd:69: unknown macro '\item' Warning: /tmp/RtmpBz7SuZ/Rbuild13b1cd6a79a147/InterMineR/man/ListManager-methods.Rd:72: unknown macro '\item' Warning: /tmp/RtmpBz7SuZ/Rbuild13b1cd6a79a147/InterMineR/man/ListManager-methods.Rd:80: unexpected section header '\arguments' Warning: /tmp/RtmpBz7SuZ/Rbuild13b1cd6a79a147/InterMineR/man/ListManager-methods.Rd:81: unknown macro '\item' Warning: /tmp/RtmpBz7SuZ/Rbuild13b1cd6a79a147/InterMineR/man/ListManager-methods.Rd:84: unknown macro '\item' Warning: /tmp/RtmpBz7SuZ/Rbuild13b1cd6a79a147/InterMineR/man/ListManager-methods.Rd:87: unknown macro '\item' Warning: /tmp/RtmpBz7SuZ/Rbuild13b1cd6a79a147/InterMineR/man/ListManager-methods.Rd:90: unknown macro '\item' Warning: /tmp/RtmpBz7SuZ/Rbuild13b1cd6a79a147/InterMineR/man/ListManager-methods.Rd:98: unexpected section header '\arguments' Warning: /tmp/RtmpBz7SuZ/Rbuild13b1cd6a79a147/InterMineR/man/ListManager-methods.Rd:99: unknown macro '\item' Warning: /tmp/RtmpBz7SuZ/Rbuild13b1cd6a79a147/InterMineR/man/ListManager-methods.Rd:102: unknown macro '\item' Warning: /tmp/RtmpBz7SuZ/Rbuild13b1cd6a79a147/InterMineR/man/ListManager-methods.Rd:105: unknown macro '\item' Warning: /tmp/RtmpBz7SuZ/Rbuild13b1cd6a79a147/InterMineR/man/ListManager-methods.Rd:108: unknown macro '\item' Warning: /tmp/RtmpBz7SuZ/Rbuild13b1cd6a79a147/InterMineR/man/ListManager-methods.Rd:116: unexpected section header '\arguments' Warning: /tmp/RtmpBz7SuZ/Rbuild13b1cd6a79a147/InterMineR/man/ListManager-methods.Rd:117: unknown macro '\item' Warning: /tmp/RtmpBz7SuZ/Rbuild13b1cd6a79a147/InterMineR/man/ListManager-methods.Rd:120: unknown macro '\item' Warning: /tmp/RtmpBz7SuZ/Rbuild13b1cd6a79a147/InterMineR/man/ListManager-methods.Rd:123: unknown macro '\item' Warning: /tmp/RtmpBz7SuZ/Rbuild13b1cd6a79a147/InterMineR/man/ListManager-methods.Rd:126: unknown macro '\item' Warning: /tmp/RtmpBz7SuZ/Rbuild13b1cd6a79a147/InterMineR/man/ListManager-methods.Rd:134: unexpected section header '\arguments' Warning: /tmp/RtmpBz7SuZ/Rbuild13b1cd6a79a147/InterMineR/man/ListManager-methods.Rd:135: unknown macro '\item' Warning: /tmp/RtmpBz7SuZ/Rbuild13b1cd6a79a147/InterMineR/man/ListManager-methods.Rd:138: unknown macro '\item' Warning: /tmp/RtmpBz7SuZ/Rbuild13b1cd6a79a147/InterMineR/man/ListManager-methods.Rd:141: unknown macro '\item' Warning: /tmp/RtmpBz7SuZ/Rbuild13b1cd6a79a147/InterMineR/man/ListManager-methods.Rd:144: unknown macro '\item' Warning: /tmp/RtmpBz7SuZ/Rbuild13b1cd6a79a147/InterMineR/man/ListManager-methods.Rd:147: unknown macro '\item' * installing the package to build vignettes * creating vignettes ... OK * checking for LF line-endings in source and make files and shell scripts * checking for empty or unneeded directories * building ‘InterMineR_1.16.0.tar.gz’