| Back to Multiple platform build/check report for BioC 3.14 |
|
This page was generated on 2022-04-13 12:06:44 -0400 (Wed, 13 Apr 2022).
| Hostname | OS | Arch (*) | R version | Installed pkgs |
|---|---|---|---|---|
| nebbiolo2 | Linux (Ubuntu 20.04.4 LTS) | x86_64 | 4.1.3 (2022-03-10) -- "One Push-Up" | 4324 |
| tokay2 | Windows Server 2012 R2 Standard | x64 | 4.1.3 (2022-03-10) -- "One Push-Up" | 4077 |
| machv2 | macOS 10.14.6 Mojave | x86_64 | 4.1.3 (2022-03-10) -- "One Push-Up" | 4137 |
| Click on any hostname to see more info about the system (e.g. compilers) (*) as reported by 'uname -p', except on Windows and Mac OS X | ||||
|
To the developers/maintainers of the Informeasure package: - Please allow up to 24 hours (and sometimes 48 hours) for your latest push to git@git.bioconductor.org:packages/Informeasure.git to reflect on this report. See How and When does the builder pull? When will my changes propagate? for more information. - Make sure to use the following settings in order to reproduce any error or warning you see on this page. |
| Package 933/2083 | Hostname | OS / Arch | INSTALL | BUILD | CHECK | BUILD BIN | ||||||||
| Informeasure 1.4.0 (landing page) Chu Pan
| nebbiolo2 | Linux (Ubuntu 20.04.4 LTS) / x86_64 | OK | OK | OK | |||||||||
| tokay2 | Windows Server 2012 R2 Standard / x64 | OK | OK | OK | OK | |||||||||
| machv2 | macOS 10.14.6 Mojave / x86_64 | OK | OK | OK | OK | |||||||||
| Package: Informeasure |
| Version: 1.4.0 |
| Command: rm -rf Informeasure.buildbin-libdir && mkdir Informeasure.buildbin-libdir && C:\Users\biocbuild\bbs-3.14-bioc\R\bin\R.exe CMD INSTALL --merge-multiarch --build --library=Informeasure.buildbin-libdir Informeasure_1.4.0.tar.gz |
| StartedAt: 2022-04-13 06:26:57 -0400 (Wed, 13 Apr 2022) |
| EndedAt: 2022-04-13 06:27:04 -0400 (Wed, 13 Apr 2022) |
| EllapsedTime: 6.7 seconds |
| RetCode: 0 |
| Status: OK |
| PackageFile: Informeasure_1.4.0.zip |
| PackageFileSize: 363.8 KiB |
##############################################################################
##############################################################################
###
### Running command:
###
### rm -rf Informeasure.buildbin-libdir && mkdir Informeasure.buildbin-libdir && C:\Users\biocbuild\bbs-3.14-bioc\R\bin\R.exe CMD INSTALL --merge-multiarch --build --library=Informeasure.buildbin-libdir Informeasure_1.4.0.tar.gz
###
##############################################################################
##############################################################################
install for i386
* installing *source* package 'Informeasure' ...
** using staged installation
** R
** inst
** byte-compile and prepare package for lazy loading
** help
*** installing help indices
converting help for package 'Informeasure'
finding HTML links ... done
CMI.measure html
CMI.plugin html
II.measure html
II.plugin html
MI.measure html
MI.plugin html
PID.measure html
PID.plugin html
PMI.measure html
PMI.plugin html
discretize1D html
discretize1d.uniform_frequency html
discretize1d.uniform_width html
discretize2D html
discretize2d.uniform_frequency html
discretize2d.uniform_width html
discretize3D html
discretize3d.uniform_frequency html
discretize3d.uniform_width html
** building package indices
** installing vignettes
** testing if installed package can be loaded from temporary location
** testing if installed package can be loaded from final location
** testing if installed package keeps a record of temporary installation path
install for x64
* installing *source* package 'Informeasure' ...
** testing if installed package can be loaded
* MD5 sums
packaged installation of 'Informeasure' as Informeasure_1.4.0.zip
* DONE (Informeasure)