| Back to Multiple platform build/check report for BioC 3.14 |
|
This page was generated on 2022-04-13 12:08:08 -0400 (Wed, 13 Apr 2022).
| Hostname | OS | Arch (*) | R version | Installed pkgs |
|---|---|---|---|---|
| nebbiolo2 | Linux (Ubuntu 20.04.4 LTS) | x86_64 | 4.1.3 (2022-03-10) -- "One Push-Up" | 4324 |
| tokay2 | Windows Server 2012 R2 Standard | x64 | 4.1.3 (2022-03-10) -- "One Push-Up" | 4077 |
| machv2 | macOS 10.14.6 Mojave | x86_64 | 4.1.3 (2022-03-10) -- "One Push-Up" | 4137 |
| Click on any hostname to see more info about the system (e.g. compilers) (*) as reported by 'uname -p', except on Windows and Mac OS X | ||||
|
To the developers/maintainers of the Heatplus package: - Please allow up to 24 hours (and sometimes 48 hours) for your latest push to git@git.bioconductor.org:packages/Heatplus.git to reflect on this report. See How and When does the builder pull? When will my changes propagate? for more information. - Make sure to use the following settings in order to reproduce any error or warning you see on this page. |
| Package 858/2083 | Hostname | OS / Arch | INSTALL | BUILD | CHECK | BUILD BIN | ||||||||
| Heatplus 3.2.0 (landing page) Alexander Ploner
| nebbiolo2 | Linux (Ubuntu 20.04.4 LTS) / x86_64 | OK | OK | OK | |||||||||
| tokay2 | Windows Server 2012 R2 Standard / x64 | OK | OK | OK | OK | |||||||||
| machv2 | macOS 10.14.6 Mojave / x86_64 | OK | OK | OK | OK | |||||||||
| Package: Heatplus |
| Version: 3.2.0 |
| Command: /Library/Frameworks/R.framework/Resources/bin/R CMD check --install=check:Heatplus.install-out.txt --library=/Library/Frameworks/R.framework/Resources/library --no-vignettes --timings Heatplus_3.2.0.tar.gz |
| StartedAt: 2022-04-12 14:13:04 -0400 (Tue, 12 Apr 2022) |
| EndedAt: 2022-04-12 14:13:43 -0400 (Tue, 12 Apr 2022) |
| EllapsedTime: 39.0 seconds |
| RetCode: 0 |
| Status: OK |
| CheckDir: Heatplus.Rcheck |
| Warnings: 0 |
############################################################################## ############################################################################## ### ### Running command: ### ### /Library/Frameworks/R.framework/Resources/bin/R CMD check --install=check:Heatplus.install-out.txt --library=/Library/Frameworks/R.framework/Resources/library --no-vignettes --timings Heatplus_3.2.0.tar.gz ### ############################################################################## ############################################################################## * using log directory ‘/Users/biocbuild/bbs-3.14-bioc/meat/Heatplus.Rcheck’ * using R version 4.1.3 (2022-03-10) * using platform: x86_64-apple-darwin17.0 (64-bit) * using session charset: UTF-8 * using option ‘--no-vignettes’ * checking for file ‘Heatplus/DESCRIPTION’ ... OK * this is package ‘Heatplus’ version ‘3.2.0’ * checking package namespace information ... OK * checking package dependencies ... OK * checking if this is a source package ... OK * checking if there is a namespace ... OK * checking for hidden files and directories ... OK * checking for portable file names ... OK * checking for sufficient/correct file permissions ... OK * checking whether package ‘Heatplus’ can be installed ... OK * checking installed package size ... OK * checking package directory ... OK * checking ‘build’ directory ... OK * checking DESCRIPTION meta-information ... OK * checking top-level files ... OK * checking for left-over files ... OK * checking index information ... OK * checking package subdirectories ... OK * checking R files for non-ASCII characters ... OK * checking R files for syntax errors ... OK * checking whether the package can be loaded ... OK * checking whether the package can be loaded with stated dependencies ... OK * checking whether the package can be unloaded cleanly ... OK * checking whether the namespace can be loaded with stated dependencies ... OK * checking whether the namespace can be unloaded cleanly ... OK * checking dependencies in R code ... NOTE Unexported object imported by a ':::' call: ‘stats:::plotNode’ See the note in ?`:::` about the use of this operator. * checking S3 generic/method consistency ... OK * checking replacement functions ... OK * checking foreign function calls ... OK * checking R code for possible problems ... NOTE annHeatmap2: no visible global function definition for ‘clustfun’ annHeatmap2: no visible global function definition for ‘distfun’ annHeatmap2: no visible binding for global variable ‘cuth’ annHeatmap2: no visible binding for global variable ‘asIs’ annHeatmap2: no visible binding for global variable ‘inclRef’ Undefined global functions or variables: asIs clustfun cuth distfun inclRef * checking Rd files ... OK * checking Rd metadata ... OK * checking Rd cross-references ... OK * checking for missing documentation entries ... OK * checking for code/documentation mismatches ... OK * checking Rd \usage sections ... OK * checking Rd contents ... OK * checking for unstated dependencies in examples ... OK * checking sizes of PDF files under ‘inst/doc’ ... OK * checking files in ‘vignettes’ ... OK * checking examples ... OK * checking for unstated dependencies in vignettes ... OK * checking package vignettes in ‘inst/doc’ ... OK * checking running R code from vignettes ... SKIPPED * checking re-building of vignette outputs ... SKIPPED * checking PDF version of manual ... OK * DONE Status: 2 NOTEs See ‘/Users/biocbuild/bbs-3.14-bioc/meat/Heatplus.Rcheck/00check.log’ for details.
Heatplus.Rcheck/00install.out
############################################################################## ############################################################################## ### ### Running command: ### ### /Library/Frameworks/R.framework/Resources/bin/R CMD INSTALL Heatplus ### ############################################################################## ############################################################################## * installing to library ‘/Library/Frameworks/R.framework/Versions/4.1/Resources/library’ * installing *source* package ‘Heatplus’ ... ** using staged installation ** R ** byte-compile and prepare package for lazy loading ** help *** installing help indices ** building package indices ** installing vignettes ** testing if installed package can be loaded from temporary location ** testing if installed package can be loaded from final location ** testing if installed package keeps a record of temporary installation path * DONE (Heatplus)
Heatplus.Rcheck/Heatplus-Ex.timings
| name | user | system | elapsed | |
| BrewerClusterCol | 0.058 | 0.005 | 0.064 | |
| RGBColVec | 0.000 | 0.001 | 0.001 | |
| annHeatmap | 1.256 | 0.060 | 1.317 | |
| annHeatmap2 | 0.242 | 0.008 | 0.288 | |
| breakColors | 0.007 | 0.002 | 0.009 | |
| convAnnData | 0.066 | 0.007 | 0.073 | |
| doLegend | 0.002 | 0.000 | 0.002 | |
| g2r.colors | 0.005 | 0.002 | 0.007 | |
| heatmapLayout | 0.002 | 0.001 | 0.003 | |
| heatmap_2 | 0.000 | 0.001 | 0.001 | |
| heatmap_plus | 0.001 | 0.001 | 0.001 | |
| modifyExistingList | 0.002 | 0.001 | 0.003 | |
| niceBreaks | 0.001 | 0.001 | 0.002 | |
| oldCutplot.dendrogram | 0 | 0 | 0 | |
| oldPicketplot | 0.000 | 0.000 | 0.001 | |
| picketPlot | 0.155 | 0.009 | 0.164 | |
| plot.annHeatmap | 0.250 | 0.011 | 0.262 | |
| print.annHeatmap | 0.020 | 0.001 | 0.021 | |
| regHeatmap | 0.040 | 0.002 | 0.041 | |