| Back to Multiple platform build/check report for BioC 3.14 |
|
This page was generated on 2022-04-13 12:05:28 -0400 (Wed, 13 Apr 2022).
| Hostname | OS | Arch (*) | R version | Installed pkgs |
|---|---|---|---|---|
| nebbiolo2 | Linux (Ubuntu 20.04.4 LTS) | x86_64 | 4.1.3 (2022-03-10) -- "One Push-Up" | 4324 |
| tokay2 | Windows Server 2012 R2 Standard | x64 | 4.1.3 (2022-03-10) -- "One Push-Up" | 4077 |
| machv2 | macOS 10.14.6 Mojave | x86_64 | 4.1.3 (2022-03-10) -- "One Push-Up" | 4137 |
| Click on any hostname to see more info about the system (e.g. compilers) (*) as reported by 'uname -p', except on Windows and Mac OS X | ||||
|
To the developers/maintainers of the HPAanalyze package: - Please allow up to 24 hours (and sometimes 48 hours) for your latest push to git@git.bioconductor.org:packages/HPAanalyze.git to reflect on this report. See How and When does the builder pull? When will my changes propagate? for more information. - Make sure to use the following settings in order to reproduce any error or warning you see on this page. |
| Package 883/2083 | Hostname | OS / Arch | INSTALL | BUILD | CHECK | BUILD BIN | ||||||||
| HPAanalyze 1.12.0 (landing page) Anh Nhat Tran
| nebbiolo2 | Linux (Ubuntu 20.04.4 LTS) / x86_64 | OK | OK | OK | |||||||||
| tokay2 | Windows Server 2012 R2 Standard / x64 | OK | OK | OK | OK | |||||||||
| machv2 | macOS 10.14.6 Mojave / x86_64 | OK | OK | OK | OK | |||||||||
| Package: HPAanalyze |
| Version: 1.12.0 |
| Command: /home/biocbuild/bbs-3.14-bioc/R/bin/R CMD check --install=check:HPAanalyze.install-out.txt --library=/home/biocbuild/bbs-3.14-bioc/R/library --no-vignettes --timings HPAanalyze_1.12.0.tar.gz |
| StartedAt: 2022-04-12 07:48:54 -0400 (Tue, 12 Apr 2022) |
| EndedAt: 2022-04-12 07:50:03 -0400 (Tue, 12 Apr 2022) |
| EllapsedTime: 69.6 seconds |
| RetCode: 0 |
| Status: OK |
| CheckDir: HPAanalyze.Rcheck |
| Warnings: 0 |
############################################################################## ############################################################################## ### ### Running command: ### ### /home/biocbuild/bbs-3.14-bioc/R/bin/R CMD check --install=check:HPAanalyze.install-out.txt --library=/home/biocbuild/bbs-3.14-bioc/R/library --no-vignettes --timings HPAanalyze_1.12.0.tar.gz ### ############################################################################## ############################################################################## * using log directory ‘/home/biocbuild/bbs-3.14-bioc/meat/HPAanalyze.Rcheck’ * using R version 4.1.3 (2022-03-10) * using platform: x86_64-pc-linux-gnu (64-bit) * using session charset: UTF-8 * using option ‘--no-vignettes’ * checking for file ‘HPAanalyze/DESCRIPTION’ ... OK * checking extension type ... Package * this is package ‘HPAanalyze’ version ‘1.12.0’ * package encoding: UTF-8 * checking package namespace information ... OK * checking package dependencies ... OK * checking if this is a source package ... OK * checking if there is a namespace ... OK * checking for hidden files and directories ... OK * checking for portable file names ... OK * checking for sufficient/correct file permissions ... OK * checking whether package ‘HPAanalyze’ can be installed ... OK * checking installed package size ... OK * checking package directory ... OK * checking ‘build’ directory ... OK * checking DESCRIPTION meta-information ... OK * checking top-level files ... OK * checking for left-over files ... OK * checking index information ... OK * checking package subdirectories ... OK * checking R files for non-ASCII characters ... OK * checking R files for syntax errors ... OK * checking whether the package can be loaded ... OK * checking whether the package can be loaded with stated dependencies ... OK * checking whether the package can be unloaded cleanly ... OK * checking whether the namespace can be loaded with stated dependencies ... OK * checking whether the namespace can be unloaded cleanly ... OK * checking dependencies in R code ... OK * checking S3 generic/method consistency ... OK * checking replacement functions ... OK * checking foreign function calls ... OK * checking R code for possible problems ... NOTE hpaDownload: no visible binding for global variable ‘datasetnames’ hpaDownload: no visible binding for global variable ‘hpa_histology_data’ hpaDownload: no visible binding for global variable ‘.’ hpaSubset : subsetting: no visible binding for global variable ‘gene’ hpaSubset : subsetting: no visible binding for global variable ‘tissue’ hpaSubset : subsetting: no visible binding for global variable ‘cell_type’ hpaSubset : subsetting: no visible binding for global variable ‘cancer’ hpaSubset : subsetting: no visible binding for global variable ‘cell_line’ hpaVis: no visible binding for global variable ‘hpa_histology_data’ hpaVisPatho: no visible binding for global variable ‘gene’ hpaVisPatho: no visible binding for global variable ‘cancer’ hpaVisPatho: no visible binding for global variable ‘high’ hpaVisPatho: no visible binding for global variable ‘medium’ hpaVisPatho: no visible binding for global variable ‘low’ hpaVisPatho: no visible binding for global variable ‘not_detected’ hpaVisPatho: no visible binding for global variable ‘patient_count’ hpaVisPatho: no visible binding for global variable ‘level’ hpaVisSubcell: no visible binding for global variable ‘gene’ hpaVisSubcell: no visible binding for global variable ‘sub_location’ hpaVisTissue: no visible binding for global variable ‘gene’ hpaVisTissue: no visible binding for global variable ‘.’ hpaVisTissue: no visible binding for global variable ‘tissue’ hpaVisTissue: no visible binding for global variable ‘cell_type’ hpaVisTissue: no visible binding for global variable ‘level’ hpaVisTissue: no visible binding for global variable ‘tissue_cell’ hpaXmlTissueExpr : <anonymous>: no visible binding for global variable ‘patientId’ hpaXmlTissueExpr : <anonymous>: no visible binding for global variable ‘age’ hpaXmlTissueExpr : <anonymous>: no visible binding for global variable ‘sex’ hpaXmlTissueExpr : <anonymous>: no visible binding for global variable ‘staining’ hpaXmlTissueExpr : <anonymous>: no visible binding for global variable ‘intensity’ hpaXmlTissueExpr : <anonymous>: no visible binding for global variable ‘quantity’ hpaXmlTissueExpr : <anonymous>: no visible binding for global variable ‘imageUrl’ hpaXmlTissueExprSum: no visible binding for global variable ‘tissue’ hpaXmlTissueExprSum: no visible binding for global variable ‘imageUrl’ is_null_data: no visible binding for global variable ‘hpa_histology_data’ named_vector_list_to_tibble: no visible binding for global variable ‘index’ Undefined global functions or variables: . age cancer cell_line cell_type datasetnames gene high hpa_histology_data imageUrl index intensity level low medium not_detected patientId patient_count quantity sex staining sub_location tissue tissue_cell * checking Rd files ... OK * checking Rd metadata ... OK * checking Rd cross-references ... OK * checking for missing documentation entries ... OK * checking for code/documentation mismatches ... OK * checking Rd \usage sections ... OK * checking Rd contents ... OK * checking for unstated dependencies in examples ... OK * checking contents of ‘data’ directory ... OK * checking data for non-ASCII characters ... OK * checking LazyData ... OK * checking data for ASCII and uncompressed saves ... OK * checking R/sysdata.rda ... OK * checking files in ‘vignettes’ ... OK * checking examples ... OK * checking for unstated dependencies in vignettes ... OK * checking package vignettes in ‘inst/doc’ ... OK * checking running R code from vignettes ... SKIPPED * checking re-building of vignette outputs ... SKIPPED * checking PDF version of manual ... OK * DONE Status: 1 NOTE See ‘/home/biocbuild/bbs-3.14-bioc/meat/HPAanalyze.Rcheck/00check.log’ for details.
HPAanalyze.Rcheck/00install.out
############################################################################## ############################################################################## ### ### Running command: ### ### /home/biocbuild/bbs-3.14-bioc/R/bin/R CMD INSTALL HPAanalyze ### ############################################################################## ############################################################################## * installing to library ‘/home/biocbuild/bbs-3.14-bioc/R/library’ * installing *source* package ‘HPAanalyze’ ... ** using staged installation ** R ** data *** moving datasets to lazyload DB ** inst ** byte-compile and prepare package for lazy loading ** help *** installing help indices ** building package indices ** installing vignettes ** testing if installed package can be loaded from temporary location ** testing if installed package can be loaded from final location ** testing if installed package keeps a record of temporary installation path * DONE (HPAanalyze)
HPAanalyze.Rcheck/HPAanalyze-Ex.timings
| name | user | system | elapsed | |
| hpaDownload | 1.455 | 0.218 | 1.673 | |
| hpaExport | 0.444 | 0.048 | 0.492 | |
| hpaListParam | 0.176 | 0.016 | 0.191 | |
| hpaVis | 0.715 | 0.016 | 0.732 | |
| hpaVisPatho | 2.606 | 0.228 | 2.834 | |
| hpaVisSubcell | 1.659 | 0.197 | 1.854 | |
| hpaVisTissue | 1.722 | 0.247 | 1.970 | |
| hpaXml | 0.222 | 0.044 | 3.105 | |
| hpaXmlAntibody | 0 | 0 | 0 | |
| hpaXmlGet | 0 | 0 | 0 | |
| hpaXmlProtClass | 0 | 0 | 0 | |
| hpaXmlTissueExpr | 0 | 0 | 0 | |
| hpaXmlTissueExprSum | 0 | 0 | 0 | |
| hpa_histology_data | 1.274 | 0.201 | 1.474 | |