| Back to Multiple platform build/check report for BioC 3.14 | 
 | 
This page was generated on 2022-04-13 12:06:37 -0400 (Wed, 13 Apr 2022).
| Hostname | OS | Arch (*) | R version | Installed pkgs | 
|---|---|---|---|---|
| nebbiolo2 | Linux (Ubuntu 20.04.4 LTS) | x86_64 | 4.1.3 (2022-03-10) -- "One Push-Up" | 4324 | 
| tokay2 | Windows Server 2012 R2 Standard | x64 | 4.1.3 (2022-03-10) -- "One Push-Up" | 4077 | 
| machv2 | macOS 10.14.6 Mojave | x86_64 | 4.1.3 (2022-03-10) -- "One Push-Up" | 4137 | 
| Click on any hostname to see more info about the system (e.g. compilers) (*) as reported by 'uname -p', except on Windows and Mac OS X | ||||
| To the developers/maintainers of the GenomicFeatures package: - Please allow up to 24 hours (and sometimes 48 hours) for your latest push to git@git.bioconductor.org:packages/GenomicFeatures.git to reflect on this report. See How and When does the builder pull? When will my changes propagate? for more information. - Make sure to use the following settings in order to reproduce any error or warning you see on this page. | 
| Package 751/2083 | Hostname | OS / Arch | INSTALL | BUILD | CHECK | BUILD BIN | ||||||||
| GenomicFeatures 1.46.5  (landing page) Bioconductor Package Maintainer 
 | nebbiolo2 | Linux (Ubuntu 20.04.4 LTS) / x86_64 | OK | OK | ERROR | |||||||||
| tokay2 | Windows Server 2012 R2 Standard / x64 | OK | OK | OK | OK |  | ||||||||
| machv2 | macOS 10.14.6 Mojave / x86_64 | OK | OK | OK | OK |  | ||||||||
| Package: GenomicFeatures | 
| Version: 1.46.5 | 
| Command: C:\cygwin\bin\curl.exe -O http://155.52.207.166/BBS/3.14/bioc/src/contrib/GenomicFeatures_1.46.5.tar.gz && rm -rf GenomicFeatures.buildbin-libdir && mkdir GenomicFeatures.buildbin-libdir && C:\Users\biocbuild\bbs-3.14-bioc\R\bin\R.exe CMD INSTALL --merge-multiarch --build --library=GenomicFeatures.buildbin-libdir GenomicFeatures_1.46.5.tar.gz && C:\Users\biocbuild\bbs-3.14-bioc\R\bin\R.exe CMD INSTALL GenomicFeatures_1.46.5.zip && rm GenomicFeatures_1.46.5.tar.gz GenomicFeatures_1.46.5.zip | 
| StartedAt: 2022-04-12 06:07:29 -0400 (Tue, 12 Apr 2022) | 
| EndedAt: 2022-04-12 06:10:04 -0400 (Tue, 12 Apr 2022) | 
| EllapsedTime: 155.3 seconds | 
| RetCode: 0 | 
| Status: OK | 
##############################################################################
##############################################################################
###
### Running command:
###
###   C:\cygwin\bin\curl.exe -O http://155.52.207.166/BBS/3.14/bioc/src/contrib/GenomicFeatures_1.46.5.tar.gz && rm -rf GenomicFeatures.buildbin-libdir && mkdir GenomicFeatures.buildbin-libdir && C:\Users\biocbuild\bbs-3.14-bioc\R\bin\R.exe CMD INSTALL --merge-multiarch --build --library=GenomicFeatures.buildbin-libdir GenomicFeatures_1.46.5.tar.gz && C:\Users\biocbuild\bbs-3.14-bioc\R\bin\R.exe CMD INSTALL GenomicFeatures_1.46.5.zip && rm GenomicFeatures_1.46.5.tar.gz GenomicFeatures_1.46.5.zip
###
##############################################################################
##############################################################################
  % Total    % Received % Xferd  Average Speed   Time    Time     Time  Current
                                 Dload  Upload   Total   Spent    Left  Speed
  0     0    0     0    0     0      0      0 --:--:-- --:--:-- --:--:--     0
  7 1132k    7 91587    0     0   468k      0  0:00:02 --:--:--  0:00:02  468k
100 1132k  100 1132k    0     0  1318k      0 --:--:-- --:--:-- --:--:-- 1318k
install for i386
* installing *source* package 'GenomicFeatures' ...
** using staged installation
** R
** inst
** byte-compile and prepare package for lazy loading
** help
*** installing help indices
  converting help for package 'GenomicFeatures'
    finding HTML links ... done
    FeatureDb-class                         html  
    finding level-2 HTML links ... done
    TxDb-class                              html  
    as-format-methods                       html  
    coordinate-mapping-methods              html  
    coverageByTranscript                    html  
    disjointExons                           html  
    exonicParts                             html  
    extractTranscriptSeqs                   html  
    extractUpstreamSeqs                     html  
    features                                html  
    getPromoterSeq-methods                  html  
    id2name                                 html  
    makeFeatureDbFromUCSC                   html  
    makeTxDb                                html  
    makeTxDbFromBiomart                     html  
    makeTxDbFromEnsembl                     html  
    makeTxDbFromGFF                         html  
    makeTxDbFromGRanges                     html  
    makeTxDbFromUCSC                        html  
    makeTxDbPackage                         html  
    mapIdsToRanges                          html  
    mapRangesToIds                          html  
    microRNAs                               html  
    nearest-methods                         html  
    select-methods                          html  
    transcriptLengths                       html  
    transcriptLocs2refLocs                  html  
    transcripts                             html  
    transcriptsBy                           html  
    transcriptsByOverlaps                   html  
** building package indices
** installing vignettes
** testing if installed package can be loaded from temporary location
** testing if installed package can be loaded from final location
** testing if installed package keeps a record of temporary installation path
install for x64
* installing *source* package 'GenomicFeatures' ...
** testing if installed package can be loaded
* MD5 sums
packaged installation of 'GenomicFeatures' as GenomicFeatures_1.46.5.zip
* DONE (GenomicFeatures)
* installing to library 'C:/Users/biocbuild/bbs-3.14-bioc/R/library'
package 'GenomicFeatures' successfully unpacked and MD5 sums checked