| Back to Multiple platform build/check report for BioC 3.14 |
|
This page was generated on 2022-04-13 12:06:36 -0400 (Wed, 13 Apr 2022).
| Hostname | OS | Arch (*) | R version | Installed pkgs |
|---|---|---|---|---|
| nebbiolo2 | Linux (Ubuntu 20.04.4 LTS) | x86_64 | 4.1.3 (2022-03-10) -- "One Push-Up" | 4324 |
| tokay2 | Windows Server 2012 R2 Standard | x64 | 4.1.3 (2022-03-10) -- "One Push-Up" | 4077 |
| machv2 | macOS 10.14.6 Mojave | x86_64 | 4.1.3 (2022-03-10) -- "One Push-Up" | 4137 |
| Click on any hostname to see more info about the system (e.g. compilers) (*) as reported by 'uname -p', except on Windows and Mac OS X | ||||
|
To the developers/maintainers of the GeneGeneInteR package: - Please allow up to 24 hours (and sometimes 48 hours) for your latest push to git@git.bioconductor.org:packages/GeneGeneInteR.git to reflect on this report. See How and When does the builder pull? When will my changes propagate? for more information. - Make sure to use the following settings in order to reproduce any error or warning you see on this page. |
| Package 725/2083 | Hostname | OS / Arch | INSTALL | BUILD | CHECK | BUILD BIN | ||||||||
| GeneGeneInteR 1.20.0 (landing page) Mathieu Emily
| nebbiolo2 | Linux (Ubuntu 20.04.4 LTS) / x86_64 | OK | OK | OK | |||||||||
| tokay2 | Windows Server 2012 R2 Standard / x64 | OK | OK | OK | OK | |||||||||
| machv2 | macOS 10.14.6 Mojave / x86_64 | OK | OK | OK | OK | |||||||||
| Package: GeneGeneInteR |
| Version: 1.20.0 |
| Command: rm -rf GeneGeneInteR.buildbin-libdir && mkdir GeneGeneInteR.buildbin-libdir && C:\Users\biocbuild\bbs-3.14-bioc\R\bin\R.exe CMD INSTALL --merge-multiarch --build --library=GeneGeneInteR.buildbin-libdir GeneGeneInteR_1.20.0.tar.gz |
| StartedAt: 2022-04-13 06:17:14 -0400 (Wed, 13 Apr 2022) |
| EndedAt: 2022-04-13 06:18:14 -0400 (Wed, 13 Apr 2022) |
| EllapsedTime: 60.7 seconds |
| RetCode: 0 |
| Status: OK |
| PackageFile: GeneGeneInteR_1.20.0.zip |
| PackageFileSize: 1.309 MiB |
##############################################################################
##############################################################################
###
### Running command:
###
### rm -rf GeneGeneInteR.buildbin-libdir && mkdir GeneGeneInteR.buildbin-libdir && C:\Users\biocbuild\bbs-3.14-bioc\R\bin\R.exe CMD INSTALL --merge-multiarch --build --library=GeneGeneInteR.buildbin-libdir GeneGeneInteR_1.20.0.tar.gz
###
##############################################################################
##############################################################################
install for i386
* installing *source* package 'GeneGeneInteR' ...
** using staged installation
** libs
"C:/rtools40/mingw32/bin/"g++ -std=gnu++11 -I"C:/Users/BIOCBU~1/BBS-3~1.14-/R/include" -DNDEBUG -I"C:/extsoft/include" -O2 -Wall -mfpmath=sse -msse2 -mstackrealign -c chclust.cpp -o chclust.o
C:/rtools40/mingw32/bin/g++ -std=gnu++11 -shared -s -static-libgcc -o GeneGeneInteR.dll tmp.def chclust.o -LC:/extsoft/lib/i386 -LC:/extsoft/lib -LC:/Users/BIOCBU~1/BBS-3~1.14-/R/bin/i386 -lR
installing to C:/Users/biocbuild/bbs-3.14-bioc/meat/GeneGeneInteR.buildbin-libdir/00LOCK-GeneGeneInteR/00new/GeneGeneInteR/libs/i386
** R
** data
*** moving datasets to lazyload DB
** inst
** byte-compile and prepare package for lazy loading
** help
*** installing help indices
converting help for package 'GeneGeneInteR'
finding HTML links ... done
CCA.test html
CLD.test html
GBIGM.test html
GGI html
KCCA.test html
PCA.test html
PLSPM.test html
data.SNP html
gates.test html
gene.pair html
importFile html
imputeSnpMatrix html
minP.test html
plot.GGInetwork html
print.GGItest html
selectSnps html
snpMatrixScour html
summary.GGInetwork html
summary.GGItest html
tProd.test html
tTS.test html
** building package indices
** installing vignettes
** testing if installed package can be loaded from temporary location
** testing if installed package can be loaded from final location
** testing if installed package keeps a record of temporary installation path
install for x64
* installing *source* package 'GeneGeneInteR' ...
** libs
"C:/rtools40/mingw64/bin/"g++ -std=gnu++11 -I"C:/Users/BIOCBU~1/BBS-3~1.14-/R/include" -DNDEBUG -I"C:/extsoft/include" -O2 -Wall -mfpmath=sse -msse2 -mstackrealign -c chclust.cpp -o chclust.o
C:/rtools40/mingw64/bin/g++ -std=gnu++11 -shared -s -static-libgcc -o GeneGeneInteR.dll tmp.def chclust.o -LC:/extsoft/lib/x64 -LC:/extsoft/lib -LC:/Users/BIOCBU~1/BBS-3~1.14-/R/bin/x64 -lR
installing to C:/Users/biocbuild/bbs-3.14-bioc/meat/GeneGeneInteR.buildbin-libdir/GeneGeneInteR/libs/x64
** testing if installed package can be loaded
* MD5 sums
packaged installation of 'GeneGeneInteR' as GeneGeneInteR_1.20.0.zip
* DONE (GeneGeneInteR)