| Back to Multiple platform build/check report for BioC 3.14 |
|
This page was generated on 2022-04-13 12:08:06 -0400 (Wed, 13 Apr 2022).
| Hostname | OS | Arch (*) | R version | Installed pkgs |
|---|---|---|---|---|
| nebbiolo2 | Linux (Ubuntu 20.04.4 LTS) | x86_64 | 4.1.3 (2022-03-10) -- "One Push-Up" | 4324 |
| tokay2 | Windows Server 2012 R2 Standard | x64 | 4.1.3 (2022-03-10) -- "One Push-Up" | 4077 |
| machv2 | macOS 10.14.6 Mojave | x86_64 | 4.1.3 (2022-03-10) -- "One Push-Up" | 4137 |
| Click on any hostname to see more info about the system (e.g. compilers) (*) as reported by 'uname -p', except on Windows and Mac OS X | ||||
|
To the developers/maintainers of the GOexpress package: - Please allow up to 24 hours (and sometimes 48 hours) for your latest push to git@git.bioconductor.org:packages/GOexpress.git to reflect on this report. See How and When does the builder pull? When will my changes propagate? for more information. - Make sure to use the following settings in order to reproduce any error or warning you see on this page. |
| Package 798/2083 | Hostname | OS / Arch | INSTALL | BUILD | CHECK | BUILD BIN | ||||||||
| GOexpress 1.28.0 (landing page) Kevin Rue-Albrecht
| nebbiolo2 | Linux (Ubuntu 20.04.4 LTS) / x86_64 | OK | OK | OK | |||||||||
| tokay2 | Windows Server 2012 R2 Standard / x64 | OK | OK | OK | OK | |||||||||
| machv2 | macOS 10.14.6 Mojave / x86_64 | OK | OK | OK | OK | |||||||||
| Package: GOexpress |
| Version: 1.28.0 |
| Command: /Library/Frameworks/R.framework/Resources/bin/R CMD check --install=check:GOexpress.install-out.txt --library=/Library/Frameworks/R.framework/Resources/library --no-vignettes --timings GOexpress_1.28.0.tar.gz |
| StartedAt: 2022-04-12 13:55:54 -0400 (Tue, 12 Apr 2022) |
| EndedAt: 2022-04-12 13:59:11 -0400 (Tue, 12 Apr 2022) |
| EllapsedTime: 196.8 seconds |
| RetCode: 0 |
| Status: OK |
| CheckDir: GOexpress.Rcheck |
| Warnings: 0 |
##############################################################################
##############################################################################
###
### Running command:
###
### /Library/Frameworks/R.framework/Resources/bin/R CMD check --install=check:GOexpress.install-out.txt --library=/Library/Frameworks/R.framework/Resources/library --no-vignettes --timings GOexpress_1.28.0.tar.gz
###
##############################################################################
##############################################################################
* using log directory ‘/Users/biocbuild/bbs-3.14-bioc/meat/GOexpress.Rcheck’
* using R version 4.1.3 (2022-03-10)
* using platform: x86_64-apple-darwin17.0 (64-bit)
* using session charset: UTF-8
* using option ‘--no-vignettes’
* checking for file ‘GOexpress/DESCRIPTION’ ... OK
* this is package ‘GOexpress’ version ‘1.28.0’
* checking package namespace information ... OK
* checking package dependencies ... OK
* checking if this is a source package ... OK
* checking if there is a namespace ... OK
* checking for hidden files and directories ... NOTE
Found the following hidden files and directories:
.travis.yml
These were most likely included in error. See section ‘Package
structure’ in the ‘Writing R Extensions’ manual.
* checking for portable file names ... OK
* checking for sufficient/correct file permissions ... OK
* checking whether package ‘GOexpress’ can be installed ... OK
* checking installed package size ... OK
* checking package directory ... OK
* checking ‘build’ directory ... OK
* checking DESCRIPTION meta-information ... OK
* checking top-level files ... OK
* checking for left-over files ... OK
* checking index information ... OK
* checking package subdirectories ... OK
* checking R files for non-ASCII characters ... OK
* checking R files for syntax errors ... OK
* checking whether the package can be loaded ... OK
* checking whether the package can be loaded with stated dependencies ... OK
* checking whether the package can be unloaded cleanly ... OK
* checking whether the namespace can be loaded with stated dependencies ... OK
* checking whether the namespace can be unloaded cleanly ... OK
* checking dependencies in R code ... OK
* checking S3 generic/method consistency ... OK
* checking replacement functions ... OK
* checking foreign function calls ... OK
* checking R code for possible problems ... NOTE
GO_analyse: no visible binding for global variable ‘microarray2dataset’
GO_analyse: no visible binding for global variable ‘prefix2dataset’
mart_from_ensembl: no visible binding for global variable
‘prefix2dataset’
Undefined global functions or variables:
microarray2dataset prefix2dataset
* checking Rd files ... OK
* checking Rd metadata ... OK
* checking Rd cross-references ... OK
* checking for missing documentation entries ... OK
* checking for code/documentation mismatches ... OK
* checking Rd \usage sections ... OK
* checking Rd contents ... OK
* checking for unstated dependencies in examples ... OK
* checking contents of ‘data’ directory ... OK
* checking data for non-ASCII characters ... OK
* checking LazyData ... OK
* checking data for ASCII and uncompressed saves ... OK
* checking sizes of PDF files under ‘inst/doc’ ... OK
* checking files in ‘vignettes’ ... OK
* checking examples ... OK
Examples with CPU (user + system) or elapsed time > 5s
user system elapsed
AlvMac_results.pVal 2.272 2.314 5.649
* checking for unstated dependencies in vignettes ... OK
* checking package vignettes in ‘inst/doc’ ... OK
* checking running R code from vignettes ... SKIPPED
* checking re-building of vignette outputs ... SKIPPED
* checking PDF version of manual ... OK
* DONE
Status: 2 NOTEs
See
‘/Users/biocbuild/bbs-3.14-bioc/meat/GOexpress.Rcheck/00check.log’
for details.
GOexpress.Rcheck/00install.out
############################################################################## ############################################################################## ### ### Running command: ### ### /Library/Frameworks/R.framework/Resources/bin/R CMD INSTALL GOexpress ### ############################################################################## ############################################################################## * installing to library ‘/Library/Frameworks/R.framework/Versions/4.1/Resources/library’ * installing *source* package ‘GOexpress’ ... ** using staged installation ** R ** data *** moving datasets to lazyload DB ** inst ** byte-compile and prepare package for lazy loading ** help *** installing help indices ** building package indices ** installing vignettes ** testing if installed package can be loaded from temporary location ** testing if installed package can be loaded from final location ** testing if installed package keeps a record of temporary installation path * DONE (GOexpress)
GOexpress.Rcheck/GOexpress-Ex.timings
| name | user | system | elapsed | |
| AlvMac | 0.174 | 0.026 | 0.201 | |
| AlvMac_GOgenes | 0.530 | 0.013 | 0.543 | |
| AlvMac_allGO | 0.037 | 0.004 | 0.041 | |
| AlvMac_allgenes | 0.018 | 0.001 | 0.020 | |
| AlvMac_results | 0.211 | 0.016 | 0.229 | |
| AlvMac_results.pVal | 2.272 | 2.314 | 5.649 | |
| GO_analyse | 4.154 | 0.120 | 4.280 | |
| GOexpress-package | 0.005 | 0.007 | 0.011 | |
| cluster_GO | 0.158 | 0.003 | 0.161 | |
| expression_plot | 3.101 | 0.097 | 3.245 | |
| expression_plot_symbol | 1.056 | 0.010 | 1.068 | |
| expression_profiles | 1.061 | 0.009 | 1.073 | |
| expression_profiles_symbol | 1.632 | 0.013 | 1.646 | |
| heatmap_GO | 0.878 | 0.028 | 0.910 | |
| hist_scores | 0.352 | 0.012 | 0.365 | |
| list_genes | 0.194 | 0.005 | 0.200 | |
| microarray2dataset | 0.014 | 0.023 | 0.037 | |
| pValue_GO | 0.000 | 0.001 | 0.001 | |
| plot_design | 0.168 | 0.008 | 0.175 | |
| prefix2dataset | 0.011 | 0.005 | 0.015 | |
| quantiles_scores | 0.235 | 0.005 | 0.239 | |
| rerank | 0.359 | 0.005 | 0.365 | |
| subEset | 0.055 | 0.003 | 0.058 | |
| subset_scores | 0.250 | 0.009 | 0.260 | |
| table_genes | 0.188 | 0.008 | 0.197 | |