| Back to Multiple platform build/check report for BioC 3.14 |
|
This page was generated on 2022-04-13 12:06:39 -0400 (Wed, 13 Apr 2022).
| Hostname | OS | Arch (*) | R version | Installed pkgs |
|---|---|---|---|---|
| nebbiolo2 | Linux (Ubuntu 20.04.4 LTS) | x86_64 | 4.1.3 (2022-03-10) -- "One Push-Up" | 4324 |
| tokay2 | Windows Server 2012 R2 Standard | x64 | 4.1.3 (2022-03-10) -- "One Push-Up" | 4077 |
| machv2 | macOS 10.14.6 Mojave | x86_64 | 4.1.3 (2022-03-10) -- "One Push-Up" | 4137 |
| Click on any hostname to see more info about the system (e.g. compilers) (*) as reported by 'uname -p', except on Windows and Mac OS X | ||||
|
To the developers/maintainers of the GOSemSim package: - Please allow up to 24 hours (and sometimes 48 hours) for your latest push to git@git.bioconductor.org:packages/GOSemSim.git to reflect on this report. See How and When does the builder pull? When will my changes propagate? for more information. - Make sure to use the following settings in order to reproduce any error or warning you see on this page. |
| Package 802/2083 | Hostname | OS / Arch | INSTALL | BUILD | CHECK | BUILD BIN | ||||||||
| GOSemSim 2.20.0 (landing page) Guangchuang Yu
| nebbiolo2 | Linux (Ubuntu 20.04.4 LTS) / x86_64 | OK | OK | OK | |||||||||
| tokay2 | Windows Server 2012 R2 Standard / x64 | OK | OK | OK | OK | |||||||||
| machv2 | macOS 10.14.6 Mojave / x86_64 | OK | OK | OK | OK | |||||||||
| Package: GOSemSim |
| Version: 2.20.0 |
| Command: rm -rf GOSemSim.buildbin-libdir && mkdir GOSemSim.buildbin-libdir && C:\Users\biocbuild\bbs-3.14-bioc\R\bin\R.exe CMD INSTALL --merge-multiarch --build --library=GOSemSim.buildbin-libdir GOSemSim_2.20.0.tar.gz |
| StartedAt: 2022-04-13 06:21:18 -0400 (Wed, 13 Apr 2022) |
| EndedAt: 2022-04-13 06:22:07 -0400 (Wed, 13 Apr 2022) |
| EllapsedTime: 49.4 seconds |
| RetCode: 0 |
| Status: OK |
| PackageFile: GOSemSim_2.20.0.zip |
| PackageFileSize: 1.558 MiB |
##############################################################################
##############################################################################
###
### Running command:
###
### rm -rf GOSemSim.buildbin-libdir && mkdir GOSemSim.buildbin-libdir && C:\Users\biocbuild\bbs-3.14-bioc\R\bin\R.exe CMD INSTALL --merge-multiarch --build --library=GOSemSim.buildbin-libdir GOSemSim_2.20.0.tar.gz
###
##############################################################################
##############################################################################
install for i386
* installing *source* package 'GOSemSim' ...
** using staged installation
** libs
"C:/rtools40/mingw32/bin/"g++ -std=gnu++11 -I"C:/Users/BIOCBU~1/BBS-3~1.14-/R/include" -DNDEBUG -I'C:/Users/biocbuild/bbs-3.14-bioc/R/library/Rcpp/include' -I"C:/extsoft/include" -O2 -Wall -mfpmath=sse -msse2 -mstackrealign -c ICmethod.cpp -o ICmethod.o
ICmethod.cpp: In function 'Rcpp::NumericMatrix infoContentMethod_cpp(Rcpp::StringVector&, Rcpp::StringVector&, Rcpp::List&, Rcpp::NumericVector&, const string&, const string&)':
ICmethod.cpp:82:29: warning: comparison of integer expressions of different signedness: 'std::size_t' {aka 'unsigned int'} and 'R_xlen_t' {aka 'int'} [-Wsign-compare]
for (std::size_t i=0; i < ic_.size(); i++ ) {
~~^~~~~~~~~~~~
ICmethod.cpp:88:29: warning: comparison of integer expressions of different signedness: 'std::size_t' {aka 'unsigned int'} and 'R_xlen_t' {aka 'int'} [-Wsign-compare]
for (std::size_t i=0; i < ic_.size(); i++ ) {
~~^~~~~~~~~~~~
ICmethod.cpp:116:29: warning: comparison of integer expressions of different signedness: 'std::size_t' {aka 'unsigned int'} and 'R_xlen_t' {aka 'int'} [-Wsign-compare]
for (std::size_t i=0; i < anc_.size(); i++ ) {
~~^~~~~~~~~~~~~
ICmethod.cpp:129:30: warning: comparison of integer expressions of different signedness: 'std::size_t' {aka 'unsigned int'} and 'R_xlen_t' {aka 'int'} [-Wsign-compare]
for ( std::size_t i = 0; i < id1_.size(); i++ ) {
~~^~~~~~~~~~~~~
ICmethod.cpp:136:34: warning: comparison of integer expressions of different signedness: 'std::size_t' {aka 'unsigned int'} and 'R_xlen_t' {aka 'int'} [-Wsign-compare]
for ( std::size_t j = 0; j < id2_.size(); j++ ) {
~~^~~~~~~~~~~~~
ICmethod.cpp:163:34: warning: comparison of integer expressions of different signedness: 'std::size_t' {aka 'unsigned int'} and 'R_xlen_t' {aka 'int'} [-Wsign-compare]
for ( std::size_t j = 0; j < id2_.size(); j++ ) {
~~^~~~~~~~~~~~~
"C:/rtools40/mingw32/bin/"g++ -std=gnu++11 -I"C:/Users/BIOCBU~1/BBS-3~1.14-/R/include" -DNDEBUG -I'C:/Users/biocbuild/bbs-3.14-bioc/R/library/Rcpp/include' -I"C:/extsoft/include" -O2 -Wall -mfpmath=sse -msse2 -mstackrealign -c RcppExports.cpp -o RcppExports.o
C:/rtools40/mingw32/bin/g++ -std=gnu++11 -shared -s -static-libgcc -o GOSemSim.dll tmp.def ICmethod.o RcppExports.o -LC:/extsoft/lib/i386 -LC:/extsoft/lib -LC:/Users/BIOCBU~1/BBS-3~1.14-/R/bin/i386 -lR
installing to C:/Users/biocbuild/bbs-3.14-bioc/meat/GOSemSim.buildbin-libdir/00LOCK-GOSemSim/00new/GOSemSim/libs/i386
** R
** data
** inst
** byte-compile and prepare package for lazy loading
** help
*** installing help indices
converting help for package 'GOSemSim'
finding HTML links ... done
GOSemSim-package html
GOSemSimDATA-class html
clusterSim html
combineScores html
geneSim html
goSim html
go_term_table html
godata html
infoContentMethod html
load_OrgDb html
mclusterSim html
mgeneSim html
mgoSim html
tcss_cutoff html
termSim html
wangMethod_internal html
** building package indices
** installing vignettes
** testing if installed package can be loaded from temporary location
** testing if installed package can be loaded from final location
** testing if installed package keeps a record of temporary installation path
install for x64
* installing *source* package 'GOSemSim' ...
** libs
"C:/rtools40/mingw64/bin/"g++ -std=gnu++11 -I"C:/Users/BIOCBU~1/BBS-3~1.14-/R/include" -DNDEBUG -I'C:/Users/biocbuild/bbs-3.14-bioc/R/library/Rcpp/include' -I"C:/extsoft/include" -O2 -Wall -mfpmath=sse -msse2 -mstackrealign -c ICmethod.cpp -o ICmethod.o
ICmethod.cpp: In function 'Rcpp::NumericMatrix infoContentMethod_cpp(Rcpp::StringVector&, Rcpp::StringVector&, Rcpp::List&, Rcpp::NumericVector&, const string&, const string&)':
ICmethod.cpp:82:29: warning: comparison of integer expressions of different signedness: 'std::size_t' {aka 'long long unsigned int'} and 'R_xlen_t' {aka 'long long int'} [-Wsign-compare]
for (std::size_t i=0; i < ic_.size(); i++ ) {
~~^~~~~~~~~~~~
ICmethod.cpp:88:29: warning: comparison of integer expressions of different signedness: 'std::size_t' {aka 'long long unsigned int'} and 'R_xlen_t' {aka 'long long int'} [-Wsign-compare]
for (std::size_t i=0; i < ic_.size(); i++ ) {
~~^~~~~~~~~~~~
ICmethod.cpp:116:29: warning: comparison of integer expressions of different signedness: 'std::size_t' {aka 'long long unsigned int'} and 'R_xlen_t' {aka 'long long int'} [-Wsign-compare]
for (std::size_t i=0; i < anc_.size(); i++ ) {
~~^~~~~~~~~~~~~
ICmethod.cpp:129:30: warning: comparison of integer expressions of different signedness: 'std::size_t' {aka 'long long unsigned int'} and 'R_xlen_t' {aka 'long long int'} [-Wsign-compare]
for ( std::size_t i = 0; i < id1_.size(); i++ ) {
~~^~~~~~~~~~~~~
ICmethod.cpp:136:34: warning: comparison of integer expressions of different signedness: 'std::size_t' {aka 'long long unsigned int'} and 'R_xlen_t' {aka 'long long int'} [-Wsign-compare]
for ( std::size_t j = 0; j < id2_.size(); j++ ) {
~~^~~~~~~~~~~~~
ICmethod.cpp:163:34: warning: comparison of integer expressions of different signedness: 'std::size_t' {aka 'long long unsigned int'} and 'R_xlen_t' {aka 'long long int'} [-Wsign-compare]
for ( std::size_t j = 0; j < id2_.size(); j++ ) {
~~^~~~~~~~~~~~~
"C:/rtools40/mingw64/bin/"g++ -std=gnu++11 -I"C:/Users/BIOCBU~1/BBS-3~1.14-/R/include" -DNDEBUG -I'C:/Users/biocbuild/bbs-3.14-bioc/R/library/Rcpp/include' -I"C:/extsoft/include" -O2 -Wall -mfpmath=sse -msse2 -mstackrealign -c RcppExports.cpp -o RcppExports.o
C:/rtools40/mingw64/bin/g++ -std=gnu++11 -shared -s -static-libgcc -o GOSemSim.dll tmp.def ICmethod.o RcppExports.o -LC:/extsoft/lib/x64 -LC:/extsoft/lib -LC:/Users/BIOCBU~1/BBS-3~1.14-/R/bin/x64 -lR
installing to C:/Users/biocbuild/bbs-3.14-bioc/meat/GOSemSim.buildbin-libdir/GOSemSim/libs/x64
** testing if installed package can be loaded
* MD5 sums
packaged installation of 'GOSemSim' as GOSemSim_2.20.0.zip
* DONE (GOSemSim)