| Back to Multiple platform build/check report for BioC 3.14 |
|
This page was generated on 2022-04-13 12:05:25 -0400 (Wed, 13 Apr 2022).
| Hostname | OS | Arch (*) | R version | Installed pkgs |
|---|---|---|---|---|
| nebbiolo2 | Linux (Ubuntu 20.04.4 LTS) | x86_64 | 4.1.3 (2022-03-10) -- "One Push-Up" | 4324 |
| tokay2 | Windows Server 2012 R2 Standard | x64 | 4.1.3 (2022-03-10) -- "One Push-Up" | 4077 |
| machv2 | macOS 10.14.6 Mojave | x86_64 | 4.1.3 (2022-03-10) -- "One Push-Up" | 4137 |
| Click on any hostname to see more info about the system (e.g. compilers) (*) as reported by 'uname -p', except on Windows and Mac OS X | ||||
|
To the developers/maintainers of the GGPA package: - Please allow up to 24 hours (and sometimes 48 hours) for your latest push to git@git.bioconductor.org:packages/GGPA.git to reflect on this report. See How and When does the builder pull? When will my changes propagate? for more information. - Make sure to use the following settings in order to reproduce any error or warning you see on this page. |
| Package 778/2083 | Hostname | OS / Arch | INSTALL | BUILD | CHECK | BUILD BIN | ||||||||
| GGPA 1.6.0 (landing page) Dongjun Chung
| nebbiolo2 | Linux (Ubuntu 20.04.4 LTS) / x86_64 | OK | OK | OK | |||||||||
| tokay2 | Windows Server 2012 R2 Standard / x64 | OK | OK | OK | OK | |||||||||
| machv2 | macOS 10.14.6 Mojave / x86_64 | OK | OK | OK | OK | |||||||||
| Package: GGPA |
| Version: 1.6.0 |
| Command: /home/biocbuild/bbs-3.14-bioc/R/bin/R CMD check --install=check:GGPA.install-out.txt --library=/home/biocbuild/bbs-3.14-bioc/R/library --no-vignettes --timings GGPA_1.6.0.tar.gz |
| StartedAt: 2022-04-12 07:38:10 -0400 (Tue, 12 Apr 2022) |
| EndedAt: 2022-04-12 07:40:52 -0400 (Tue, 12 Apr 2022) |
| EllapsedTime: 162.2 seconds |
| RetCode: 0 |
| Status: OK |
| CheckDir: GGPA.Rcheck |
| Warnings: 0 |
##############################################################################
##############################################################################
###
### Running command:
###
### /home/biocbuild/bbs-3.14-bioc/R/bin/R CMD check --install=check:GGPA.install-out.txt --library=/home/biocbuild/bbs-3.14-bioc/R/library --no-vignettes --timings GGPA_1.6.0.tar.gz
###
##############################################################################
##############################################################################
* using log directory ‘/home/biocbuild/bbs-3.14-bioc/meat/GGPA.Rcheck’
* using R version 4.1.3 (2022-03-10)
* using platform: x86_64-pc-linux-gnu (64-bit)
* using session charset: UTF-8
* using option ‘--no-vignettes’
* checking for file ‘GGPA/DESCRIPTION’ ... OK
* checking extension type ... Package
* this is package ‘GGPA’ version ‘1.6.0’
* checking package namespace information ... OK
* checking package dependencies ... OK
* checking if this is a source package ... OK
* checking if there is a namespace ... OK
* checking for hidden files and directories ... OK
* checking for portable file names ... OK
* checking for sufficient/correct file permissions ... OK
* checking whether package ‘GGPA’ can be installed ... OK
* checking installed package size ... NOTE
installed size is 6.5Mb
sub-directories of 1Mb or more:
libs 5.3Mb
* checking package directory ... OK
* checking ‘build’ directory ... OK
* checking DESCRIPTION meta-information ... OK
* checking top-level files ... OK
* checking for left-over files ... OK
* checking index information ... OK
* checking package subdirectories ... OK
* checking R files for non-ASCII characters ... OK
* checking R files for syntax errors ... OK
* checking whether the package can be loaded ... OK
* checking whether the package can be loaded with stated dependencies ... OK
* checking whether the package can be unloaded cleanly ... OK
* checking whether the namespace can be loaded with stated dependencies ... OK
* checking whether the namespace can be unloaded cleanly ... OK
* checking dependencies in R code ... NOTE
Packages in Depends field not imported from:
‘network’ ‘scales’ ‘sna’
These packages need to be imported from (in the NAMESPACE file)
for when this namespace is loaded but not attached.
* checking S3 generic/method consistency ... OK
* checking replacement functions ... OK
* checking foreign function calls ... OK
* checking R code for possible problems ... OK
* checking Rd files ... OK
* checking Rd metadata ... OK
* checking Rd cross-references ... OK
* checking for missing documentation entries ... OK
* checking for code/documentation mismatches ... OK
* checking Rd \usage sections ... OK
* checking Rd contents ... OK
* checking for unstated dependencies in examples ... OK
* checking contents of ‘data’ directory ... OK
* checking data for non-ASCII characters ... OK
* checking data for ASCII and uncompressed saves ... OK
* checking line endings in C/C++/Fortran sources/headers ... OK
* checking line endings in Makefiles ... OK
* checking compilation flags in Makevars ... OK
* checking for GNU extensions in Makefiles ... OK
* checking for portable use of $(BLAS_LIBS) and $(LAPACK_LIBS) ... OK
* checking use of PKG_*FLAGS in Makefiles ... OK
* checking compiled code ... NOTE
File ‘GGPA/libs/GGPA.so’:
Found ‘_ZSt4cout’, possibly from ‘std::cout’ (C++)
Object: ‘3_Param.o’
Compiled code should not call entry points which might terminate R nor
write to stdout/stderr instead of to the console, nor use Fortran I/O
nor system RNGs.
See ‘Writing portable packages’ in the ‘Writing R Extensions’ manual.
* checking files in ‘vignettes’ ... OK
* checking examples ... OK
Examples with CPU (user + system) or elapsed time > 5s
user system elapsed
GGPA-package 41.587 0.404 41.991
GGPA-class 20.651 0.280 20.932
GGPA 20.419 0.356 20.774
GGPA-internal 20.316 0.288 20.605
assoc 19.930 0.220 20.150
* checking for unstated dependencies in vignettes ... OK
* checking package vignettes in ‘inst/doc’ ... OK
* checking running R code from vignettes ... SKIPPED
* checking re-building of vignette outputs ... SKIPPED
* checking PDF version of manual ... OK
* DONE
Status: 3 NOTEs
See
‘/home/biocbuild/bbs-3.14-bioc/meat/GGPA.Rcheck/00check.log’
for details.
GGPA.Rcheck/00install.out
##############################################################################
##############################################################################
###
### Running command:
###
### /home/biocbuild/bbs-3.14-bioc/R/bin/R CMD INSTALL GGPA
###
##############################################################################
##############################################################################
* installing to library ‘/home/biocbuild/bbs-3.14-bioc/R/library’
* installing *source* package ‘GGPA’ ...
** using staged installation
** libs
g++ -std=gnu++14 -I"/home/biocbuild/bbs-3.14-bioc/R/include" -DNDEBUG -I'/home/biocbuild/bbs-3.14-bioc/R/library/Rcpp/include' -I'/home/biocbuild/bbs-3.14-bioc/R/library/RcppArmadillo/include' -I/usr/local/include -fpic -g -O2 -Wall -c 1_Main.cpp -o 1_Main.o
g++ -std=gnu++14 -I"/home/biocbuild/bbs-3.14-bioc/R/include" -DNDEBUG -I'/home/biocbuild/bbs-3.14-bioc/R/library/Rcpp/include' -I'/home/biocbuild/bbs-3.14-bioc/R/library/RcppArmadillo/include' -I/usr/local/include -fpic -g -O2 -Wall -c 3_Param.cpp -o 3_Param.o
3_Param.cpp: In member function ‘void CParam::S6_G_beta_ij(CData&)’:
3_Param.cpp:350:47: warning: ‘normC_prop’ may be used uninitialized in this function [-Wmaybe-uninitialized]
350 | Beta = Beta_prop ; G_mat = G_prop ; normC = normC_prop ;
| ~~~~~~^~~~~~~~~~~~
3_Param.cpp:335:32: warning: ‘logP_denom’ may be used uninitialized in this function [-Wmaybe-uninitialized]
335 | if ( w_cur > 0 ) logP_denom = logP_denom - log(w_cur) ; // f(G) // if w_cur=0, let 1/w_cur = 1, so that log(w_cur) = 0
| ~~~~~~~~~~~^~~~~~~~~~~~~~~~~~~~~~~~~
3_Param.cpp:334:33: warning: ‘logP_numer’ may be used uninitialized in this function [-Wmaybe-uninitialized]
334 | if ( w_prop > 0 ) logP_numer = logP_numer - log(w_prop) ; // f(G^q) // if w_prop=0, let 1/w_prop = 1, so that log(w_prop) = 0
| ~~~~~~~~~~~^~~~~~~~~~~~~~~~~~~~~~~~~~
g++ -std=gnu++14 -I"/home/biocbuild/bbs-3.14-bioc/R/include" -DNDEBUG -I'/home/biocbuild/bbs-3.14-bioc/R/library/Rcpp/include' -I'/home/biocbuild/bbs-3.14-bioc/R/library/RcppArmadillo/include' -I/usr/local/include -fpic -g -O2 -Wall -c Gibbs_e_it_no_ann.cpp -o Gibbs_e_it_no_ann.o
g++ -std=gnu++14 -I"/home/biocbuild/bbs-3.14-bioc/R/include" -DNDEBUG -I'/home/biocbuild/bbs-3.14-bioc/R/library/Rcpp/include' -I'/home/biocbuild/bbs-3.14-bioc/R/library/RcppArmadillo/include' -I/usr/local/include -fpic -g -O2 -Wall -c RcppExports.cpp -o RcppExports.o
g++ -std=gnu++14 -shared -L/home/biocbuild/bbs-3.14-bioc/R/lib -L/usr/local/lib -o GGPA.so 1_Main.o 3_Param.o Gibbs_e_it_no_ann.o RcppExports.o -L/home/biocbuild/bbs-3.14-bioc/R/lib -lRlapack -L/home/biocbuild/bbs-3.14-bioc/R/lib -lRblas -lgfortran -lm -lquadmath -L/home/biocbuild/bbs-3.14-bioc/R/lib -lR
installing to /home/biocbuild/bbs-3.14-bioc/R/library/00LOCK-GGPA/00new/GGPA/libs
** R
** data
** byte-compile and prepare package for lazy loading
** help
*** installing help indices
** building package indices
** installing vignettes
** testing if installed package can be loaded from temporary location
** checking absolute paths in shared objects and dynamic libraries
** testing if installed package can be loaded from final location
** testing if installed package keeps a record of temporary installation path
* DONE (GGPA)
GGPA.Rcheck/GGPA-Ex.timings
| name | user | system | elapsed | |
| GGPA-class | 20.651 | 0.280 | 20.932 | |
| GGPA-internal | 20.316 | 0.288 | 20.605 | |
| GGPA-package | 41.587 | 0.404 | 41.991 | |
| GGPA | 20.419 | 0.356 | 20.774 | |
| assoc | 19.93 | 0.22 | 20.15 | |
| simulation | 0.199 | 0.135 | 0.336 | |