| Back to Multiple platform build/check report for BioC 3.14 |
|
This page was generated on 2022-04-13 12:06:32 -0400 (Wed, 13 Apr 2022).
| Hostname | OS | Arch (*) | R version | Installed pkgs |
|---|---|---|---|---|
| nebbiolo2 | Linux (Ubuntu 20.04.4 LTS) | x86_64 | 4.1.3 (2022-03-10) -- "One Push-Up" | 4324 |
| tokay2 | Windows Server 2012 R2 Standard | x64 | 4.1.3 (2022-03-10) -- "One Push-Up" | 4077 |
| machv2 | macOS 10.14.6 Mojave | x86_64 | 4.1.3 (2022-03-10) -- "One Push-Up" | 4137 |
| Click on any hostname to see more info about the system (e.g. compilers) (*) as reported by 'uname -p', except on Windows and Mac OS X | ||||
|
To the developers/maintainers of the FastqCleaner package: - Please allow up to 24 hours (and sometimes 48 hours) for your latest push to git@git.bioconductor.org:packages/FastqCleaner.git to reflect on this report. See How and When does the builder pull? When will my changes propagate? for more information. - Make sure to use the following settings in order to reproduce any error or warning you see on this page. |
| Package 626/2083 | Hostname | OS / Arch | INSTALL | BUILD | CHECK | BUILD BIN | ||||||||
| FastqCleaner 1.12.0 (landing page) Leandro Roser
| nebbiolo2 | Linux (Ubuntu 20.04.4 LTS) / x86_64 | OK | OK | OK | |||||||||
| tokay2 | Windows Server 2012 R2 Standard / x64 | OK | OK | OK | OK | |||||||||
| machv2 | macOS 10.14.6 Mojave / x86_64 | OK | OK | OK | OK | |||||||||
| Package: FastqCleaner |
| Version: 1.12.0 |
| Command: C:\cygwin\bin\curl.exe -O http://155.52.207.166/BBS/3.14/bioc/src/contrib/FastqCleaner_1.12.0.tar.gz && rm -rf FastqCleaner.buildbin-libdir && mkdir FastqCleaner.buildbin-libdir && C:\Users\biocbuild\bbs-3.14-bioc\R\bin\R.exe CMD INSTALL --merge-multiarch --build --library=FastqCleaner.buildbin-libdir FastqCleaner_1.12.0.tar.gz && C:\Users\biocbuild\bbs-3.14-bioc\R\bin\R.exe CMD INSTALL FastqCleaner_1.12.0.zip && rm FastqCleaner_1.12.0.tar.gz FastqCleaner_1.12.0.zip |
| StartedAt: 2022-04-12 07:34:01 -0400 (Tue, 12 Apr 2022) |
| EndedAt: 2022-04-12 07:38:22 -0400 (Tue, 12 Apr 2022) |
| EllapsedTime: 261.4 seconds |
| RetCode: 0 |
| Status: OK |
##############################################################################
##############################################################################
###
### Running command:
###
### C:\cygwin\bin\curl.exe -O http://155.52.207.166/BBS/3.14/bioc/src/contrib/FastqCleaner_1.12.0.tar.gz && rm -rf FastqCleaner.buildbin-libdir && mkdir FastqCleaner.buildbin-libdir && C:\Users\biocbuild\bbs-3.14-bioc\R\bin\R.exe CMD INSTALL --merge-multiarch --build --library=FastqCleaner.buildbin-libdir FastqCleaner_1.12.0.tar.gz && C:\Users\biocbuild\bbs-3.14-bioc\R\bin\R.exe CMD INSTALL FastqCleaner_1.12.0.zip && rm FastqCleaner_1.12.0.tar.gz FastqCleaner_1.12.0.zip
###
##############################################################################
##############################################################################
% Total % Received % Xferd Average Speed Time Time Time Current
Dload Upload Total Spent Left Speed
0 0 0 0 0 0 0 0 --:--:-- --:--:-- --:--:-- 0
17 5177k 17 906k 0 0 1341k 0 0:00:03 --:--:-- 0:00:03 1341k
63 5177k 63 3269k 0 0 1949k 0 0:00:02 0:00:01 0:00:01 1949k
100 5177k 100 5177k 0 0 2279k 0 0:00:02 0:00:02 --:--:-- 2280k
install for i386
* installing *source* package 'FastqCleaner' ...
** using staged installation
** libs
"C:/rtools40/mingw32/bin/"g++ -std=gnu++11 -I"C:/Users/BIOCBU~1/BBS-3~1.14-/R/include" -DNDEBUG -I../inst/include/ -I'C:/Users/biocbuild/bbs-3.14-bioc/R/library/Rcpp/include' -I"C:/extsoft/include" -O2 -Wall -mfpmath=sse -msse2 -mstackrealign -c RcppExports.cpp -o RcppExports.o
"C:/rtools40/mingw32/bin/"g++ -std=gnu++11 -I"C:/Users/BIOCBU~1/BBS-3~1.14-/R/include" -DNDEBUG -I../inst/include/ -I'C:/Users/biocbuild/bbs-3.14-bioc/R/library/Rcpp/include' -I"C:/extsoft/include" -O2 -Wall -mfpmath=sse -msse2 -mstackrealign -c cpp_GC_content.cpp -o cpp_GC_content.o
"C:/rtools40/mingw32/bin/"g++ -std=gnu++11 -I"C:/Users/BIOCBU~1/BBS-3~1.14-/R/include" -DNDEBUG -I../inst/include/ -I'C:/Users/biocbuild/bbs-3.14-bioc/R/library/Rcpp/include' -I"C:/extsoft/include" -O2 -Wall -mfpmath=sse -msse2 -mstackrealign -c cpp_base_content.cpp -o cpp_base_content.o
"C:/rtools40/mingw32/bin/"g++ -std=gnu++11 -I"C:/Users/BIOCBU~1/BBS-3~1.14-/R/include" -DNDEBUG -I../inst/include/ -I'C:/Users/biocbuild/bbs-3.14-bioc/R/library/Rcpp/include' -I"C:/extsoft/include" -O2 -Wall -mfpmath=sse -msse2 -mstackrealign -c cpp_check_quality_threshold.cpp -o cpp_check_quality_threshold.o
"C:/rtools40/mingw32/bin/"g++ -std=gnu++11 -I"C:/Users/BIOCBU~1/BBS-3~1.14-/R/include" -DNDEBUG -I../inst/include/ -I'C:/Users/biocbuild/bbs-3.14-bioc/R/library/Rcpp/include' -I"C:/extsoft/include" -O2 -Wall -mfpmath=sse -msse2 -mstackrealign -c cpp_create_stringvec.cpp -o cpp_create_stringvec.o
"C:/rtools40/mingw32/bin/"g++ -std=gnu++11 -I"C:/Users/BIOCBU~1/BBS-3~1.14-/R/include" -DNDEBUG -I../inst/include/ -I'C:/Users/biocbuild/bbs-3.14-bioc/R/library/Rcpp/include' -I"C:/extsoft/include" -O2 -Wall -mfpmath=sse -msse2 -mstackrealign -c cpp_which_true.cpp -o cpp_which_true.o
C:/rtools40/mingw32/bin/g++ -shared -s -static-libgcc -o FastqCleaner.dll tmp.def RcppExports.o cpp_GC_content.o cpp_base_content.o cpp_check_quality_threshold.o cpp_create_stringvec.o cpp_which_true.o -LC:/extsoft/lib/i386 -LC:/extsoft/lib -LC:/Users/BIOCBU~1/BBS-3~1.14-/R/bin/i386 -lR
installing to C:/Users/biocbuild/bbs-3.14-bioc/meat/FastqCleaner.buildbin-libdir/00LOCK-FastqCleaner/00new/FastqCleaner/libs/i386
** R
** inst
** byte-compile and prepare package for lazy loading
** help
*** installing help indices
converting help for package 'FastqCleaner'
finding HTML links ... done
adapter_filter html
asc2int html
check_encoding html
check_onclick_ html
complex_filter html
create_cleanfunction_ html
create_uniform_width html
fixed_filter html
inject_letter_random html
int2asc html
isNaturalNumber html
launch_fqc html
length_filter html
matching html
messageFun_ html
myPlot html
n_filter html
outputClean_ html
plotA html
plotB html
plotC html
plotD html
plotE html
plotF html
plotG html
plotH html
plotI html
plotJ html
plotObjects html
processingFunction_ html
qmean_filter html
random_length html
random_qual html
random_seq html
seq_filter html
seq_names html
trim3q_filter html
unique_filter html
** building package indices
** installing vignettes
** testing if installed package can be loaded from temporary location
** testing if installed package can be loaded from final location
** testing if installed package keeps a record of temporary installation path
install for x64
* installing *source* package 'FastqCleaner' ...
** libs
"C:/rtools40/mingw64/bin/"g++ -std=gnu++11 -I"C:/Users/BIOCBU~1/BBS-3~1.14-/R/include" -DNDEBUG -I../inst/include/ -I'C:/Users/biocbuild/bbs-3.14-bioc/R/library/Rcpp/include' -I"C:/extsoft/include" -O2 -Wall -mfpmath=sse -msse2 -mstackrealign -c RcppExports.cpp -o RcppExports.o
"C:/rtools40/mingw64/bin/"g++ -std=gnu++11 -I"C:/Users/BIOCBU~1/BBS-3~1.14-/R/include" -DNDEBUG -I../inst/include/ -I'C:/Users/biocbuild/bbs-3.14-bioc/R/library/Rcpp/include' -I"C:/extsoft/include" -O2 -Wall -mfpmath=sse -msse2 -mstackrealign -c cpp_GC_content.cpp -o cpp_GC_content.o
"C:/rtools40/mingw64/bin/"g++ -std=gnu++11 -I"C:/Users/BIOCBU~1/BBS-3~1.14-/R/include" -DNDEBUG -I../inst/include/ -I'C:/Users/biocbuild/bbs-3.14-bioc/R/library/Rcpp/include' -I"C:/extsoft/include" -O2 -Wall -mfpmath=sse -msse2 -mstackrealign -c cpp_base_content.cpp -o cpp_base_content.o
"C:/rtools40/mingw64/bin/"g++ -std=gnu++11 -I"C:/Users/BIOCBU~1/BBS-3~1.14-/R/include" -DNDEBUG -I../inst/include/ -I'C:/Users/biocbuild/bbs-3.14-bioc/R/library/Rcpp/include' -I"C:/extsoft/include" -O2 -Wall -mfpmath=sse -msse2 -mstackrealign -c cpp_check_quality_threshold.cpp -o cpp_check_quality_threshold.o
"C:/rtools40/mingw64/bin/"g++ -std=gnu++11 -I"C:/Users/BIOCBU~1/BBS-3~1.14-/R/include" -DNDEBUG -I../inst/include/ -I'C:/Users/biocbuild/bbs-3.14-bioc/R/library/Rcpp/include' -I"C:/extsoft/include" -O2 -Wall -mfpmath=sse -msse2 -mstackrealign -c cpp_create_stringvec.cpp -o cpp_create_stringvec.o
"C:/rtools40/mingw64/bin/"g++ -std=gnu++11 -I"C:/Users/BIOCBU~1/BBS-3~1.14-/R/include" -DNDEBUG -I../inst/include/ -I'C:/Users/biocbuild/bbs-3.14-bioc/R/library/Rcpp/include' -I"C:/extsoft/include" -O2 -Wall -mfpmath=sse -msse2 -mstackrealign -c cpp_which_true.cpp -o cpp_which_true.o
C:/rtools40/mingw64/bin/g++ -shared -s -static-libgcc -o FastqCleaner.dll tmp.def RcppExports.o cpp_GC_content.o cpp_base_content.o cpp_check_quality_threshold.o cpp_create_stringvec.o cpp_which_true.o -LC:/extsoft/lib/x64 -LC:/extsoft/lib -LC:/Users/BIOCBU~1/BBS-3~1.14-/R/bin/x64 -lR
installing to C:/Users/biocbuild/bbs-3.14-bioc/meat/FastqCleaner.buildbin-libdir/FastqCleaner/libs/x64
** testing if installed package can be loaded
* MD5 sums
packaged installation of 'FastqCleaner' as FastqCleaner_1.12.0.zip
* DONE (FastqCleaner)
* installing to library 'C:/Users/biocbuild/bbs-3.14-bioc/R/library'
package 'FastqCleaner' successfully unpacked and MD5 sums checked