| Back to Multiple platform build/check report for BioC 3.14 |
|
This page was generated on 2022-04-13 12:08:00 -0400 (Wed, 13 Apr 2022).
| Hostname | OS | Arch (*) | R version | Installed pkgs |
|---|---|---|---|---|
| nebbiolo2 | Linux (Ubuntu 20.04.4 LTS) | x86_64 | 4.1.3 (2022-03-10) -- "One Push-Up" | 4324 |
| tokay2 | Windows Server 2012 R2 Standard | x64 | 4.1.3 (2022-03-10) -- "One Push-Up" | 4077 |
| machv2 | macOS 10.14.6 Mojave | x86_64 | 4.1.3 (2022-03-10) -- "One Push-Up" | 4137 |
| Click on any hostname to see more info about the system (e.g. compilers) (*) as reported by 'uname -p', except on Windows and Mac OS X | ||||
|
To the developers/maintainers of the FLAMES package: - Please allow up to 24 hours (and sometimes 48 hours) for your latest push to git@git.bioconductor.org:packages/FLAMES.git to reflect on this report. See How and When does the builder pull? When will my changes propagate? for more information. - Make sure to use the following settings in order to reproduce any error or warning you see on this page. |
| Package 648/2083 | Hostname | OS / Arch | INSTALL | BUILD | CHECK | BUILD BIN | ||||||||
| FLAMES 1.0.2 (landing page) Voogd Oliver
| nebbiolo2 | Linux (Ubuntu 20.04.4 LTS) / x86_64 | OK | OK | OK | |||||||||
| tokay2 | Windows Server 2012 R2 Standard / x64 | OK | OK | OK | OK | |||||||||
| machv2 | macOS 10.14.6 Mojave / x86_64 | OK | OK | OK | OK | |||||||||
| Package: FLAMES |
| Version: 1.0.2 |
| Command: /Library/Frameworks/R.framework/Resources/bin/R CMD check --install=check:FLAMES.install-out.txt --library=/Library/Frameworks/R.framework/Resources/library --no-vignettes --timings FLAMES_1.0.2.tar.gz |
| StartedAt: 2022-04-12 13:19:40 -0400 (Tue, 12 Apr 2022) |
| EndedAt: 2022-04-12 13:24:29 -0400 (Tue, 12 Apr 2022) |
| EllapsedTime: 289.1 seconds |
| RetCode: 0 |
| Status: OK |
| CheckDir: FLAMES.Rcheck |
| Warnings: 0 |
##############################################################################
##############################################################################
###
### Running command:
###
### /Library/Frameworks/R.framework/Resources/bin/R CMD check --install=check:FLAMES.install-out.txt --library=/Library/Frameworks/R.framework/Resources/library --no-vignettes --timings FLAMES_1.0.2.tar.gz
###
##############################################################################
##############################################################################
* using log directory ‘/Users/biocbuild/bbs-3.14-bioc/meat/FLAMES.Rcheck’
* using R version 4.1.3 (2022-03-10)
* using platform: x86_64-apple-darwin17.0 (64-bit)
* using session charset: UTF-8
* using option ‘--no-vignettes’
* checking for file ‘FLAMES/DESCRIPTION’ ... OK
* checking extension type ... Package
* this is package ‘FLAMES’ version ‘1.0.2’
* package encoding: UTF-8
* checking package namespace information ... OK
* checking package dependencies ... OK
* checking if this is a source package ... OK
* checking if there is a namespace ... OK
* checking for hidden files and directories ... OK
* checking for portable file names ... OK
* checking for sufficient/correct file permissions ... OK
* checking whether package ‘FLAMES’ can be installed ... OK
* checking installed package size ... OK
* checking package directory ... OK
* checking ‘build’ directory ... OK
* checking DESCRIPTION meta-information ... OK
* checking top-level files ... OK
* checking for left-over files ... OK
* checking index information ... OK
* checking package subdirectories ... OK
* checking R files for non-ASCII characters ... OK
* checking R files for syntax errors ... OK
* checking whether the package can be loaded ... OK
* checking whether the package can be loaded with stated dependencies ... OK
* checking whether the package can be unloaded cleanly ... OK
* checking whether the namespace can be loaded with stated dependencies ... OK
* checking whether the namespace can be unloaded cleanly ... OK
* checking dependencies in R code ... OK
* checking S3 generic/method consistency ... OK
* checking replacement functions ... OK
* checking foreign function calls ... OK
* checking R code for possible problems ... NOTE
sc_DTU_analysis: no visible global function definition for ‘is’
sc_DTU_analysis: no visible binding for global variable ‘FSM_match’
sc_DTU_analysis: no visible binding for global variable ‘gene_name’
sc_DTU_analysis: no visible binding for global variable ‘cell_id’
sc_DTU_analysis: no visible binding for global variable ‘cnt’
sc_DTU_analysis: no visible binding for global variable ‘tr_id’
sc_DTU_analysis : get_rm: no visible binding for global variable
‘gene_name’
sc_DTU_analysis : get_rm: no visible binding for global variable ‘l’
Undefined global functions or variables:
FSM_match cell_id cnt gene_name is l tr_id
Consider adding
importFrom("methods", "is")
to your NAMESPACE file (and ensure that your DESCRIPTION Imports field
contains 'methods').
* checking Rd files ... OK
* checking Rd metadata ... OK
* checking Rd cross-references ... OK
* checking for missing documentation entries ... OK
* checking for code/documentation mismatches ... OK
* checking Rd \usage sections ... OK
* checking Rd contents ... OK
* checking for unstated dependencies in examples ... OK
* checking line endings in shell scripts ... OK
* checking line endings in C/C++/Fortran sources/headers ... OK
* checking line endings in Makefiles ... OK
* checking compilation flags in Makevars ... OK
* checking for GNU extensions in Makefiles ... NOTE
GNU make is a SystemRequirements.
* checking for portable use of $(BLAS_LIBS) and $(LAPACK_LIBS) ... OK
* checking use of PKG_*FLAGS in Makefiles ... OK
* checking compiled code ... NOTE
Note: information on .o files is not available
File ‘/Library/Frameworks/R.framework/Versions/4.1/Resources/library/FLAMES/libs/FLAMES.so’:
Found ‘___assert_rtn’, possibly from ‘assert’ (C)
Found ‘___stderrp’, possibly from ‘stderr’ (C)
Found ‘___stdoutp’, possibly from ‘stdout’ (C)
Found ‘_abort’, possibly from ‘abort’ (C)
Found ‘_exit’, possibly from ‘exit’ (C)
Found ‘_printf’, possibly from ‘printf’ (C)
Found ‘_putchar’, possibly from ‘putchar’ (C)
Found ‘_puts’, possibly from ‘printf’ (C), ‘puts’ (C)
Found ‘_srand48’, possibly from ‘srand48’ (C)
Compiled code should not call entry points which might terminate R nor
write to stdout/stderr instead of to the console, nor use Fortran I/O
nor system RNGs. The detected symbols are linked into the code but
might come from libraries and not actually be called.
See ‘Writing portable packages’ in the ‘Writing R Extensions’ manual.
* checking files in ‘vignettes’ ... OK
* checking examples ... OK
* checking for unstated dependencies in vignettes ... OK
* checking package vignettes in ‘inst/doc’ ... OK
* checking running R code from vignettes ... SKIPPED
* checking re-building of vignette outputs ... SKIPPED
* checking PDF version of manual ... OK
* DONE
Status: 3 NOTEs
See
‘/Users/biocbuild/bbs-3.14-bioc/meat/FLAMES.Rcheck/00check.log’
for details.
FLAMES.Rcheck/00install.out
##############################################################################
##############################################################################
###
### Running command:
###
### /Library/Frameworks/R.framework/Resources/bin/R CMD INSTALL FLAMES
###
##############################################################################
##############################################################################
* installing to library ‘/Library/Frameworks/R.framework/Versions/4.1/Resources/library’
* installing *source* package ‘FLAMES’ ...
** using staged installation
** libs
clang++ -mmacosx-version-min=10.13 -std=gnu++17 -I"/Library/Frameworks/R.framework/Resources/include" -DNDEBUG -D_FILE_OFFSET_BITS=64 -I'/Library/Frameworks/R.framework/Versions/4.1/Resources/library/Rcpp/include' -I'/Library/Frameworks/R.framework/Versions/4.1/Resources/library/Rhtslib/include' -I'/Library/Frameworks/R.framework/Versions/4.1/Resources/library/zlibbioc/include' -I/usr/local/include -fPIC -Wall -g -O2 -c RcppExports.cpp -o RcppExports.o
clang -mmacosx-version-min=10.13 -I"/Library/Frameworks/R.framework/Resources/include" -DNDEBUG -D_FILE_OFFSET_BITS=64 -I'/Library/Frameworks/R.framework/Versions/4.1/Resources/library/Rcpp/include' -I'/Library/Frameworks/R.framework/Versions/4.1/Resources/library/Rhtslib/include' -I'/Library/Frameworks/R.framework/Versions/4.1/Resources/library/zlibbioc/include' -I/usr/local/include -fPIC -Wall -g -O2 -c bam.c -o bam.o
clang++ -mmacosx-version-min=10.13 -std=gnu++17 -I"/Library/Frameworks/R.framework/Resources/include" -DNDEBUG -D_FILE_OFFSET_BITS=64 -I'/Library/Frameworks/R.framework/Versions/4.1/Resources/library/Rcpp/include' -I'/Library/Frameworks/R.framework/Versions/4.1/Resources/library/Rhtslib/include' -I'/Library/Frameworks/R.framework/Versions/4.1/Resources/library/zlibbioc/include' -I/usr/local/include -fPIC -Wall -g -O2 -c edit_dist.cpp -o edit_dist.o
clang++ -mmacosx-version-min=10.13 -std=gnu++17 -I"/Library/Frameworks/R.framework/Resources/include" -DNDEBUG -D_FILE_OFFSET_BITS=64 -I'/Library/Frameworks/R.framework/Versions/4.1/Resources/library/Rcpp/include' -I'/Library/Frameworks/R.framework/Versions/4.1/Resources/library/Rhtslib/include' -I'/Library/Frameworks/R.framework/Versions/4.1/Resources/library/zlibbioc/include' -I/usr/local/include -fPIC -Wall -g -O2 -c fastq_utils.cpp -o fastq_utils.o
In file included from fastq_utils.cpp:1:
./fastq_utils.h:13:1: warning: unused function 'kseq_read' [-Wunused-function]
KSEQ_INIT(gzFile, gzread)
^
./kseq.h:221:2: note: expanded from macro 'KSEQ_INIT'
__KSEQ_READ
^
./kseq.h:171:13: note: expanded from macro '__KSEQ_READ'
static int kseq_read(kseq_t *seq) \
^
1 warning generated.
clang++ -mmacosx-version-min=10.13 -std=gnu++17 -I"/Library/Frameworks/R.framework/Resources/include" -DNDEBUG -D_FILE_OFFSET_BITS=64 -I'/Library/Frameworks/R.framework/Versions/4.1/Resources/library/Rcpp/include' -I'/Library/Frameworks/R.framework/Versions/4.1/Resources/library/Rhtslib/include' -I'/Library/Frameworks/R.framework/Versions/4.1/Resources/library/zlibbioc/include' -I/usr/local/include -fPIC -Wall -g -O2 -c match_cell_barcode.cpp -o match_cell_barcode.o
clang++ -mmacosx-version-min=10.13 -std=gnu++17 -I"/Library/Frameworks/R.framework/Resources/include" -DNDEBUG -D_FILE_OFFSET_BITS=64 -I'/Library/Frameworks/R.framework/Versions/4.1/Resources/library/Rcpp/include' -I'/Library/Frameworks/R.framework/Versions/4.1/Resources/library/Rhtslib/include' -I'/Library/Frameworks/R.framework/Versions/4.1/Resources/library/zlibbioc/include' -I/usr/local/include -fPIC -Wall -g -O2 -c merge_bulk.cpp -o merge_bulk.o
clang -mmacosx-version-min=10.13 -I"/Library/Frameworks/R.framework/Resources/include" -DNDEBUG -D_FILE_OFFSET_BITS=64 -I'/Library/Frameworks/R.framework/Versions/4.1/Resources/library/Rcpp/include' -I'/Library/Frameworks/R.framework/Versions/4.1/Resources/library/Rhtslib/include' -I'/Library/Frameworks/R.framework/Versions/4.1/Resources/library/zlibbioc/include' -I/usr/local/include -fPIC -Wall -g -O2 -c ssw.c -o ssw.o
clang++ -mmacosx-version-min=10.13 -std=gnu++17 -I"/Library/Frameworks/R.framework/Resources/include" -DNDEBUG -D_FILE_OFFSET_BITS=64 -I'/Library/Frameworks/R.framework/Versions/4.1/Resources/library/Rcpp/include' -I'/Library/Frameworks/R.framework/Versions/4.1/Resources/library/Rhtslib/include' -I'/Library/Frameworks/R.framework/Versions/4.1/Resources/library/zlibbioc/include' -I/usr/local/include -fPIC -Wall -g -O2 -c ssw_cpp.cpp -o ssw_cpp.o
clang++ -mmacosx-version-min=10.13 -std=gnu++17 -dynamiclib -Wl,-headerpad_max_install_names -undefined dynamic_lookup -single_module -multiply_defined suppress -L/Library/Frameworks/R.framework/Resources/lib -L/usr/local/lib -o FLAMES.so RcppExports.o bam.o edit_dist.o fastq_utils.o match_cell_barcode.o merge_bulk.o ssw.o ssw_cpp.o /Library/Frameworks/R.framework/Versions/4.1/Resources/library/Rhtslib/usrlib/libhts.a -lcurl -F/Library/Frameworks/R.framework/.. -framework R -Wl,-framework -Wl,CoreFoundation
installing to /Library/Frameworks/R.framework/Versions/4.1/Resources/library/00LOCK-FLAMES/00new/FLAMES/libs
** R
** inst
** byte-compile and prepare package for lazy loading
** help
*** installing help indices
** building package indices
** installing vignettes
** testing if installed package can be loaded from temporary location
** checking absolute paths in shared objects and dynamic libraries
** testing if installed package can be loaded from final location
** testing if installed package keeps a record of temporary installation path
* DONE (FLAMES)
FLAMES.Rcheck/FLAMES-Ex.timings
| name | user | system | elapsed | |
| bulk_long_pipeline | 2.846 | 0.116 | 3.586 | |
| bulk_windows_pipeline_setup | 1.010 | 0.163 | 1.359 | |
| create_config | 0.000 | 0.000 | 0.001 | |
| get_default_config_file | 0.000 | 0.001 | 0.001 | |
| gff3_to_bed12 | 0.001 | 0.001 | 0.001 | |
| merge_bulk_fastq | 1.075 | 0.179 | 1.383 | |
| merge_bulk_fastq_python | 1.036 | 0.105 | 1.275 | |
| parse_gff_tree | 0.498 | 0.013 | 0.657 | |
| parse_json_config | 0.000 | 0.001 | 0.001 | |
| samtools_as_bam | 1.726 | 0.088 | 3.088 | |
| samtools_sort_index | 1.101 | 0.065 | 1.373 | |
| sc_long_pipeline | 1.045 | 0.082 | 1.378 | |
| sc_windows_pipeline_setup | 1.074 | 0.089 | 1.302 | |
| windows_pipeline_isoforms | 1.044 | 0.079 | 1.264 | |
| windows_pipeline_quantification | 0.948 | 0.076 | 1.165 | |