| Back to Multiple platform build/check report for BioC 3.14 |
|
This page was generated on 2022-04-13 12:06:32 -0400 (Wed, 13 Apr 2022).
| Hostname | OS | Arch (*) | R version | Installed pkgs |
|---|---|---|---|---|
| nebbiolo2 | Linux (Ubuntu 20.04.4 LTS) | x86_64 | 4.1.3 (2022-03-10) -- "One Push-Up" | 4324 |
| tokay2 | Windows Server 2012 R2 Standard | x64 | 4.1.3 (2022-03-10) -- "One Push-Up" | 4077 |
| machv2 | macOS 10.14.6 Mojave | x86_64 | 4.1.3 (2022-03-10) -- "One Push-Up" | 4137 |
| Click on any hostname to see more info about the system (e.g. compilers) (*) as reported by 'uname -p', except on Windows and Mac OS X | ||||
|
To the developers/maintainers of the FELLA package: - Please allow up to 24 hours (and sometimes 48 hours) for your latest push to git@git.bioconductor.org:packages/FELLA.git to reflect on this report. See How and When does the builder pull? When will my changes propagate? for more information. - Make sure to use the following settings in order to reproduce any error or warning you see on this page. |
| Package 636/2083 | Hostname | OS / Arch | INSTALL | BUILD | CHECK | BUILD BIN | ||||||||
| FELLA 1.14.0 (landing page) Sergio Picart-Armada
| nebbiolo2 | Linux (Ubuntu 20.04.4 LTS) / x86_64 | OK | ERROR | skipped | |||||||||
| tokay2 | Windows Server 2012 R2 Standard / x64 | OK | OK | OK | OK | |||||||||
| machv2 | macOS 10.14.6 Mojave / x86_64 | OK | OK | OK | OK | |||||||||
| Package: FELLA |
| Version: 1.14.0 |
| Command: rm -rf FELLA.buildbin-libdir && mkdir FELLA.buildbin-libdir && C:\Users\biocbuild\bbs-3.14-bioc\R\bin\R.exe CMD INSTALL --merge-multiarch --build --library=FELLA.buildbin-libdir FELLA_1.14.0.tar.gz |
| StartedAt: 2022-04-13 06:12:45 -0400 (Wed, 13 Apr 2022) |
| EndedAt: 2022-04-13 06:13:29 -0400 (Wed, 13 Apr 2022) |
| EllapsedTime: 44.8 seconds |
| RetCode: 0 |
| Status: OK |
| PackageFile: FELLA_1.14.0.zip |
| PackageFileSize: 2.986 MiB |
##############################################################################
##############################################################################
###
### Running command:
###
### rm -rf FELLA.buildbin-libdir && mkdir FELLA.buildbin-libdir && C:\Users\biocbuild\bbs-3.14-bioc\R\bin\R.exe CMD INSTALL --merge-multiarch --build --library=FELLA.buildbin-libdir FELLA_1.14.0.tar.gz
###
##############################################################################
##############################################################################
install for i386
* installing *source* package 'FELLA' ...
** using staged installation
** R
** data
** inst
** byte-compile and prepare package for lazy loading
** help
*** installing help indices
converting help for package 'FELLA'
finding HTML links ... done
D.diffusion html
D.hypergeom html
D.keggdata html
D.pagerank html
FELLA.DATA html
FELLA html
FELLA.USER html
FELLA.sample html
U.diffusion html
U.hypergeom html
U.pagerank html
U.userinput html
checkArguments html
data-funs html
dot-params html
enrich-funs html
export-funs html
getBackground html
getCom html
getExcluded html
getGraph html
getInfo html
getInput html
getMatrix html
getName html
getPscores html
getPvaluesSize html
getStatus html
getSums html
getValid html
infere.con2ec html
input.sample html
is.FELLA.DATA html
is.FELLA.USER html
largestcc html
launchApp html
listApprox html
listCategories html
listInternalDatabases html
listMethods html
mytriangle html
plotBipartite html
plotLegend html
sanitise html
** building package indices
** installing vignettes
** testing if installed package can be loaded from temporary location
** testing if installed package can be loaded from final location
** testing if installed package keeps a record of temporary installation path
install for x64
* installing *source* package 'FELLA' ...
** testing if installed package can be loaded
* MD5 sums
packaged installation of 'FELLA' as FELLA_1.14.0.zip
* DONE (FELLA)