| Back to Multiple platform build/check report for BioC 3.14 |
|
This page was generated on 2022-04-13 12:06:32 -0400 (Wed, 13 Apr 2022).
| Hostname | OS | Arch (*) | R version | Installed pkgs |
|---|---|---|---|---|
| nebbiolo2 | Linux (Ubuntu 20.04.4 LTS) | x86_64 | 4.1.3 (2022-03-10) -- "One Push-Up" | 4324 |
| tokay2 | Windows Server 2012 R2 Standard | x64 | 4.1.3 (2022-03-10) -- "One Push-Up" | 4077 |
| machv2 | macOS 10.14.6 Mojave | x86_64 | 4.1.3 (2022-03-10) -- "One Push-Up" | 4137 |
| Click on any hostname to see more info about the system (e.g. compilers) (*) as reported by 'uname -p', except on Windows and Mac OS X | ||||
|
To the developers/maintainers of the FEAST package: - Please allow up to 24 hours (and sometimes 48 hours) for your latest push to git@git.bioconductor.org:packages/FEAST.git to reflect on this report. See How and When does the builder pull? When will my changes propagate? for more information. - Make sure to use the following settings in order to reproduce any error or warning you see on this page. |
| Package 634/2083 | Hostname | OS / Arch | INSTALL | BUILD | CHECK | BUILD BIN | ||||||||
| FEAST 1.2.0 (landing page) Kenong Su
| nebbiolo2 | Linux (Ubuntu 20.04.4 LTS) / x86_64 | OK | OK | OK | |||||||||
| tokay2 | Windows Server 2012 R2 Standard / x64 | OK | OK | OK | OK | |||||||||
| machv2 | macOS 10.14.6 Mojave / x86_64 | OK | OK | OK | OK | |||||||||
| Package: FEAST |
| Version: 1.2.0 |
| Command: rm -rf FEAST.buildbin-libdir && mkdir FEAST.buildbin-libdir && C:\Users\biocbuild\bbs-3.14-bioc\R\bin\R.exe CMD INSTALL --merge-multiarch --build --library=FEAST.buildbin-libdir FEAST_1.2.0.tar.gz |
| StartedAt: 2022-04-13 06:12:35 -0400 (Wed, 13 Apr 2022) |
| EndedAt: 2022-04-13 06:13:33 -0400 (Wed, 13 Apr 2022) |
| EllapsedTime: 58.3 seconds |
| RetCode: 0 |
| Status: OK |
| PackageFile: FEAST_1.2.0.zip |
| PackageFileSize: 4.502 MiB |
##############################################################################
##############################################################################
###
### Running command:
###
### rm -rf FEAST.buildbin-libdir && mkdir FEAST.buildbin-libdir && C:\Users\biocbuild\bbs-3.14-bioc\R\bin\R.exe CMD INSTALL --merge-multiarch --build --library=FEAST.buildbin-libdir FEAST_1.2.0.tar.gz
###
##############################################################################
##############################################################################
install for i386
* installing *source* package 'FEAST' ...
** using staged installation
** libs
"C:/rtools40/mingw32/bin/"gcc -I"C:/Users/BIOCBU~1/BBS-3~1.14-/R/include" -DNDEBUG -I"C:/extsoft/include" -O2 -Wall -std=gnu99 -mfpmath=sse -msse2 -mstackrealign -c cal_3_metrics.c -o cal_3_metrics.o
C:/rtools40/mingw32/bin/gcc -shared -s -static-libgcc -o FEAST.dll tmp.def cal_3_metrics.o -LC:/extsoft/lib/i386 -LC:/extsoft/lib -LC:/Users/BIOCBU~1/BBS-3~1.14-/R/bin/i386 -lR
installing to C:/Users/biocbuild/bbs-3.14-bioc/meat/FEAST.buildbin-libdir/00LOCK-FEAST/00new/FEAST/libs/i386
** R
** data
*** moving datasets to lazyload DB
** inst
** byte-compile and prepare package for lazy loading
** help
*** installing help indices
converting help for package 'FEAST'
finding HTML links ... done
Consensus html
FEAST html
FEAST_fast html
Norm_Y html
Purity html
SC3_Clust html
Select_Model_short_SC3 html
Select_Model_short_TSCAN html
TSCAN_Clust html
Visual_Rslt html
Y html
align_CellType html
cal_F2 html
cal_Fisher2 html
cal_MSE html
cal_metrics html
eval_Cluster html
process_Y html
setUp_BPPARAM html
trueclass html
vector2matrix html
** building package indices
** installing vignettes
** testing if installed package can be loaded from temporary location
** testing if installed package can be loaded from final location
** testing if installed package keeps a record of temporary installation path
install for x64
* installing *source* package 'FEAST' ...
** libs
"C:/rtools40/mingw64/bin/"gcc -I"C:/Users/BIOCBU~1/BBS-3~1.14-/R/include" -DNDEBUG -I"C:/extsoft/include" -O2 -Wall -std=gnu99 -mfpmath=sse -msse2 -mstackrealign -c cal_3_metrics.c -o cal_3_metrics.o
C:/rtools40/mingw64/bin/gcc -shared -s -static-libgcc -o FEAST.dll tmp.def cal_3_metrics.o -LC:/extsoft/lib/x64 -LC:/extsoft/lib -LC:/Users/BIOCBU~1/BBS-3~1.14-/R/bin/x64 -lR
installing to C:/Users/biocbuild/bbs-3.14-bioc/meat/FEAST.buildbin-libdir/FEAST/libs/x64
** testing if installed package can be loaded
* MD5 sums
packaged installation of 'FEAST' as FEAST_1.2.0.zip
* DONE (FEAST)