| Back to Multiple platform build/check report for BioC 3.14 |
|
This page was generated on 2022-04-13 12:06:32 -0400 (Wed, 13 Apr 2022).
| Hostname | OS | Arch (*) | R version | Installed pkgs |
|---|---|---|---|---|
| nebbiolo2 | Linux (Ubuntu 20.04.4 LTS) | x86_64 | 4.1.3 (2022-03-10) -- "One Push-Up" | 4324 |
| tokay2 | Windows Server 2012 R2 Standard | x64 | 4.1.3 (2022-03-10) -- "One Push-Up" | 4077 |
| machv2 | macOS 10.14.6 Mojave | x86_64 | 4.1.3 (2022-03-10) -- "One Push-Up" | 4137 |
| Click on any hostname to see more info about the system (e.g. compilers) (*) as reported by 'uname -p', except on Windows and Mac OS X | ||||
|
To the developers/maintainers of the FCBF package: - Please allow up to 24 hours (and sometimes 48 hours) for your latest push to git@git.bioconductor.org:packages/FCBF.git to reflect on this report. See How and When does the builder pull? When will my changes propagate? for more information. - Make sure to use the following settings in order to reproduce any error or warning you see on this page. |
| Package 628/2083 | Hostname | OS / Arch | INSTALL | BUILD | CHECK | BUILD BIN | ||||||||
| FCBF 2.2.0 (landing page) Tiago Lubiana
| nebbiolo2 | Linux (Ubuntu 20.04.4 LTS) / x86_64 | OK | OK | OK | |||||||||
| tokay2 | Windows Server 2012 R2 Standard / x64 | OK | OK | OK | OK | |||||||||
| machv2 | macOS 10.14.6 Mojave / x86_64 | OK | OK | OK | OK | |||||||||
| Package: FCBF |
| Version: 2.2.0 |
| Command: rm -rf FCBF.buildbin-libdir && mkdir FCBF.buildbin-libdir && C:\Users\biocbuild\bbs-3.14-bioc\R\bin\R.exe CMD INSTALL --merge-multiarch --build --library=FCBF.buildbin-libdir FCBF_2.2.0.tar.gz |
| StartedAt: 2022-04-13 06:12:11 -0400 (Wed, 13 Apr 2022) |
| EndedAt: 2022-04-13 06:12:49 -0400 (Wed, 13 Apr 2022) |
| EllapsedTime: 37.2 seconds |
| RetCode: 0 |
| Status: OK |
| PackageFile: FCBF_2.2.0.zip |
| PackageFileSize: 2.978 MiB |
##############################################################################
##############################################################################
###
### Running command:
###
### rm -rf FCBF.buildbin-libdir && mkdir FCBF.buildbin-libdir && C:\Users\biocbuild\bbs-3.14-bioc\R\bin\R.exe CMD INSTALL --merge-multiarch --build --library=FCBF.buildbin-libdir FCBF_2.2.0.tar.gz
###
##############################################################################
##############################################################################
install for i386
* installing *source* package 'FCBF' ...
** using staged installation
** R
** data
** inst
** byte-compile and prepare package for lazy loading
** help
*** installing help indices
converting help for package 'FCBF'
finding HTML links ... done
FCBF-deprecated html
IG-deprecated html
SU-deprecated html
discretize_exprs html
discretize_exprs_supervised html
discretize_gene_supervised html
fcbf html
get_IG_for_vector_pair html
get_SU_for_vector_pair html
get_ig_for_feature_table_and_vector html
get_su-deprecated html
get_su_for_feature_table_and_vector html
scDengue html
su_plot html
** building package indices
** installing vignettes
** testing if installed package can be loaded from temporary location
** testing if installed package can be loaded from final location
** testing if installed package keeps a record of temporary installation path
install for x64
* installing *source* package 'FCBF' ...
** testing if installed package can be loaded
* MD5 sums
packaged installation of 'FCBF' as FCBF_2.2.0.zip
* DONE (FCBF)