| Back to Multiple platform build/check report for BioC 3.14 |
|
This page was generated on 2022-04-13 12:06:31 -0400 (Wed, 13 Apr 2022).
| Hostname | OS | Arch (*) | R version | Installed pkgs |
|---|---|---|---|---|
| nebbiolo2 | Linux (Ubuntu 20.04.4 LTS) | x86_64 | 4.1.3 (2022-03-10) -- "One Push-Up" | 4324 |
| tokay2 | Windows Server 2012 R2 Standard | x64 | 4.1.3 (2022-03-10) -- "One Push-Up" | 4077 |
| machv2 | macOS 10.14.6 Mojave | x86_64 | 4.1.3 (2022-03-10) -- "One Push-Up" | 4137 |
| Click on any hostname to see more info about the system (e.g. compilers) (*) as reported by 'uname -p', except on Windows and Mac OS X | ||||
|
To the developers/maintainers of the EWCE package: - Please allow up to 24 hours (and sometimes 48 hours) for your latest push to git@git.bioconductor.org:packages/EWCE.git to reflect on this report. See How and When does the builder pull? When will my changes propagate? for more information. - Make sure to use the following settings in order to reproduce any error or warning you see on this page. |
| Package 610/2083 | Hostname | OS / Arch | INSTALL | BUILD | CHECK | BUILD BIN | ||||||||
| EWCE 1.2.0 (landing page) Alan Murphy
| nebbiolo2 | Linux (Ubuntu 20.04.4 LTS) / x86_64 | OK | OK | OK | |||||||||
| tokay2 | Windows Server 2012 R2 Standard / x64 | OK | OK | OK | OK | |||||||||
| machv2 | macOS 10.14.6 Mojave / x86_64 | OK | OK | OK | OK | |||||||||
| Package: EWCE |
| Version: 1.2.0 |
| Command: rm -rf EWCE.buildbin-libdir && mkdir EWCE.buildbin-libdir && C:\Users\biocbuild\bbs-3.14-bioc\R\bin\R.exe CMD INSTALL --merge-multiarch --build --library=EWCE.buildbin-libdir EWCE_1.2.0.tar.gz |
| StartedAt: 2022-04-13 06:11:15 -0400 (Wed, 13 Apr 2022) |
| EndedAt: 2022-04-13 06:12:10 -0400 (Wed, 13 Apr 2022) |
| EllapsedTime: 55.2 seconds |
| RetCode: 0 |
| Status: OK |
| PackageFile: EWCE_1.2.0.zip |
| PackageFileSize: 710.2 KiB |
##############################################################################
##############################################################################
###
### Running command:
###
### rm -rf EWCE.buildbin-libdir && mkdir EWCE.buildbin-libdir && C:\Users\biocbuild\bbs-3.14-bioc\R\bin\R.exe CMD INSTALL --merge-multiarch --build --library=EWCE.buildbin-libdir EWCE_1.2.0.tar.gz
###
##############################################################################
##############################################################################
install for i386
* installing *source* package 'EWCE' ...
** using staged installation
** R
** inst
** byte-compile and prepare package for lazy loading
** help
*** installing help indices
converting help for package 'EWCE'
finding HTML links ... done
add_res_to_merging_list html
bin_columns_into_quantiles html
bin_specificity_into_quantiles html
bootstrap_enrichment_test html
check_ewce_genelist_inputs html
controlled_geneset_enrichment html
convert_new_ewce_to_old html
convert_old_ewce_to_new html
drop_uninformative_genes html
ewce_expression_data html
ewce_plot html
filter_genes_without_1to1_homolog html
fix_bad_hgnc_symbols html
fix_bad_mgi_symbols html
generate_bootstrap_plots html
generate_bootstrap_plots_for_transcriptome
html
generate_celltype_data html
generate_controlled_bootstrap_geneset html
get_celltype_table html
get_summed_proportions html
merge_two_expfiles html
merged_ewce html
prep_dendro html
prepare_genesize_control_network html
** building package indices
** installing vignettes
** testing if installed package can be loaded from temporary location
** testing if installed package can be loaded from final location
** testing if installed package keeps a record of temporary installation path
install for x64
* installing *source* package 'EWCE' ...
** testing if installed package can be loaded
* MD5 sums
packaged installation of 'EWCE' as EWCE_1.2.0.zip
* DONE (EWCE)