| Back to Multiple platform build/check report for BioC 3.14 | 
 | 
This page was generated on 2022-04-13 12:06:28 -0400 (Wed, 13 Apr 2022).
| Hostname | OS | Arch (*) | R version | Installed pkgs | 
|---|---|---|---|---|
| nebbiolo2 | Linux (Ubuntu 20.04.4 LTS) | x86_64 | 4.1.3 (2022-03-10) -- "One Push-Up" | 4324 | 
| tokay2 | Windows Server 2012 R2 Standard | x64 | 4.1.3 (2022-03-10) -- "One Push-Up" | 4077 | 
| machv2 | macOS 10.14.6 Mojave | x86_64 | 4.1.3 (2022-03-10) -- "One Push-Up" | 4137 | 
| Click on any hostname to see more info about the system (e.g. compilers) (*) as reported by 'uname -p', except on Windows and Mac OS X | ||||
| To the developers/maintainers of the DiscoRhythm package: - Please allow up to 24 hours (and sometimes 48 hours) for your latest push to git@git.bioconductor.org:packages/DiscoRhythm.git to reflect on this report. See How and When does the builder pull? When will my changes propagate? for more information. - Make sure to use the following settings in order to reproduce any error or warning you see on this page. | 
| Package 518/2083 | Hostname | OS / Arch | INSTALL | BUILD | CHECK | BUILD BIN | ||||||||
| DiscoRhythm 1.10.1  (landing page) Matthew Carlucci 
 | nebbiolo2 | Linux (Ubuntu 20.04.4 LTS) / x86_64 | OK | OK | OK |  | ||||||||
| tokay2 | Windows Server 2012 R2 Standard / x64 | OK | OK | OK | OK |  | ||||||||
| machv2 | macOS 10.14.6 Mojave / x86_64 | OK | OK | OK | OK |  | ||||||||
| Package: DiscoRhythm | 
| Version: 1.10.1 | 
| Command: rm -rf DiscoRhythm.buildbin-libdir && mkdir DiscoRhythm.buildbin-libdir && C:\Users\biocbuild\bbs-3.14-bioc\R\bin\R.exe CMD INSTALL --merge-multiarch --build --library=DiscoRhythm.buildbin-libdir DiscoRhythm_1.10.1.tar.gz | 
| StartedAt: 2022-04-13 06:04:07 -0400 (Wed, 13 Apr 2022) | 
| EndedAt: 2022-04-13 06:04:56 -0400 (Wed, 13 Apr 2022) | 
| EllapsedTime: 48.9 seconds | 
| RetCode: 0 | 
| Status: OK | 
| PackageFile: DiscoRhythm_1.10.1.zip | 
| PackageFileSize: 1.942 MiB | 
##############################################################################
##############################################################################
###
### Running command:
###
###   rm -rf DiscoRhythm.buildbin-libdir && mkdir DiscoRhythm.buildbin-libdir && C:\Users\biocbuild\bbs-3.14-bioc\R\bin\R.exe CMD INSTALL --merge-multiarch --build --library=DiscoRhythm.buildbin-libdir DiscoRhythm_1.10.1.tar.gz
###
##############################################################################
##############################################################################
install for i386
* installing *source* package 'DiscoRhythm' ...
** using staged installation
** R
** data
*** moving datasets to lazyload DB
** inst
** byte-compile and prepare package for lazy loading
** help
*** installing help indices
  converting help for package 'DiscoRhythm'
    finding HTML links ... done
    DiscoRhythm-package                     html  
    PeriodDetection_range                   html  
    checkJTKperiod                          html  
    checkPeriod                             html  
    discoApp                                html  
    discoBatch                              html  
    discoCheckInput                         html  
    discoColors                             html  
    discoDFtoSE                             html  
    discoDesignSummary                      html  
    discoGetSimu                            html  
    discoODAexclusionMatrix                 html  
    discoODAid2name                         html  
    discoODAs                               html  
    discoPCA                                html  
    discoPCAgetOutliers                     html  
    discoParseMeta                          html  
    discoPeriodDetection                    html  
    discoQC                                 html  
    discoShinyHandler                       html  
    fisherExact                             html  
    inferFilteredDesign                     html  
    lmCSmat                                 html  
    lmCSmatNoNA                             html  
    sincos                                  html  
    theme_disco                             html  
** building package indices
** installing vignettes
** testing if installed package can be loaded from temporary location
** testing if installed package can be loaded from final location
** testing if installed package keeps a record of temporary installation path
install for x64
* installing *source* package 'DiscoRhythm' ...
** testing if installed package can be loaded
* MD5 sums
packaged installation of 'DiscoRhythm' as DiscoRhythm_1.10.1.zip
* DONE (DiscoRhythm)