| Back to Multiple platform build/check report for BioC 3.14 |
|
This page was generated on 2022-04-13 12:06:26 -0400 (Wed, 13 Apr 2022).
| Hostname | OS | Arch (*) | R version | Installed pkgs |
|---|---|---|---|---|
| nebbiolo2 | Linux (Ubuntu 20.04.4 LTS) | x86_64 | 4.1.3 (2022-03-10) -- "One Push-Up" | 4324 |
| tokay2 | Windows Server 2012 R2 Standard | x64 | 4.1.3 (2022-03-10) -- "One Push-Up" | 4077 |
| machv2 | macOS 10.14.6 Mojave | x86_64 | 4.1.3 (2022-03-10) -- "One Push-Up" | 4137 |
| Click on any hostname to see more info about the system (e.g. compilers) (*) as reported by 'uname -p', except on Windows and Mac OS X | ||||
|
To the developers/maintainers of the DeconRNASeq package: - Please allow up to 24 hours (and sometimes 48 hours) for your latest push to git@git.bioconductor.org:packages/DeconRNASeq.git to reflect on this report. See How and When does the builder pull? When will my changes propagate? for more information. - Make sure to use the following settings in order to reproduce any error or warning you see on this page. |
| Package 465/2083 | Hostname | OS / Arch | INSTALL | BUILD | CHECK | BUILD BIN | ||||||||
| DeconRNASeq 1.36.0 (landing page) Ting Gong
| nebbiolo2 | Linux (Ubuntu 20.04.4 LTS) / x86_64 | OK | OK | OK | |||||||||
| tokay2 | Windows Server 2012 R2 Standard / x64 | OK | OK | OK | OK | |||||||||
| machv2 | macOS 10.14.6 Mojave / x86_64 | OK | OK | OK | OK | |||||||||
| Package: DeconRNASeq |
| Version: 1.36.0 |
| Command: rm -rf DeconRNASeq.buildbin-libdir && mkdir DeconRNASeq.buildbin-libdir && C:\Users\biocbuild\bbs-3.14-bioc\R\bin\R.exe --arch x64 CMD INSTALL --no-multiarch --build --library=DeconRNASeq.buildbin-libdir DeconRNASeq_1.36.0.tar.gz |
| StartedAt: 2022-04-13 06:00:38 -0400 (Wed, 13 Apr 2022) |
| EndedAt: 2022-04-13 06:00:57 -0400 (Wed, 13 Apr 2022) |
| EllapsedTime: 19.2 seconds |
| RetCode: 0 |
| Status: OK |
| PackageFile: DeconRNASeq_1.36.0.zip |
| PackageFileSize: 6.654 MiB |
##############################################################################
##############################################################################
###
### Running command:
###
### rm -rf DeconRNASeq.buildbin-libdir && mkdir DeconRNASeq.buildbin-libdir && C:\Users\biocbuild\bbs-3.14-bioc\R\bin\R.exe --arch x64 CMD INSTALL --no-multiarch --build --library=DeconRNASeq.buildbin-libdir DeconRNASeq_1.36.0.tar.gz
###
##############################################################################
##############################################################################
* installing *source* package 'DeconRNASeq' ...
** using staged installation
** R
** data
** demo
** inst
** byte-compile and prepare package for lazy loading
** help
*** installing help indices
converting help for package 'DeconRNASeq'
finding HTML links ... done
DeconRNASeq-package html
DeconRNASeq html
all.datasets html
array.proportions html
array.signatures html
condplot html
datasets html
decon.bootstrap html
fraction html
liver_kidney html
multi_tissue html
multiplot html
proportions html
rmse html
signatures html
x.data html
x.signature html
x.signature.filtered html
x.signature.filtered.optimal html
** building package indices
** installing vignettes
** testing if installed package can be loaded from temporary location
** testing if installed package can be loaded from final location
** testing if installed package keeps a record of temporary installation path
* MD5 sums
packaged installation of 'DeconRNASeq' as DeconRNASeq_1.36.0.zip
* DONE (DeconRNASeq)