| Back to Multiple platform build/check report for BioC 3.14 |
|
This page was generated on 2022-04-13 12:06:29 -0400 (Wed, 13 Apr 2022).
| Hostname | OS | Arch (*) | R version | Installed pkgs |
|---|---|---|---|---|
| nebbiolo2 | Linux (Ubuntu 20.04.4 LTS) | x86_64 | 4.1.3 (2022-03-10) -- "One Push-Up" | 4324 |
| tokay2 | Windows Server 2012 R2 Standard | x64 | 4.1.3 (2022-03-10) -- "One Push-Up" | 4077 |
| machv2 | macOS 10.14.6 Mojave | x86_64 | 4.1.3 (2022-03-10) -- "One Push-Up" | 4137 |
| Click on any hostname to see more info about the system (e.g. compilers) (*) as reported by 'uname -p', except on Windows and Mac OS X | ||||
|
To the developers/maintainers of the DTA package: - Please allow up to 24 hours (and sometimes 48 hours) for your latest push to git@git.bioconductor.org:packages/DTA.git to reflect on this report. See How and When does the builder pull? When will my changes propagate? for more information. - Make sure to use the following settings in order to reproduce any error or warning you see on this page. |
| Package 548/2083 | Hostname | OS / Arch | INSTALL | BUILD | CHECK | BUILD BIN | ||||||||
| DTA 2.40.0 (landing page) Bjoern Schwalb
| nebbiolo2 | Linux (Ubuntu 20.04.4 LTS) / x86_64 | OK | OK | OK | |||||||||
| tokay2 | Windows Server 2012 R2 Standard / x64 | OK | OK | OK | OK | |||||||||
| machv2 | macOS 10.14.6 Mojave / x86_64 | OK | OK | OK | OK | |||||||||
| Package: DTA |
| Version: 2.40.0 |
| Command: rm -rf DTA.buildbin-libdir && mkdir DTA.buildbin-libdir && C:\Users\biocbuild\bbs-3.14-bioc\R\bin\R.exe CMD INSTALL --merge-multiarch --build --library=DTA.buildbin-libdir DTA_2.40.0.tar.gz |
| StartedAt: 2022-04-13 06:06:24 -0400 (Wed, 13 Apr 2022) |
| EndedAt: 2022-04-13 06:07:14 -0400 (Wed, 13 Apr 2022) |
| EllapsedTime: 50.0 seconds |
| RetCode: 0 |
| Status: OK |
| PackageFile: DTA_2.40.0.zip |
| PackageFileSize: 11.65 MiB |
##############################################################################
##############################################################################
###
### Running command:
###
### rm -rf DTA.buildbin-libdir && mkdir DTA.buildbin-libdir && C:\Users\biocbuild\bbs-3.14-bioc\R\bin\R.exe CMD INSTALL --merge-multiarch --build --library=DTA.buildbin-libdir DTA_2.40.0.tar.gz
###
##############################################################################
##############################################################################
install for i386
* installing *source* package 'DTA' ...
** using staged installation
** R
** data
** inst
** byte-compile and prepare package for lazy loading
** help
*** installing help indices
converting help for package 'DTA'
finding HTML links ... done
DTA-package html
DTA.dynamic.estimate html
DTA.dynamic.generate html
DTA.estimate html
DTA.generate html
DTA.map.it html
DTA.normalize html
DTA.phenomat html
DTA.plot.it html
Dm.tnumber html
Doelken2008 html
Hs.datamat html
Hs.enst2ensg html
Hs.phenomat html
Hs.reliable html
Hs.tnumber html
Miller2011 html
Miller2011dynamic html
Mm.datamat html
Mm.enst2ensg html
Mm.phenomat html
Mm.reliable html
Mm.tnumber html
Pol.phenomat html
Raw.datamat html
Sc.affy2ensg html
Sc.datamat html
Sc.datamat.dynamic html
Sc.ensg.reliable html
Sc.phenomat html
Sc.phenomat.dynamic html
Sc.reliable html
Sc.reliable.dynamic html
Sc.ribig.ensg html
Sc.rpg.ensg html
Sc.stress.ensg html
Sc.tf.ensg html
Sc.tnumber html
Sp.affy.reliable html
Sp.tnumber html
Sun2011 html
Wt.phenomat html
tls html
** building package indices
** installing vignettes
** testing if installed package can be loaded from temporary location
** testing if installed package can be loaded from final location
** testing if installed package keeps a record of temporary installation path
install for x64
* installing *source* package 'DTA' ...
** testing if installed package can be loaded
* MD5 sums
packaged installation of 'DTA' as DTA_2.40.0.zip
* DONE (DTA)