| Back to Multiple platform build/check report for BioC 3.14 |
|
This page was generated on 2022-04-13 12:06:28 -0400 (Wed, 13 Apr 2022).
| Hostname | OS | Arch (*) | R version | Installed pkgs |
|---|---|---|---|---|
| nebbiolo2 | Linux (Ubuntu 20.04.4 LTS) | x86_64 | 4.1.3 (2022-03-10) -- "One Push-Up" | 4324 |
| tokay2 | Windows Server 2012 R2 Standard | x64 | 4.1.3 (2022-03-10) -- "One Push-Up" | 4077 |
| machv2 | macOS 10.14.6 Mojave | x86_64 | 4.1.3 (2022-03-10) -- "One Push-Up" | 4137 |
| Click on any hostname to see more info about the system (e.g. compilers) (*) as reported by 'uname -p', except on Windows and Mac OS X | ||||
|
To the developers/maintainers of the DNAcopy package: - Please allow up to 24 hours (and sometimes 48 hours) for your latest push to git@git.bioconductor.org:packages/DNAcopy.git to reflect on this report. See How and When does the builder pull? When will my changes propagate? for more information. - Make sure to use the following settings in order to reproduce any error or warning you see on this page. |
| Package 532/2083 | Hostname | OS / Arch | INSTALL | BUILD | CHECK | BUILD BIN | ||||||||
| DNAcopy 1.68.0 (landing page) Venkatraman E. Seshan
| nebbiolo2 | Linux (Ubuntu 20.04.4 LTS) / x86_64 | OK | OK | OK | |||||||||
| tokay2 | Windows Server 2012 R2 Standard / x64 | OK | OK | OK | OK | |||||||||
| machv2 | macOS 10.14.6 Mojave / x86_64 | OK | OK | OK | OK | |||||||||
| Package: DNAcopy |
| Version: 1.68.0 |
| Command: rm -rf DNAcopy.buildbin-libdir && mkdir DNAcopy.buildbin-libdir && C:\Users\biocbuild\bbs-3.14-bioc\R\bin\R.exe CMD INSTALL --merge-multiarch --build --library=DNAcopy.buildbin-libdir DNAcopy_1.68.0.tar.gz |
| StartedAt: 2022-04-13 06:05:18 -0400 (Wed, 13 Apr 2022) |
| EndedAt: 2022-04-13 06:05:53 -0400 (Wed, 13 Apr 2022) |
| EllapsedTime: 34.6 seconds |
| RetCode: 0 |
| Status: OK |
| PackageFile: DNAcopy_1.68.0.zip |
| PackageFileSize: 786.7 KiB |
##############################################################################
##############################################################################
###
### Running command:
###
### rm -rf DNAcopy.buildbin-libdir && mkdir DNAcopy.buildbin-libdir && C:\Users\biocbuild\bbs-3.14-bioc\R\bin\R.exe CMD INSTALL --merge-multiarch --build --library=DNAcopy.buildbin-libdir DNAcopy_1.68.0.tar.gz
###
##############################################################################
##############################################################################
install for i386
* installing *source* package 'DNAcopy' ...
** using staged installation
** libs
"C:/rtools40/mingw32/bin/"gfortran -fno-optimize-sibling-calls -O2 -mfpmath=sse -msse2 -mstackrealign -c cbsWtstats.f -o cbsWtstats.o
"C:/rtools40/mingw32/bin/"gfortran -fno-optimize-sibling-calls -O2 -mfpmath=sse -msse2 -mstackrealign -c cbststats.f -o cbststats.o
"C:/rtools40/mingw32/bin/"gfortran -fno-optimize-sibling-calls -O2 -mfpmath=sse -msse2 -mstackrealign -c changepoints-wtd.f -o changepoints-wtd.o
"C:/rtools40/mingw32/bin/"gfortran -fno-optimize-sibling-calls -O2 -mfpmath=sse -msse2 -mstackrealign -c changepoints.f -o changepoints.o
"C:/rtools40/mingw32/bin/"gfortran -fno-optimize-sibling-calls -O2 -mfpmath=sse -msse2 -mstackrealign -c esegment.f -o esegment.o
"C:/rtools40/mingw32/bin/"gcc -I"C:/Users/BIOCBU~1/BBS-3~1.14-/R/include" -DNDEBUG -I"C:/extsoft/include" -O2 -Wall -std=gnu99 -mfpmath=sse -msse2 -mstackrealign -c flchoose.c -o flchoose.o
"C:/rtools40/mingw32/bin/"gcc -I"C:/Users/BIOCBU~1/BBS-3~1.14-/R/include" -DNDEBUG -I"C:/extsoft/include" -O2 -Wall -std=gnu99 -mfpmath=sse -msse2 -mstackrealign -c fphyper.c -o fphyper.o
"C:/rtools40/mingw32/bin/"gcc -I"C:/Users/BIOCBU~1/BBS-3~1.14-/R/include" -DNDEBUG -I"C:/extsoft/include" -O2 -Wall -std=gnu99 -mfpmath=sse -msse2 -mstackrealign -c fpnorm.c -o fpnorm.o
"C:/rtools40/mingw32/bin/"gfortran -fno-optimize-sibling-calls -O2 -mfpmath=sse -msse2 -mstackrealign -c getbdry.f -o getbdry.o
"C:/rtools40/mingw32/bin/"gfortran -fno-optimize-sibling-calls -O2 -mfpmath=sse -msse2 -mstackrealign -c prune.f -o prune.o
"C:/rtools40/mingw32/bin/"gcc -I"C:/Users/BIOCBU~1/BBS-3~1.14-/R/include" -DNDEBUG -I"C:/extsoft/include" -O2 -Wall -std=gnu99 -mfpmath=sse -msse2 -mstackrealign -c rshared.c -o rshared.o
"C:/rtools40/mingw32/bin/"gfortran -fno-optimize-sibling-calls -O2 -mfpmath=sse -msse2 -mstackrealign -c segmentp.f -o segmentp.o
"C:/rtools40/mingw32/bin/"gfortran -fno-optimize-sibling-calls -O2 -mfpmath=sse -msse2 -mstackrealign -c smoothCNA.f -o smoothCNA.o
"C:/rtools40/mingw32/bin/"gfortran -fno-optimize-sibling-calls -O2 -mfpmath=sse -msse2 -mstackrealign -c tailprobs.f -o tailprobs.o
C:/rtools40/mingw32/bin/gcc -shared -s -static-libgcc -o DNAcopy.dll tmp.def cbsWtstats.o cbststats.o changepoints-wtd.o changepoints.o esegment.o flchoose.o fphyper.o fpnorm.o getbdry.o prune.o rshared.o segmentp.o smoothCNA.o tailprobs.o -LC:/extsoft/lib/i386 -LC:/extsoft/lib -lgfortran -lm -lquadmath -LC:/Users/BIOCBU~1/BBS-3~1.14-/R/bin/i386 -lR
installing to C:/Users/biocbuild/bbs-3.14-bioc/meat/DNAcopy.buildbin-libdir/00LOCK-DNAcopy/00new/DNAcopy/libs/i386
** R
** data
*** moving datasets to lazyload DB
** demo
** inst
** byte-compile and prepare package for lazy loading
** help
*** installing help indices
converting help for package 'DNAcopy'
finding HTML links ... done
CNA html
DNAcopy-internal html
DNAcopy html
coriell html
cytoBand html
exon.segment html
getbdry html
glFrequency html
plot.DNAcopy html
plotSample html
segment html
segments.p html
segments.summary html
smooth.CNA html
subset.CNA html
subset.DNAcopy html
zoomIntoRegion html
** building package indices
** installing vignettes
** testing if installed package can be loaded from temporary location
** testing if installed package can be loaded from final location
** testing if installed package keeps a record of temporary installation path
install for x64
* installing *source* package 'DNAcopy' ...
** libs
"C:/rtools40/mingw64/bin/"gfortran -fno-optimize-sibling-calls -O2 -mfpmath=sse -msse2 -mstackrealign -c cbsWtstats.f -o cbsWtstats.o
"C:/rtools40/mingw64/bin/"gfortran -fno-optimize-sibling-calls -O2 -mfpmath=sse -msse2 -mstackrealign -c cbststats.f -o cbststats.o
"C:/rtools40/mingw64/bin/"gfortran -fno-optimize-sibling-calls -O2 -mfpmath=sse -msse2 -mstackrealign -c changepoints-wtd.f -o changepoints-wtd.o
"C:/rtools40/mingw64/bin/"gfortran -fno-optimize-sibling-calls -O2 -mfpmath=sse -msse2 -mstackrealign -c changepoints.f -o changepoints.o
"C:/rtools40/mingw64/bin/"gfortran -fno-optimize-sibling-calls -O2 -mfpmath=sse -msse2 -mstackrealign -c esegment.f -o esegment.o
"C:/rtools40/mingw64/bin/"gcc -I"C:/Users/BIOCBU~1/BBS-3~1.14-/R/include" -DNDEBUG -I"C:/extsoft/include" -O2 -Wall -std=gnu99 -mfpmath=sse -msse2 -mstackrealign -c flchoose.c -o flchoose.o
"C:/rtools40/mingw64/bin/"gcc -I"C:/Users/BIOCBU~1/BBS-3~1.14-/R/include" -DNDEBUG -I"C:/extsoft/include" -O2 -Wall -std=gnu99 -mfpmath=sse -msse2 -mstackrealign -c fphyper.c -o fphyper.o
"C:/rtools40/mingw64/bin/"gcc -I"C:/Users/BIOCBU~1/BBS-3~1.14-/R/include" -DNDEBUG -I"C:/extsoft/include" -O2 -Wall -std=gnu99 -mfpmath=sse -msse2 -mstackrealign -c fpnorm.c -o fpnorm.o
"C:/rtools40/mingw64/bin/"gfortran -fno-optimize-sibling-calls -O2 -mfpmath=sse -msse2 -mstackrealign -c getbdry.f -o getbdry.o
"C:/rtools40/mingw64/bin/"gfortran -fno-optimize-sibling-calls -O2 -mfpmath=sse -msse2 -mstackrealign -c prune.f -o prune.o
"C:/rtools40/mingw64/bin/"gcc -I"C:/Users/BIOCBU~1/BBS-3~1.14-/R/include" -DNDEBUG -I"C:/extsoft/include" -O2 -Wall -std=gnu99 -mfpmath=sse -msse2 -mstackrealign -c rshared.c -o rshared.o
"C:/rtools40/mingw64/bin/"gfortran -fno-optimize-sibling-calls -O2 -mfpmath=sse -msse2 -mstackrealign -c segmentp.f -o segmentp.o
"C:/rtools40/mingw64/bin/"gfortran -fno-optimize-sibling-calls -O2 -mfpmath=sse -msse2 -mstackrealign -c smoothCNA.f -o smoothCNA.o
"C:/rtools40/mingw64/bin/"gfortran -fno-optimize-sibling-calls -O2 -mfpmath=sse -msse2 -mstackrealign -c tailprobs.f -o tailprobs.o
C:/rtools40/mingw64/bin/gcc -shared -s -static-libgcc -o DNAcopy.dll tmp.def cbsWtstats.o cbststats.o changepoints-wtd.o changepoints.o esegment.o flchoose.o fphyper.o fpnorm.o getbdry.o prune.o rshared.o segmentp.o smoothCNA.o tailprobs.o -LC:/extsoft/lib/x64 -LC:/extsoft/lib -lgfortran -lm -lquadmath -LC:/Users/BIOCBU~1/BBS-3~1.14-/R/bin/x64 -lR
installing to C:/Users/biocbuild/bbs-3.14-bioc/meat/DNAcopy.buildbin-libdir/DNAcopy/libs/x64
** testing if installed package can be loaded
* MD5 sums
packaged installation of 'DNAcopy' as DNAcopy_1.68.0.zip
* DONE (DNAcopy)