| Back to Multiple platform build/check report for BioC 3.14 | 
  | 
This page was generated on 2022-01-05 13:07:50 -0500 (Wed, 05 Jan 2022).
| Hostname | OS | Arch (*) | R version | Installed pkgs | 
|---|---|---|---|---|
| nebbiolo2 | Linux (Ubuntu 20.04.4 LTS) | x86_64 | 4.1.2 (2021-11-01) -- "Bird Hippie" | 4327 | 
| tokay2 | Windows Server 2012 R2 Standard | x64 | 4.1.2 (2021-11-01) -- "Bird Hippie" | 4076 | 
| machv2 | macOS 10.14.6 Mojave | x86_64 | 4.1.2 (2021-11-01) -- "Bird Hippie" | 4137 | 
| Click on any hostname to see more info about the system (e.g. compilers) (*) as reported by 'uname -p', except on Windows and Mac OS X | ||||
| 
To the developers/maintainers of the DMCHMM package: - Please allow up to 24 hours (and sometimes 48 hours) for your latest push to git@git.bioconductor.org:packages/DMCHMM.git to reflect on this report. See How and When does the builder pull? When will my changes propagate? here for more information. - Make sure to use the following settings in order to reproduce any error or warning you see on this page.  | 
| Package 524/2083 | Hostname | OS / Arch | INSTALL | BUILD | CHECK | BUILD BIN | ||||||||
| DMCHMM 1.16.0  (landing page) Farhad Shokoohi 
  | nebbiolo2 | Linux (Ubuntu 20.04.4 LTS) / x86_64 | OK | OK | OK | |||||||||
| tokay2 | Windows Server 2012 R2 Standard / x64 | OK | OK | WARNINGS | OK | |||||||||
| machv2 | macOS 10.14.6 Mojave / x86_64 | OK | OK | OK | OK | |||||||||
| Package: DMCHMM | 
| Version: 1.16.0 | 
| Command: rm -rf DMCHMM.buildbin-libdir && mkdir DMCHMM.buildbin-libdir && C:\Users\biocbuild\bbs-3.14-bioc\R\bin\R.exe CMD INSTALL --merge-multiarch --build --library=DMCHMM.buildbin-libdir DMCHMM_1.16.0.tar.gz | 
| StartedAt: 2022-01-05 05:54:08 -0500 (Wed, 05 Jan 2022) | 
| EndedAt: 2022-01-05 05:55:30 -0500 (Wed, 05 Jan 2022) | 
| EllapsedTime: 81.4 seconds | 
| RetCode: 0 | 
| Status: OK | 
| PackageFile: DMCHMM_1.16.0.zip | 
| PackageFileSize: 998.2 KiB | 
##############################################################################
##############################################################################
###
### Running command:
###
###   rm -rf DMCHMM.buildbin-libdir && mkdir DMCHMM.buildbin-libdir && C:\Users\biocbuild\bbs-3.14-bioc\R\bin\R.exe CMD INSTALL --merge-multiarch --build --library=DMCHMM.buildbin-libdir DMCHMM_1.16.0.tar.gz
###
##############################################################################
##############################################################################
install for i386
* installing *source* package 'DMCHMM' ...
** using staged installation
** R
** inst
** byte-compile and prepare package for lazy loading
Warning: replacing previous import 'IRanges::windows' by 'grDevices::windows' when loading 'DMCHMM'
** help
*** installing help indices
  converting help for package 'DMCHMM'
    finding HTML links ... done
    BSDMCs-class                            html  
    BSData-class                            html  
    finding level-2 HTML links ... done
    DMCHMM-package                          html  
    cBSDMCs-method                          html  
    cBSData-method                          html  
    combine-method                          html  
    data                                    html  
    findDMCs-method                         html  
    manhattanDMCs-method                    html  
    methHMEM-method                         html  
    methHMMCMC-method                       html  
    methLevels-method                       html  
    methReads-method                        html  
    methStates-method                       html  
    methVars-method                         html  
    params                                  html  
    qqDMCs-method                           html  
    readBismark-method                      html  
    totalReads-method                       html  
    writeBED-method                         html  
** building package indices
** installing vignettes
** testing if installed package can be loaded from temporary location
Warning: replacing previous import 'IRanges::windows' by 'grDevices::windows' when loading 'DMCHMM'
** testing if installed package can be loaded from final location
Warning: replacing previous import 'IRanges::windows' by 'grDevices::windows' when loading 'DMCHMM'
** testing if installed package keeps a record of temporary installation path
install for x64
* installing *source* package 'DMCHMM' ...
** testing if installed package can be loaded
Warning: replacing previous import 'IRanges::windows' by 'grDevices::windows' when loading 'DMCHMM'
* MD5 sums
packaged installation of 'DMCHMM' as DMCHMM_1.16.0.zip
* DONE (DMCHMM)