| Back to Multiple platform build/check report for BioC 3.14 |
|
This page was generated on 2022-04-13 12:06:25 -0400 (Wed, 13 Apr 2022).
| Hostname | OS | Arch (*) | R version | Installed pkgs |
|---|---|---|---|---|
| nebbiolo2 | Linux (Ubuntu 20.04.4 LTS) | x86_64 | 4.1.3 (2022-03-10) -- "One Push-Up" | 4324 |
| tokay2 | Windows Server 2012 R2 Standard | x64 | 4.1.3 (2022-03-10) -- "One Push-Up" | 4077 |
| machv2 | macOS 10.14.6 Mojave | x86_64 | 4.1.3 (2022-03-10) -- "One Push-Up" | 4137 |
| Click on any hostname to see more info about the system (e.g. compilers) (*) as reported by 'uname -p', except on Windows and Mac OS X | ||||
|
To the developers/maintainers of the CyTOFpower package: - Please allow up to 24 hours (and sometimes 48 hours) for your latest push to git@git.bioconductor.org:packages/CyTOFpower.git to reflect on this report. See How and When does the builder pull? When will my changes propagate? for more information. - Make sure to use the following settings in order to reproduce any error or warning you see on this page. |
| Package 438/2083 | Hostname | OS / Arch | INSTALL | BUILD | CHECK | BUILD BIN | ||||||||
| CyTOFpower 1.0.0 (landing page) Anne-Maud Ferreira
| nebbiolo2 | Linux (Ubuntu 20.04.4 LTS) / x86_64 | OK | OK | OK | |||||||||
| tokay2 | Windows Server 2012 R2 Standard / x64 | OK | OK | OK | OK | |||||||||
| machv2 | macOS 10.14.6 Mojave / x86_64 | OK | OK | OK | OK | |||||||||
| Package: CyTOFpower |
| Version: 1.0.0 |
| Command: rm -rf CyTOFpower.buildbin-libdir && mkdir CyTOFpower.buildbin-libdir && C:\Users\biocbuild\bbs-3.14-bioc\R\bin\R.exe CMD INSTALL --merge-multiarch --build --library=CyTOFpower.buildbin-libdir CyTOFpower_1.0.0.tar.gz |
| StartedAt: 2022-04-13 05:58:37 -0400 (Wed, 13 Apr 2022) |
| EndedAt: 2022-04-13 05:59:10 -0400 (Wed, 13 Apr 2022) |
| EllapsedTime: 33.0 seconds |
| RetCode: 0 |
| Status: OK |
| PackageFile: CyTOFpower_1.0.0.zip |
| PackageFileSize: 508.9 KiB |
##############################################################################
##############################################################################
###
### Running command:
###
### rm -rf CyTOFpower.buildbin-libdir && mkdir CyTOFpower.buildbin-libdir && C:\Users\biocbuild\bbs-3.14-bioc\R\bin\R.exe CMD INSTALL --merge-multiarch --build --library=CyTOFpower.buildbin-libdir CyTOFpower_1.0.0.tar.gz
###
##############################################################################
##############################################################################
install for i386
* installing *source* package 'CyTOFpower' ...
** using staged installation
** R
** inst
** byte-compile and prepare package for lazy loading
** help
*** installing help indices
converting help for package 'CyTOFpower'
finding HTML links ... done
CyTOFpower html
compute_effectsize html
compute_pwr html
compute_variance html
function_DEmarkers_sup_nbmarkers html
function_apply_modelcomputations_modelchoice
html
function_apply_onesimulation_withmarkerinfo
html
function_check_nbDEmarkers html
function_check_nbmarkers html
function_compute_diffcyt_features html
function_create_mock_dataset_withmarkerinfo
html
function_desigmat_contrast_diffcytDSlimma_fixedeffect
html
function_desigmat_contrast_diffcytDSlimma_randomeffect
html
function_extract_marker_names html
function_formula_contrast_diffcytDSLMM_randomeffect
html
function_is_data_paired html
function_names_DE_markers html
function_run_bootstrapcytoGLMM html
function_run_cytoGLMM html
function_run_diffcytDSLMM html
function_run_diffcytDSlimma html
function_run_diffcyt_full_pipeline html
function_summary_results_models html
function_to_compute_model_computation_onesimulation_modelchoice
html
function_to_transform_data html
function_value_onemarker html
** building package indices
** installing vignettes
** testing if installed package can be loaded from temporary location
** testing if installed package can be loaded from final location
** testing if installed package keeps a record of temporary installation path
install for x64
* installing *source* package 'CyTOFpower' ...
** testing if installed package can be loaded
* MD5 sums
packaged installation of 'CyTOFpower' as CyTOFpower_1.0.0.zip
* DONE (CyTOFpower)