| Back to Multiple platform build/check report for BioC 3.14 | 
  | 
This page was generated on 2022-04-13 12:05:13 -0400 (Wed, 13 Apr 2022).
| Hostname | OS | Arch (*) | R version | Installed pkgs | 
|---|---|---|---|---|
| nebbiolo2 | Linux (Ubuntu 20.04.4 LTS) | x86_64 | 4.1.3 (2022-03-10) -- "One Push-Up" | 4324 | 
| tokay2 | Windows Server 2012 R2 Standard | x64 | 4.1.3 (2022-03-10) -- "One Push-Up" | 4077 | 
| machv2 | macOS 10.14.6 Mojave | x86_64 | 4.1.3 (2022-03-10) -- "One Push-Up" | 4137 | 
| Click on any hostname to see more info about the system (e.g. compilers) (*) as reported by 'uname -p', except on Windows and Mac OS X | ||||
| 
To the developers/maintainers of the ComPrAn package: - Please allow up to 24 hours (and sometimes 48 hours) for your latest push to git@git.bioconductor.org:packages/ComPrAn.git to reflect on this report. See How and When does the builder pull? When will my changes propagate? for more information. - Make sure to use the following settings in order to reproduce any error or warning you see on this page.  | 
| Package 381/2083 | Hostname | OS / Arch | INSTALL | BUILD | CHECK | BUILD BIN | ||||||||
| ComPrAn 1.2.0  (landing page) Petra Palenikova 
  | nebbiolo2 | Linux (Ubuntu 20.04.4 LTS) / x86_64 | OK | OK | OK | |||||||||
| tokay2 | Windows Server 2012 R2 Standard / x64 | OK | OK | OK | OK | |||||||||
| machv2 | macOS 10.14.6 Mojave / x86_64 | OK | OK | OK | OK | |||||||||
| Package: ComPrAn | 
| Version: 1.2.0 | 
| Command: /home/biocbuild/bbs-3.14-bioc/R/bin/R CMD check --install=check:ComPrAn.install-out.txt --library=/home/biocbuild/bbs-3.14-bioc/R/library --no-vignettes --timings ComPrAn_1.2.0.tar.gz | 
| StartedAt: 2022-04-12 06:56:04 -0400 (Tue, 12 Apr 2022) | 
| EndedAt: 2022-04-12 06:57:01 -0400 (Tue, 12 Apr 2022) | 
| EllapsedTime: 56.7 seconds | 
| RetCode: 0 | 
| Status: OK | 
| CheckDir: ComPrAn.Rcheck | 
| Warnings: 0 | 
##############################################################################
##############################################################################
###
### Running command:
###
###   /home/biocbuild/bbs-3.14-bioc/R/bin/R CMD check --install=check:ComPrAn.install-out.txt --library=/home/biocbuild/bbs-3.14-bioc/R/library --no-vignettes --timings ComPrAn_1.2.0.tar.gz
###
##############################################################################
##############################################################################
* using log directory ‘/home/biocbuild/bbs-3.14-bioc/meat/ComPrAn.Rcheck’
* using R version 4.1.3 (2022-03-10)
* using platform: x86_64-pc-linux-gnu (64-bit)
* using session charset: UTF-8
* using option ‘--no-vignettes’
* checking for file ‘ComPrAn/DESCRIPTION’ ... OK
* checking extension type ... Package
* this is package ‘ComPrAn’ version ‘1.2.0’
* package encoding: UTF-8
* checking package namespace information ... OK
* checking package dependencies ... OK
* checking if this is a source package ... OK
* checking if there is a namespace ... OK
* checking for hidden files and directories ... OK
* checking for portable file names ... OK
* checking for sufficient/correct file permissions ... OK
* checking whether package ‘ComPrAn’ can be installed ... OK
* checking installed package size ... NOTE
  installed size is  5.1Mb
  sub-directories of 1Mb or more:
    extData   4.8Mb
* checking package directory ... OK
* checking ‘build’ directory ... OK
* checking DESCRIPTION meta-information ... OK
* checking top-level files ... OK
* checking for left-over files ... OK
* checking index information ... OK
* checking package subdirectories ... OK
* checking R files for non-ASCII characters ... OK
* checking R files for syntax errors ... OK
* checking whether the package can be loaded ... OK
* checking whether the package can be loaded with stated dependencies ... OK
* checking whether the package can be unloaded cleanly ... OK
* checking whether the namespace can be loaded with stated dependencies ... OK
* checking whether the namespace can be unloaded cleanly ... OK
* checking dependencies in R code ... OK
* checking S3 generic/method consistency ... OK
* checking replacement functions ... OK
* checking foreign function calls ... OK
* checking R code for possible problems ... OK
* checking Rd files ... OK
* checking Rd metadata ... OK
* checking Rd cross-references ... OK
* checking for missing documentation entries ... OK
* checking for code/documentation mismatches ... OK
* checking Rd \usage sections ... OK
* checking Rd contents ... OK
* checking for unstated dependencies in examples ... OK
* checking files in ‘vignettes’ ... OK
* checking examples ... OK
Examples with CPU (user + system) or elapsed time > 5s
              user system elapsed
getNormTable 6.865  0.047   6.882
* checking for unstated dependencies in ‘tests’ ... OK
* checking tests ...
  Running ‘testthat.R’
 OK
* checking for unstated dependencies in vignettes ... OK
* checking package vignettes in ‘inst/doc’ ... OK
* checking running R code from vignettes ... SKIPPED
* checking re-building of vignette outputs ... SKIPPED
* checking PDF version of manual ... OK
* DONE
Status: 1 NOTE
See
  ‘/home/biocbuild/bbs-3.14-bioc/meat/ComPrAn.Rcheck/00check.log’
for details.
ComPrAn.Rcheck/00install.out
############################################################################## ############################################################################## ### ### Running command: ### ### /home/biocbuild/bbs-3.14-bioc/R/bin/R CMD INSTALL ComPrAn ### ############################################################################## ############################################################################## * installing to library ‘/home/biocbuild/bbs-3.14-bioc/R/library’ * installing *source* package ‘ComPrAn’ ... ** using staged installation ** R ** inst ** byte-compile and prepare package for lazy loading ** help *** installing help indices ** building package indices ** installing vignettes ** testing if installed package can be loaded from temporary location ** testing if installed package can be loaded from final location ** testing if installed package keeps a record of temporary installation path * DONE (ComPrAn)
ComPrAn.Rcheck/tests/testthat.Rout
R version 4.1.3 (2022-03-10) -- "One Push-Up"
Copyright (C) 2022 The R Foundation for Statistical Computing
Platform: x86_64-pc-linux-gnu (64-bit)
R is free software and comes with ABSOLUTELY NO WARRANTY.
You are welcome to redistribute it under certain conditions.
Type 'license()' or 'licence()' for distribution details.
R is a collaborative project with many contributors.
Type 'contributors()' for more information and
'citation()' on how to cite R or R packages in publications.
Type 'demo()' for some demos, 'help()' for on-line help, or
'help.start()' for an HTML browser interface to help.
Type 'q()' to quit R.
> library(testthat)
> library(ComPrAn)
> 
> test_check("ComPrAn")
[ FAIL 0 | WARN 0 | SKIP 0 | PASS 1 ]
> 
> proc.time()
   user  system elapsed 
  1.465   0.104   1.553 
ComPrAn.Rcheck/ComPrAn-Ex.timings
| name | user | system | elapsed | |
| allPeptidesPlot | 3.029 | 0.055 | 3.063 | |
| assignClusters | 0.07 | 0.00 | 0.07 | |
| cleanData | 0.116 | 0.008 | 0.092 | |
| clusterComp | 0.056 | 0.000 | 0.055 | |
| compranApp | 0 | 0 | 0 | |
| exportClusterAssignments | 0.07 | 0.00 | 0.07 | |
| getNormTable | 6.865 | 0.047 | 6.882 | |
| groupHeatMap | 0.326 | 0.001 | 0.327 | |
| makeBarPlotClusterSummary | 0.35 | 0.00 | 0.35 | |
| oneGroupTwoLabelsCoMigration | 0.196 | 0.000 | 0.196 | |
| onlyInOneLabelState | 1.517 | 0.036 | 1.523 | |
| peptideImport | 0.054 | 0.000 | 0.032 | |
| pickPeptide | 1.548 | 0.004 | 1.516 | |
| protImportForAnalysis | 0.023 | 0.000 | 0.022 | |
| proteinPlot | 0.232 | 0.000 | 0.232 | |
| simplifyProteins | 1.560 | 0.000 | 1.532 | |
| splitModLab | 1.009 | 0.004 | 0.985 | |
| toFilter | 0.127 | 0.008 | 0.107 | |
| twoGroupsWithinLabelCoMigration | 0.309 | 0.024 | 0.333 | |